PDS_VERSION_ID = PDS3
/* FILE DATA ELEMENTS */
RECORD_TYPE = UNDEFINED
/* POINTERS TO DATA OBJECTS */
^IMAGE = ("HG837_0000_S24.TIF")
/* IDENTIFICATION DATA ELEMENTS */
DATA_SET_ID = "MEX-M-HRSC-4-REFDR-MAPPROJECT-EXT6-V4.0"
DATA_SET_NAME = "MARS EXPRESS HRSC MAP PROJECTED REFDR EXTENSION6 V4.0"
DETECTOR_ID = MEX_HRSC_S2
EVENT_TYPE = "MARS-REGIONAL-MAPPING-Im-Fl-Gl"
INSTRUMENT_HOST_ID = MEX
INSTRUMENT_HOST_NAME = "MARS EXPRESS"
INSTRUMENT_ID = HRSC
INSTRUMENT_NAME = "HIGH RESOLUTION STEREO CAMERA"
MISSION_NAME = "MARS EXPRESS"
MISSION_PHASE_NAME = ME_Phase_36
PROCESSING_LEVEL_ID = 4
PRODUCT_CREATION_TIME = 2023-01-26T14:39:22.000Z
PRODUCT_ID = "HG837_0000_S24.TIF"
RELEASE_ID = 0001
REVISION_ID = 0000
/* QUALITY DATA ELEMENTS */
DATA_QUALITY_ID = 1
DATA_QUALITY_DESC = "Data calculated based on original SPICE kernels"
/* TIME DATA ELEMENTS */
SPACECRAFT_CLOCK_START_COUNT = "1/0440577382.09055"
SPACECRAFT_CLOCK_STOP_COUNT = "1/0440577602.64836"
START_TIME = 2017-04-18T06:36:30.284Z
STOP_TIME = 2017-04-18T06:39:09.373Z
/* ORBITAL DATA ELEMENTS */
ASCENDING_NODE_LONGITUDE = 257.69
MAXIMUM_RESOLUTION = 0.0282
FOOTPRINT_POINT_LATITUDE = (-47.6277,-47.6275,-47.6245,-47.6181, -47.6125,-47.6121,-47.5173,-47.3061, -46.9885,-46.6865,-46.4814,-46.2767, -46.0726,-45.8651,-45.556,-45.3499, -45.0439,-44.8364,-44.6299,-44.4233, -44.1134,-43.9069,-43.701,-43.4936, -43.2868,-43.0797,-42.8729,-42.6626, -42.4586,-42.2503,-41.938,-41.7295, -41.5221,-41.3138,-41.0013,-40.7936, -40.3906,-40.1879,-39.7798,-39.3804, -39.1721,-38.963,-38.7532,-38.5436, -38.3346,-38.1242,-37.9143,-37.5994, -37.2852,-37.1802,-37.1627,-37.1644, -37.1653,-37.1624,-37.1593,-37.1591, -37.1594,-37.369,-37.6834,-37.9992, -38.3148,-38.6279,-38.8346,-39.1529, -39.364,-39.567,-39.8705,-40.2743, -40.7798,-40.9879,-41.1968,-41.4063, -41.6146,-41.9268,-42.136,-42.3433, -42.6549,-42.8627,-43.0706,-43.2784, -43.5899,-43.797,-44.0045,-44.3151, -44.5222,-44.8324,-45.0393,-45.2454, -45.4522,-45.6581,-45.8645,-46.0699, -46.2763,-46.4816,-46.6874,-46.9954, -47.2029,-47.4215,-47.5295,-47.6277)
FOOTPRINT_POINT_LONGITUDE = (92.809,92.5065,91.972,91.4425,91.1131, 91.0967,91.0783,91.0931,91.1139,91.1351 ,91.1485,91.1617,91.1747,91.1871, 91.2056,91.2177,91.2359,91.2472,91.2586 ,91.2697,91.286,91.2967,91.3072,91.3174 ,91.3275,91.3373,91.347,91.3561,91.3659 ,91.3748,91.388,91.3965,91.4051,91.4133 ,91.4253,91.4332,91.4478,91.4547, 91.4678,91.4815,91.4881,91.4944,91.5006 ,91.5066,91.5126,91.5182,91.5237, 91.5318,91.5396,91.5421,91.5425,91.8954 ,92.1648,92.6362,92.9955,93.0099, 93.0151,93.0138,93.0117,93.0086,93.0055 ,93.0036,93.0035,92.9982,92.9952,92.993 ,92.9899,92.986,92.9802,92.9775,92.975, 92.972,92.9696,92.966,92.9627,92.9605, 92.9567,92.9539,92.9509,92.9479,92.9432 ,92.9403,92.937,92.9322,92.9288,92.9237 ,92.92,92.9168,92.9129,92.9094,92.9055, 92.9021,92.8978,92.8942,92.8899,92.8838 ,92.8794,92.8703,92.8665,92.809)
ORBIT_NUMBER = 16837
ORBITAL_ECCENTRICITY = 0.579
ORBITAL_INCLINATION = 86.95
ORBITAL_SEMIMAJOR_AXIS = 8816.48
PERIAPSIS_ALTITUDE = 327.84
PERIAPSIS_ARGUMENT_ANGLE = 316.96
PERIAPSIS_TIME = 2017-04-18T06:38:11.000Z
SPACECRAFT_ORIENTATION = (0.0,1.0,0.0)
^MEX_ORIENTATION_DESC = "MEX_ORIENTATION_DESC.TXT"
SPACECRAFT_POINTING_MODE = ACROSSTRACK
^MEX_POINTING_DESC = "MEX_POINTING_DESC.TXT"
RIGHT_ASCENSION = -1e+32
DECLINATION = -1e+32
OFFSET_ANGLE = -0.3
SPACECRAFT_SOLAR_DISTANCE = 2.29731e+08
TARGET_NAME = MARS
/* CAMERA DATA ELEMENTS */
DETECTOR_TEMPERATURE = 19.5939
FOCAL_PLANE_TEMPERATURE = 10.0106
INST_CMPRS_NAME = "DISCRETE COSINE TRANSFORMATION (DCT)"
INST_CMPRS_RATIO = 12.7813
INST_CMPRS_QUALITY = 0
INST_CMPRS_QUANTZ_TBL_ID = 0
INSTRUMENT_TEMPERATURE = 12.0496
LENS_TEMPERATURE = 9.6028
MACROPIXEL_SIZE = 2
MISSING_FRAMES = 0
PIXEL_SUBSAMPLING_FLAG = N
SIGNAL_CHAIN_ID = 1
/* RADIOMETRIC DATA ELEMENTS */
BANDWIDTH = 178.0
CENTER_FILTER_WAVELENGTH = 679.0
RADIANCE_OFFSET = 4.51555
RADIANCE_SCALING_FACTOR = 0.0100917
REFLECTANCE_SCALING_FACTOR = 0.000282054
MEX:REFLECTANCE_OFFSET = 0.126206
/* IMAGE OBJECT DEFINITIONS */
OBJECT = IMAGE
  INTERCHANGE_FORMAT = BINARY
  LINES = 24632
  LINE_SAMPLES = 3372
  SAMPLE_TYPE = UNSIGNED_INTEGER
  SAMPLE_BITS = 8
  BANDS = 1
  BAND_STORAGE_TYPE = BAND_SEQUENTIAL
  MAXIMUM = 255
  MEAN = 131.221
  MINIMUM = 1
  STANDARD_DEVIATION = 32.9419
END_OBJECT = IMAGE
/* MAP OBJECT DEFINITIONS */
OBJECT = IMAGE_MAP_PROJECTION
  ^DATA_SET_MAP_PROJECTION_CATALOG= "DSMAP.CAT"
  A_AXIS_RADIUS = 3396.0
  B_AXIS_RADIUS = 3396.0
  C_AXIS_RADIUS = 3396.0
  CENTER_LATITUDE = 0.0
  CENTER_LONGITUDE = 92.0
  COORDINATE_SYSTEM_NAME = PLANETOGRAPHIC
  COORDINATE_SYSTEM_TYPE = "BODY-FIXED ROTATING"
  EASTERNMOST_LONGITUDE = 93.0151
  FIRST_STANDARD_PARALLEL = "N/A"
  LINE_FIRST_PIXEL = 1
  LINE_LAST_PIXEL = 24632
  LINE_PROJECTION_OFFSET = -88131.25
  MAP_PROJECTION_ROTATION = 0.0
  MAP_PROJECTION_TYPE = SINUSOIDAL
  MAP_RESOLUTION = 2370.85521546667
  MAP_SCALE = 0.025
  MAXIMUM_LATITUDE = -37.1591
  MINIMUM_LATITUDE = -47.6277
  POSITIVE_LONGITUDE_DIRECTION = EAST
  REFERENCE_LATITUDE = "N/A"
  REFERENCE_LONGITUDE = "N/A"
  SAMPLE_FIRST_PIXEL = 1
  SAMPLE_LAST_PIXEL = 3372
  SAMPLE_PROJECTION_OFFSET = 1455.75
  SECOND_STANDARD_PARALLEL = "N/A"
  WESTERNMOST_LONGITUDE = 91.0783
END_OBJECT = IMAGE_MAP_PROJECTION
END
