PDS_VERSION_ID = PDS3
/* FILE DATA ELEMENTS */
RECORD_TYPE = UNDEFINED
/* POINTERS TO DATA OBJECTS */
^IMAGE = ("HG844_0001_S14.TIF")
/* IDENTIFICATION DATA ELEMENTS */
DATA_SET_ID = "MEX-M-HRSC-4-REFDR-MAPPROJECT-EXT6-V4.0"
DATA_SET_NAME = "MARS EXPRESS HRSC MAP PROJECTED REFDR EXTENSION6 V4.0"
DETECTOR_ID = MEX_HRSC_S1
EVENT_TYPE = "MARS-REGIONAL-MAPPING-Im-Fl-Gl"
INSTRUMENT_HOST_ID = MEX
INSTRUMENT_HOST_NAME = "MARS EXPRESS"
INSTRUMENT_ID = HRSC
INSTRUMENT_NAME = "HIGH RESOLUTION STEREO CAMERA"
MISSION_NAME = "MARS EXPRESS"
MISSION_PHASE_NAME = ME_Phase_36
PROCESSING_LEVEL_ID = 4
PRODUCT_CREATION_TIME = 2023-01-26T14:39:22.000Z
PRODUCT_ID = "HG844_0001_S14.TIF"
RELEASE_ID = 0001
REVISION_ID = 0000
/* QUALITY DATA ELEMENTS */
DATA_QUALITY_ID = 1
DATA_QUALITY_DESC = "Data calculated based on original SPICE kernels"
/* TIME DATA ELEMENTS */
SPACECRAFT_CLOCK_START_COUNT = "1/0440753804.58536"
SPACECRAFT_CLOCK_STOP_COUNT = "1/0440754050.58535"
START_TIME = 2017-04-20T07:37:51.987Z
STOP_TIME = 2017-04-20T07:38:57.318Z
/* ORBITAL DATA ELEMENTS */
ASCENDING_NODE_LONGITUDE = 257.56
MAXIMUM_RESOLUTION = 0.0285
FOOTPRINT_POINT_LATITUDE = (-40.1234,-40.1212,-40.1196,-40.1165, -40.1148,-40.1115,-40.1096,-40.1076, -40.1043,-40.1007,-40.1005,-40.1674, -39.9613,-39.7965,-39.6313,-39.4655, -39.3004,-39.1356,-38.971,-38.8074, -38.6516,-38.4888,-38.3659,-38.2006, -38.0701,-37.9844,-37.8569,-37.772, -37.6871,-37.6019,-37.5168,-37.4318, -37.3462,-37.2607,-37.1758,-37.0916, -37.0074,-36.9229,-36.8385,-36.7539, -36.6676,-36.5802,-36.4959,-36.4116, -36.2489,-36.1657,-36.0397,-35.9979, -35.9784,-35.9806,-35.9824,-35.9835, -35.9842,-35.9896,-35.993,-35.9945, -35.9949,-35.9927,-35.9928,-35.9932, -35.9937,-36.0779,-36.1623,-36.2466, -36.3308,-36.415,-36.4993,-36.5835, -36.6675,-36.7513,-36.8355,-36.9203, -37.0051,-37.0899,-37.2539,-37.3378, -37.4248,-37.512,-37.5978,-37.6828, -37.7675,-37.8527,-37.9382,-38.0246, -38.1904,-38.3535,-38.6,-38.8051, -38.9663,-39.1264,-39.2098,-39.2945, -39.38,-39.4648,-39.6317,-39.7947, -39.9591,-40.1246,-40.1659,-40.1234)
FOOTPRINT_POINT_LONGITUDE = (96.3867,96.199,96.0691,95.8526,95.7371 ,95.5207,95.4054,95.29,95.1023,94.9146, 94.9002,94.8658,94.873,94.8786,94.8844, 94.8903,94.8959,94.9012,94.9064,94.9111 ,94.9125,94.9167,94.9202,94.9255, 94.9321,94.9354,94.9391,94.9415,94.9439 ,94.9464,94.9488,94.9512,94.9538, 94.9564,94.9587,94.9607,94.9627,94.9648 ,94.9668,94.9689,94.9717,94.9749, 94.9769,94.9788,94.9802,94.9817,94.9843 ,94.9851,94.9856,95.1166,95.263,95.3948 ,95.5702,95.76,95.8773,95.9799,96.1847, 96.3157,96.4761,96.4908,96.4961,96.4946 ,96.4932,96.4917,96.4901,96.4885,96.487 ,96.4854,96.4837,96.4818,96.4802, 96.4787,96.4772,96.4757,96.4705,96.4686 ,96.4678,96.4671,96.4659,96.4643, 96.4626,96.461,96.4596,96.4585,96.4554, 96.4516,96.4463,96.4417,96.4368,96.4314 ,96.43,96.429,96.4283,96.4274,96.4243, 96.4197,96.4156,96.4118,96.4108, 96.3867)
ORBIT_NUMBER = 16844
ORBITAL_ECCENTRICITY = 0.579
ORBITAL_INCLINATION = 86.95
ORBITAL_SEMIMAJOR_AXIS = 8814.48
PERIAPSIS_ALTITUDE = 327.79
PERIAPSIS_ARGUMENT_ANGLE = 315.77
PERIAPSIS_TIME = 2017-04-20T07:36:22.000Z
SPACECRAFT_ORIENTATION = (0.0,1.0,0.0)
^MEX_ORIENTATION_DESC = "MEX_ORIENTATION_DESC.TXT"
SPACECRAFT_POINTING_MODE = NADIR
^MEX_POINTING_DESC = "MEX_POINTING_DESC.TXT"
RIGHT_ASCENSION = -1e+32
DECLINATION = -1e+32
OFFSET_ANGLE = -1e+32
SPACECRAFT_SOLAR_DISTANCE = 2.30124e+08
TARGET_NAME = MARS
/* CAMERA DATA ELEMENTS */
DETECTOR_TEMPERATURE = 0.0
FOCAL_PLANE_TEMPERATURE = 0.0
INST_CMPRS_NAME = "DISCRETE COSINE TRANSFORMATION (DCT)"
INST_CMPRS_RATIO = 9.50824
INST_CMPRS_QUALITY = 0
INST_CMPRS_QUANTZ_TBL_ID = 0
INSTRUMENT_TEMPERATURE = 0.0
LENS_TEMPERATURE = 0.0
MACROPIXEL_SIZE = 2
MISSING_FRAMES = 0
PIXEL_SUBSAMPLING_FLAG = N
SIGNAL_CHAIN_ID = 1
/* RADIOMETRIC DATA ELEMENTS */
BANDWIDTH = 180.0
CENTER_FILTER_WAVELENGTH = 677.0
RADIANCE_OFFSET = 4.71296
RADIANCE_SCALING_FACTOR = 0.0116438
REFLECTANCE_SCALING_FACTOR = 0.000321705
MEX:REFLECTANCE_OFFSET = 0.130214
/* IMAGE OBJECT DEFINITIONS */
OBJECT = IMAGE
  INTERCHANGE_FORMAT = BINARY
  LINES = 14807
  LINE_SAMPLES = 3034
  SAMPLE_TYPE = UNSIGNED_INTEGER
  SAMPLE_BITS = 8
  BANDS = 1
  BAND_STORAGE_TYPE = BAND_SEQUENTIAL
  MAXIMUM = 255
  MEAN = 122.074
  MINIMUM = 1
  STANDARD_DEVIATION = 26.5968
END_OBJECT = IMAGE
/* MAP OBJECT DEFINITIONS */
OBJECT = IMAGE_MAP_PROJECTION
  ^DATA_SET_MAP_PROJECTION_CATALOG= "DSMAP.CAT"
  A_AXIS_RADIUS = 3396.0
  B_AXIS_RADIUS = 3396.0
  C_AXIS_RADIUS = 3396.0
  CENTER_LATITUDE = 0.0
  CENTER_LONGITUDE = 96.0
  COORDINATE_SYSTEM_NAME = PLANETOGRAPHIC
  COORDINATE_SYSTEM_TYPE = "BODY-FIXED ROTATING"
  EASTERNMOST_LONGITUDE = 96.4961
  FIRST_STANDARD_PARALLEL = "N/A"
  LINE_FIRST_PIXEL = 1
  LINE_LAST_PIXEL = 14807
  LINE_PROJECTION_OFFSET = -80462.25
  MAP_PROJECTION_ROTATION = 0.0
  MAP_PROJECTION_TYPE = SINUSOIDAL
  MAP_RESOLUTION = 2370.85521546667
  MAP_SCALE = 0.025
  MAXIMUM_LATITUDE = -35.9784
  MINIMUM_LATITUDE = -40.1674
  POSITIVE_LONGITUDE_DIRECTION = EAST
  REFERENCE_LATITUDE = "N/A"
  REFERENCE_LONGITUDE = "N/A"
  SAMPLE_FIRST_PIXEL = 1
  SAMPLE_LAST_PIXEL = 3034
  SAMPLE_PROJECTION_OFFSET = 2040.75
  SECOND_STANDARD_PARALLEL = "N/A"
  WESTERNMOST_LONGITUDE = 94.86579999999999
END_OBJECT = IMAGE_MAP_PROJECTION
END
