PDS_VERSION_ID = PDS3
/* FILE DATA ELEMENTS */
RECORD_TYPE = UNDEFINED
/* POINTERS TO DATA OBJECTS */
^IMAGE = ("HG844_0001_S24.TIF")
/* IDENTIFICATION DATA ELEMENTS */
DATA_SET_ID = "MEX-M-HRSC-4-REFDR-MAPPROJECT-EXT6-V4.0"
DATA_SET_NAME = "MARS EXPRESS HRSC MAP PROJECTED REFDR EXTENSION6 V4.0"
DETECTOR_ID = MEX_HRSC_S2
EVENT_TYPE = "MARS-REGIONAL-MAPPING-Im-Fl-Gl"
INSTRUMENT_HOST_ID = MEX
INSTRUMENT_HOST_NAME = "MARS EXPRESS"
INSTRUMENT_ID = HRSC
INSTRUMENT_NAME = "HIGH RESOLUTION STEREO CAMERA"
MISSION_NAME = "MARS EXPRESS"
MISSION_PHASE_NAME = ME_Phase_36
PROCESSING_LEVEL_ID = 4
PRODUCT_CREATION_TIME = 2023-01-26T14:39:22.000Z
PRODUCT_ID = "HG844_0001_S24.TIF"
RELEASE_ID = 0001
REVISION_ID = 0000
/* QUALITY DATA ELEMENTS */
DATA_QUALITY_ID = 1
DATA_QUALITY_DESC = "Data calculated based on original SPICE kernels"
/* TIME DATA ELEMENTS */
SPACECRAFT_CLOCK_START_COUNT = "1/0440753804.58536"
SPACECRAFT_CLOCK_STOP_COUNT = "1/0440754050.58535"
START_TIME = 2017-04-20T07:36:53.000Z
STOP_TIME = 2017-04-20T07:38:57.318Z
/* ORBITAL DATA ELEMENTS */
ASCENDING_NODE_LONGITUDE = 257.56
MAXIMUM_RESOLUTION = 0.0279
FOOTPRINT_POINT_LATITUDE = (-40.2381,-40.2341,-40.2305,-40.2226, -40.2172,-40.2099,-40.2095,-40.1377, -39.9021,-39.5882,-39.2646,-39.1018, -38.8579,-38.6911,-38.5216,-38.3573, -38.1959,-37.8809,-37.7185,-37.5567, -37.3147,-37.1525,-36.989,-36.6688, -36.4222,-36.2558,-36.0903,-35.9268, -35.6818,-35.5184,-35.2727,-35.1088, -34.8635,-34.6997,-34.536,-34.3714, -34.2062,-34.0419,-33.8715,-33.6982, -33.5285,-33.3614,-33.1971,-33.0275, -32.8581,-32.6881,-32.4332,-32.1786, -32.0103,-31.9263,-31.9219,-31.9266, -31.9329,-31.9355,-31.9365,-31.9349, -31.9347,-31.9352,-32.1036,-32.3602, -32.5338,-32.7034,-32.8736,-33.0429, -33.2124,-33.3825,-33.637,-33.8069, -33.9755,-34.2247,-34.3885,-34.6346, -34.8803,-35.044,-35.208,-35.3718, -35.5362,-35.7826,-36.0287,-36.1916, -36.3553,-36.5186,-36.6827,-36.847, -37.0098,-37.2587,-37.4243,-37.7445, -37.9074,-38.23,-38.3944,-38.5579, -38.7218,-38.888,-39.1379,-39.4556, -39.7757,-40.0924,-40.1709,-40.2381)
FOOTPRINT_POINT_LONGITUDE = (96.3708,96.0436,95.8159,95.4178, 95.1904,94.9199,94.9056,94.8768,94.886, 94.8981,94.9103,94.9161,94.9246,94.9289 ,94.9321,94.937,94.9427,94.9566,94.9618 ,94.9671,94.9752,94.9801,94.9846, 94.9954,95.0013,95.0044,95.0077,95.0116 ,95.0174,95.0212,95.0265,95.0298,95.035 ,95.0382,95.0414,95.0442,95.0467, 95.0495,95.0521,95.0536,95.0563,95.0597 ,95.0639,95.0663,95.0687,95.0709,95.074 ,95.077,95.0793,95.0805,95.0806,95.3591 ,95.7491,95.986,96.1812,96.5027,96.5167 ,96.5217,96.5202,96.5166,96.5132, 96.5112,96.509,96.507,96.505,96.5027, 96.4995,96.4972,96.4953,96.4921,96.49, 96.4867,96.4834,96.4812,96.4789,96.4766 ,96.4741,96.4703,96.4665,96.4644,96.462 ,96.4596,96.457,96.4542,96.4519,96.4466 ,96.4432,96.4404,96.4379,96.434,96.4307 ,96.4277,96.4246,96.4205,96.4139, 96.4113,96.4052,96.3984,96.3969, 96.3708)
ORBIT_NUMBER = 16844
ORBITAL_ECCENTRICITY = 0.579
ORBITAL_INCLINATION = 86.95
ORBITAL_SEMIMAJOR_AXIS = 8814.48
PERIAPSIS_ALTITUDE = 327.79
PERIAPSIS_ARGUMENT_ANGLE = 315.77
PERIAPSIS_TIME = 2017-04-20T07:36:22.000Z
SPACECRAFT_ORIENTATION = (0.0,1.0,0.0)
^MEX_ORIENTATION_DESC = "MEX_ORIENTATION_DESC.TXT"
SPACECRAFT_POINTING_MODE = NADIR
^MEX_POINTING_DESC = "MEX_POINTING_DESC.TXT"
RIGHT_ASCENSION = -1e+32
DECLINATION = -1e+32
OFFSET_ANGLE = -1e+32
SPACECRAFT_SOLAR_DISTANCE = 2.30124e+08
TARGET_NAME = MARS
/* CAMERA DATA ELEMENTS */
DETECTOR_TEMPERATURE = 0.0
FOCAL_PLANE_TEMPERATURE = 0.0
INST_CMPRS_NAME = "DISCRETE COSINE TRANSFORMATION (DCT)"
INST_CMPRS_RATIO = 10.8738
INST_CMPRS_QUALITY = 0
INST_CMPRS_QUANTZ_TBL_ID = 0
INSTRUMENT_TEMPERATURE = 0.0
LENS_TEMPERATURE = 0.0
MACROPIXEL_SIZE = 2
MISSING_FRAMES = 0
PIXEL_SUBSAMPLING_FLAG = N
SIGNAL_CHAIN_ID = 1
/* RADIOMETRIC DATA ELEMENTS */
BANDWIDTH = 178.0
CENTER_FILTER_WAVELENGTH = 679.0
RADIANCE_OFFSET = 4.27331
RADIANCE_SCALING_FACTOR = 0.0123781
REFLECTANCE_SCALING_FACTOR = 0.000347143
MEX:REFLECTANCE_OFFSET = 0.119845
/* IMAGE OBJECT DEFINITIONS */
OBJECT = IMAGE
  INTERCHANGE_FORMAT = BINARY
  LINES = 14807
  LINE_SAMPLES = 3034
  SAMPLE_TYPE = UNSIGNED_INTEGER
  SAMPLE_BITS = 8
  BANDS = 1
  BAND_STORAGE_TYPE = BAND_SEQUENTIAL
  MAXIMUM = 255
  MEAN = 134.78
  MINIMUM = 17
  STANDARD_DEVIATION = 21.2274
END_OBJECT = IMAGE
/* MAP OBJECT DEFINITIONS */
OBJECT = IMAGE_MAP_PROJECTION
  ^DATA_SET_MAP_PROJECTION_CATALOG= "DSMAP.CAT"
  A_AXIS_RADIUS = 3396.0
  B_AXIS_RADIUS = 3396.0
  C_AXIS_RADIUS = 3396.0
  CENTER_LATITUDE = 0.0
  CENTER_LONGITUDE = 96.0
  COORDINATE_SYSTEM_NAME = PLANETOGRAPHIC
  COORDINATE_SYSTEM_TYPE = "BODY-FIXED ROTATING"
  EASTERNMOST_LONGITUDE = 96.5217
  FIRST_STANDARD_PARALLEL = "N/A"
  LINE_FIRST_PIXEL = 1
  LINE_LAST_PIXEL = 14807
  LINE_PROJECTION_OFFSET = -80462.25
  MAP_PROJECTION_ROTATION = 0.0
  MAP_PROJECTION_TYPE = SINUSOIDAL
  MAP_RESOLUTION = 2370.85521546667
  MAP_SCALE = 0.025
  MAXIMUM_LATITUDE = -31.9219
  MINIMUM_LATITUDE = -40.2381
  POSITIVE_LONGITUDE_DIRECTION = EAST
  REFERENCE_LATITUDE = "N/A"
  REFERENCE_LONGITUDE = "N/A"
  SAMPLE_FIRST_PIXEL = 1
  SAMPLE_LAST_PIXEL = 3034
  SAMPLE_PROJECTION_OFFSET = 2040.75
  SECOND_STANDARD_PARALLEL = "N/A"
  WESTERNMOST_LONGITUDE = 94.8768
END_OBJECT = IMAGE_MAP_PROJECTION
END
