PDS_VERSION_ID = PDS3
/* FILE DATA ELEMENTS */
RECORD_TYPE = UNDEFINED
/* POINTERS TO DATA OBJECTS */
^IMAGE = ("HG848_0000_IR4.TIF")
/* IDENTIFICATION DATA ELEMENTS */
DATA_SET_ID = "MEX-M-HRSC-4-REFDR-MAPPROJECT-EXT6-V4.0"
DATA_SET_NAME = "MARS EXPRESS HRSC MAP PROJECTED REFDR EXTENSION6 V4.0"
DETECTOR_ID = MEX_HRSC_IR
EVENT_TYPE = "MARS-REGIONAL-MAPPING-Im-Gl-Pf"
INSTRUMENT_HOST_ID = MEX
INSTRUMENT_HOST_NAME = "MARS EXPRESS"
INSTRUMENT_ID = HRSC
INSTRUMENT_NAME = "HIGH RESOLUTION STEREO CAMERA"
MISSION_NAME = "MARS EXPRESS"
MISSION_PHASE_NAME = ME_Phase_36
PROCESSING_LEVEL_ID = 4
PRODUCT_CREATION_TIME = 2023-01-26T14:39:22.000Z
PRODUCT_ID = "HG848_0000_IR4.TIF"
RELEASE_ID = 0001
REVISION_ID = 0000
/* QUALITY DATA ELEMENTS */
DATA_QUALITY_ID = 1
DATA_QUALITY_DESC = "Data calculated based on original SPICE kernels"
/* TIME DATA ELEMENTS */
SPACECRAFT_CLOCK_START_COUNT = "1/0440854401.07331"
SPACECRAFT_CLOCK_STOP_COUNT = "1/0440854633.05350"
START_TIME = 2017-04-21T11:34:24.534Z
STOP_TIME = 2017-04-21T11:37:13.901Z
/* ORBITAL DATA ELEMENTS */
ASCENDING_NODE_LONGITUDE = 257.49
MAXIMUM_RESOLUTION = 0.0549
FOOTPRINT_POINT_LATITUDE = (-49.9637,-49.9485,-49.9331,-49.9183, -49.9177,-49.9826,-49.6459,-49.4209, -49.1989,-48.9762,-48.6419,-48.4169, -48.195,-47.973,-47.7503,-47.5272, -47.3066,-47.083,-46.7541,-46.4215, -46.1998,-45.8678,-45.6448,-45.4209, -45.0895,-44.8674,-44.4289,-44.2044, -43.9841,-43.6536,-43.219,-42.9999, -42.7812,-42.5609,-42.3395,-42.0091, -41.7883,-41.3518,-41.1334,-40.9127, -40.6935,-40.4748,-40.2568,-39.9318, -39.4972,-39.2776,-39.0574,-38.9482, -38.9235,-38.9411,-38.9533,-38.9537, -38.9539,-38.9548,-39.2818,-39.5016, -39.8297,-40.0502,-40.2679,-40.4891, -40.7083,-40.9273,-41.147,-41.3662, -41.6954,-41.9157,-42.2452,-42.4651, -42.6853,-42.9062,-43.127,-43.3485, -43.5693,-43.7901,-44.0104,-44.2318, -44.453,-44.6736,-44.8937,-45.2174, -45.5467,-45.7747,-45.9974,-46.3318, -46.5539,-46.8854,-47.1066,-47.3244, -47.5478,-47.984,-48.2182,-48.4433, -48.6666,-49.0016,-49.2245,-49.4457, -49.6666,-49.8919,-50.0037,-49.9637)
FOOTPRINT_POINT_LONGITUDE = (46.8233,46.1568,45.5883,45.1008, 45.0846,45.0367,45.0685,45.0896,45.1084 ,45.1272,45.1551,45.1747,45.1919,45.209 ,45.2262,45.2433,45.2586,45.2755, 45.2963,45.3188,45.3335,45.3548,45.3696 ,45.3848,45.4045,45.418,45.4411,45.4554 ,45.4671,45.4842,45.5031,45.5132, 45.5231,45.5336,45.5445,45.5597,45.5699 ,45.5871,45.5956,45.6052,45.6138, 45.6221,45.6298,45.6402,45.6543,45.6623 ,45.6706,45.6742,45.6749,46.3139, 46.8157,47.1871,47.2015,47.2062,47.1991 ,47.195,47.1878,47.1837,47.1781,47.174, 47.1689,47.1635,47.1583,47.1527,47.1442 ,47.1388,47.1299,47.1239,47.1179, 47.1121,47.1061,47.1003,47.094,47.0876, 47.0807,47.0743,47.0676,47.0604,47.0529 ,47.0381,47.0257,47.0214,47.0143, 47.0037,46.996,46.9832,46.9746,46.9641, 46.9563,46.9348,46.932,46.9244,46.9158, 46.9025,46.8931,46.8828,46.8721,46.8636 ,46.8588,46.8233)
ORBIT_NUMBER = 16848
ORBITAL_ECCENTRICITY = 0.578
ORBITAL_INCLINATION = 86.95
ORBITAL_SEMIMAJOR_AXIS = 8812.48
PERIAPSIS_ALTITUDE = 328.57
PERIAPSIS_ARGUMENT_ANGLE = 315.12
PERIAPSIS_TIME = 2017-04-21T11:35:20.000Z
SPACECRAFT_ORIENTATION = (0.0,1.0,0.0)
^MEX_ORIENTATION_DESC = "MEX_ORIENTATION_DESC.TXT"
SPACECRAFT_POINTING_MODE = NADIR
^MEX_POINTING_DESC = "MEX_POINTING_DESC.TXT"
RIGHT_ASCENSION = -1e+32
DECLINATION = -1e+32
OFFSET_ANGLE = -1e+32
SPACECRAFT_SOLAR_DISTANCE = 2.30347e+08
TARGET_NAME = MARS
/* CAMERA DATA ELEMENTS */
DETECTOR_TEMPERATURE = 17.5549
FOCAL_PLANE_TEMPERATURE = 10.0106
INST_CMPRS_NAME = "DISCRETE COSINE TRANSFORMATION (DCT)"
INST_CMPRS_RATIO = 17.3693
INST_CMPRS_QUALITY = 0
INST_CMPRS_QUANTZ_TBL_ID = 0
INSTRUMENT_TEMPERATURE = 11.6418
LENS_TEMPERATURE = 11.6418
MACROPIXEL_SIZE = 4
MISSING_FRAMES = 0
PIXEL_SUBSAMPLING_FLAG = N
SIGNAL_CHAIN_ID = 2
/* RADIOMETRIC DATA ELEMENTS */
BANDWIDTH = 81.0
CENTER_FILTER_WAVELENGTH = 955.5
RADIANCE_OFFSET = 0.73308
RADIANCE_SCALING_FACTOR = 0.00416849
REFLECTANCE_SCALING_FACTOR = 0.000477169
MEX:REFLECTANCE_OFFSET = 0.083916
/* IMAGE OBJECT DEFINITIONS */
OBJECT = IMAGE
  INTERCHANGE_FORMAT = BINARY
  LINES = 13174
  LINE_SAMPLES = 1844
  SAMPLE_TYPE = UNSIGNED_INTEGER
  SAMPLE_BITS = 8
  BANDS = 1
  BAND_STORAGE_TYPE = BAND_SEQUENTIAL
  MAXIMUM = 255
  MEAN = 130.773
  MINIMUM = 1
  STANDARD_DEVIATION = 39.0502
END_OBJECT = IMAGE
/* MAP OBJECT DEFINITIONS */
OBJECT = IMAGE_MAP_PROJECTION
  ^DATA_SET_MAP_PROJECTION_CATALOG= "DSMAP.CAT"
  A_AXIS_RADIUS = 3396.0
  B_AXIS_RADIUS = 3396.0
  C_AXIS_RADIUS = 3396.0
  CENTER_LATITUDE = 0.0
  CENTER_LONGITUDE = 46.0
  COORDINATE_SYSTEM_NAME = PLANETOGRAPHIC
  COORDINATE_SYSTEM_TYPE = "BODY-FIXED ROTATING"
  EASTERNMOST_LONGITUDE = 47.2062
  FIRST_STANDARD_PARALLEL = "N/A"
  LINE_FIRST_PIXEL = 1
  LINE_LAST_PIXEL = 13174
  LINE_PROJECTION_OFFSET = -46132.125
  MAP_PROJECTION_ROTATION = 0.0
  MAP_PROJECTION_TYPE = SINUSOIDAL
  MAP_RESOLUTION = 1185.42760773333
  MAP_SCALE = 0.05
  MAXIMUM_LATITUDE = -38.9235
  MINIMUM_LATITUDE = -50.0037
  POSITIVE_LONGITUDE_DIRECTION = EAST
  REFERENCE_LATITUDE = "N/A"
  REFERENCE_LONGITUDE = "N/A"
  SAMPLE_FIRST_PIXEL = 1
  SAMPLE_LAST_PIXEL = 1844
  SAMPLE_PROJECTION_OFFSET = 745.125
  SECOND_STANDARD_PARALLEL = "N/A"
  WESTERNMOST_LONGITUDE = 45.0367
END_OBJECT = IMAGE_MAP_PROJECTION
END
