PDS_VERSION_ID = PDS3
/* FILE DATA ELEMENTS */
RECORD_TYPE = UNDEFINED
/* POINTERS TO DATA OBJECTS */
^IMAGE = ("HG855_0000_ND4.TIF")
/* IDENTIFICATION DATA ELEMENTS */
DATA_SET_ID = "MEX-M-HRSC-4-REFDR-MAPPROJECT-EXT6-V4.0"
DATA_SET_NAME = "MARS EXPRESS HRSC MAP PROJECTED REFDR EXTENSION6 V4.0"
DETECTOR_ID = MEX_HRSC_NADIR
EVENT_TYPE = "MARS-REGIONAL-MAPPING-Im-Gl-Eo"
INSTRUMENT_HOST_ID = MEX
INSTRUMENT_HOST_NAME = "MARS EXPRESS"
INSTRUMENT_ID = HRSC
INSTRUMENT_NAME = "HIGH RESOLUTION STEREO CAMERA"
MISSION_NAME = "MARS EXPRESS"
MISSION_PHASE_NAME = ME_Phase_36
PROCESSING_LEVEL_ID = 4
PRODUCT_CREATION_TIME = 2023-01-26T14:39:22.000Z
PRODUCT_ID = "HG855_0000_ND4.TIF"
RELEASE_ID = 0001
REVISION_ID = 0000
/* QUALITY DATA ELEMENTS */
DATA_QUALITY_ID = 1
DATA_QUALITY_DESC = "Data calculated based on original SPICE kernels"
/* TIME DATA ELEMENTS */
SPACECRAFT_CLOCK_START_COUNT = "1/0441030658.09039"
SPACECRAFT_CLOCK_STOP_COUNT = "1/0441030891.41885"
START_TIME = 2017-04-23T12:31:37.774Z
STOP_TIME = 2017-04-23T12:34:27.778Z
/* ORBITAL DATA ELEMENTS */
ASCENDING_NODE_LONGITUDE = 257.36
MAXIMUM_RESOLUTION = 0.0133
FOOTPRINT_POINT_LATITUDE = (-52.9858,-52.9666,-52.9441,-52.9146, -52.9138,-52.9084,-52.6813,-52.4541, -52.2267,-51.9993,-51.7718,-51.5475, -51.1067,-50.6656,-50.224,-49.7824, -49.3404,-48.8983,-48.6771,-48.4556, -48.2346,-48.0132,-47.6811,-47.4597, -47.2383,-47.0168,-46.7954,-46.574, -46.3523,-46.1307,-45.7984,-45.5768, -45.2444,-45.0231,-44.6905,-44.4688, -44.2472,-44.0256,-43.8039,-43.5823, -43.3608,-43.1394,-42.9178,-42.6962, -42.4747,-41.9211,-41.8104,-41.805, -41.8235,-41.8328,-41.8445,-41.8448, -41.8451,-42.067,-42.289,-42.6221, -42.8441,-43.0662,-43.2883,-43.5104, -43.7326,-43.9547,-44.1769,-44.3991, -44.7325,-44.9547,-45.1769,-45.5103, -45.7325,-45.9547,-46.1769,-46.3991, -46.7324,-47.0657,-47.2878,-47.5099, -47.8431,-48.0652,-48.2872,-48.5092, -48.7312,-48.9529,-49.1748,-49.3968, -49.6186,-49.8403,-50.062,-50.2837, -50.5053,-50.7268,-50.9483,-51.1697, -51.6123,-51.9516,-52.1801,-52.4085, -52.6367,-52.8649,-52.979,-52.9858)
FOOTPRINT_POINT_LONGITUDE = (49.7636,49.1667,48.563,47.8751,47.8559 ,47.7748,47.8051,47.8342,47.8636, 47.8926,47.9203,47.9486,48.0009,48.0514 ,48.097,48.1454,48.1901,48.2346,48.2552 ,48.2719,48.2975,48.3153,48.3431,48.363 ,48.3819,48.4002,48.4195,48.4391, 48.4555,48.471,48.4969,48.5136,48.5393, 48.5598,48.5798,48.5932,48.6095,48.6237 ,48.6371,48.6508,48.6652,48.6816, 48.6931,48.7052,48.7187,48.7499,48.7558 ,48.7561,49.3903,49.7658,50.3249, 50.3403,50.3479,50.3398,50.3317,50.3192 ,50.3108,50.3023,50.2935,50.2847, 50.2758,50.2668,50.2577,50.2484,50.2342 ,50.2246,50.2148,50.2,50.1899,50.1797, 50.1694,50.159,50.1431,50.1268,50.1157, 50.1046,50.0875,50.0757,50.0641,50.0519 ,50.0398,50.0284,50.0159,50.0025, 49.9897,49.9768,49.9636,49.9503,49.9368 ,49.9231,49.9093,49.8952,49.8665, 49.8439,49.8284,49.8127,49.7967,49.7804 ,49.7723,49.7636)
ORBIT_NUMBER = 16855
ORBITAL_ECCENTRICITY = 0.578
ORBITAL_INCLINATION = 86.95
ORBITAL_SEMIMAJOR_AXIS = 8810.12
PERIAPSIS_ALTITUDE = 328.35
PERIAPSIS_ARGUMENT_ANGLE = 313.92
PERIAPSIS_TIME = 2017-04-23T12:33:25.000Z
SPACECRAFT_ORIENTATION = (0.0,1.0,0.0)
^MEX_ORIENTATION_DESC = "MEX_ORIENTATION_DESC.TXT"
SPACECRAFT_POINTING_MODE = ACROSSTRACK
^MEX_POINTING_DESC = "MEX_POINTING_DESC.TXT"
RIGHT_ASCENSION = -1e+32
DECLINATION = -1e+32
OFFSET_ANGLE = 0.458
SPACECRAFT_SOLAR_DISTANCE = 2.30738e+08
TARGET_NAME = MARS
/* CAMERA DATA ELEMENTS */
DETECTOR_TEMPERATURE = 18.5744
FOCAL_PLANE_TEMPERATURE = 8.7872
INST_CMPRS_NAME = "DISCRETE COSINE TRANSFORMATION (DCT)"
INST_CMPRS_RATIO = 6.50684
INST_CMPRS_QUALITY = 0
INST_CMPRS_QUANTZ_TBL_ID = 0
INSTRUMENT_TEMPERATURE = 11.234
LENS_TEMPERATURE = 8.7872
MACROPIXEL_SIZE = 1
MISSING_FRAMES = 0
PIXEL_SUBSAMPLING_FLAG = N
SIGNAL_CHAIN_ID = 0
/* RADIOMETRIC DATA ELEMENTS */
BANDWIDTH = 177.0
CENTER_FILTER_WAVELENGTH = 677.5
RADIANCE_OFFSET = 4.39997
RADIANCE_SCALING_FACTOR = 0.0108079
REFLECTANCE_SCALING_FACTOR = 0.000305676
MEX:REFLECTANCE_OFFSET = 0.124443
/* IMAGE OBJECT DEFINITIONS */
OBJECT = IMAGE
  INTERCHANGE_FORMAT = BINARY
  LINES = 53010
  LINE_SAMPLES = 8266
  SAMPLE_TYPE = UNSIGNED_INTEGER
  SAMPLE_BITS = 8
  BANDS = 1
  BAND_STORAGE_TYPE = BAND_SEQUENTIAL
  MAXIMUM = 255
  MEAN = 124.324
  MINIMUM = 1
  STANDARD_DEVIATION = 33.8102
END_OBJECT = IMAGE
/* MAP OBJECT DEFINITIONS */
OBJECT = IMAGE_MAP_PROJECTION
  ^DATA_SET_MAP_PROJECTION_CATALOG= "DSMAP.CAT"
  A_AXIS_RADIUS = 3396.0
  B_AXIS_RADIUS = 3396.0
  C_AXIS_RADIUS = 3396.0
  CENTER_LATITUDE = 0.0
  CENTER_LONGITUDE = 49.0
  COORDINATE_SYSTEM_NAME = PLANETOGRAPHIC
  COORDINATE_SYSTEM_TYPE = "BODY-FIXED ROTATING"
  EASTERNMOST_LONGITUDE = 50.3479
  FIRST_STANDARD_PARALLEL = "N/A"
  LINE_FIRST_PIXEL = 1
  LINE_LAST_PIXEL = 53010
  LINE_PROJECTION_OFFSET = -198229.0
  MAP_PROJECTION_ROTATION = 0.0
  MAP_PROJECTION_TYPE = SINUSOIDAL
  MAP_RESOLUTION = 4741.71043093333
  MAP_SCALE = 0.0125
  MAXIMUM_LATITUDE = -41.805
  MINIMUM_LATITUDE = -52.9858
  POSITIVE_LONGITUDE_DIRECTION = EAST
  REFERENCE_LATITUDE = "N/A"
  REFERENCE_LONGITUDE = "N/A"
  SAMPLE_FIRST_PIXEL = 1
  SAMPLE_LAST_PIXEL = 8266
  SAMPLE_PROJECTION_OFFSET = 3503.0
  SECOND_STANDARD_PARALLEL = "N/A"
  WESTERNMOST_LONGITUDE = 47.7748
END_OBJECT = IMAGE_MAP_PROJECTION
END
