PDS_VERSION_ID = PDS3
/* FILE DATA ELEMENTS */
RECORD_TYPE = UNDEFINED
/* POINTERS TO DATA OBJECTS */
^IMAGE = ("HG856_0009_ND4.TIF")
/* IDENTIFICATION DATA ELEMENTS */
DATA_SET_ID = "MEX-M-HRSC-4-REFDR-MAPPROJECT-EXT6-V4.0"
DATA_SET_NAME = "MARS EXPRESS HRSC MAP PROJECTED REFDR EXTENSION6 V4.0"
DETECTOR_ID = MEX_HRSC_NADIR
EVENT_TYPE = "MARS-REGIONAL-STEREO-Im-Gl-Pf"
INSTRUMENT_HOST_ID = MEX
INSTRUMENT_HOST_NAME = "MARS EXPRESS"
INSTRUMENT_ID = HRSC
INSTRUMENT_NAME = "HIGH RESOLUTION STEREO CAMERA"
MISSION_NAME = "MARS EXPRESS"
MISSION_PHASE_NAME = ME_Phase_36
PROCESSING_LEVEL_ID = 4
PRODUCT_CREATION_TIME = 2023-01-26T14:39:22.000Z
PRODUCT_ID = "HG856_0009_ND4.TIF"
RELEASE_ID = 0001
REVISION_ID = 0000
/* QUALITY DATA ELEMENTS */
DATA_QUALITY_ID = 1
DATA_QUALITY_DESC = "Data calculated based on original SPICE kernels"
/* TIME DATA ELEMENTS */
SPACECRAFT_CLOCK_START_COUNT = "1/0441056028.08276"
SPACECRAFT_CLOCK_STOP_COUNT = "1/0441056187.09110"
START_TIME = 2017-04-23T19:34:25.645Z
STOP_TIME = 2017-04-23T19:36:00.640Z
/* ORBITAL DATA ELEMENTS */
ASCENDING_NODE_LONGITUDE = 257.34
MAXIMUM_RESOLUTION = 0.0132
FOOTPRINT_POINT_LATITUDE = (-41.14,-41.1332,-41.1295,-41.1264, -41.1213,-41.1131,-41.1128,-41.111, -40.9892,-40.8067,-40.5632,-40.3198, -40.0765,-39.7724,-39.5291,-39.2859, -38.982,-38.739,-38.4961,-38.3139, -38.1903,-38.0649,-37.9395,-37.8142, -37.6888,-37.5635,-37.4383,-37.313, -37.1878,-37.0626,-36.9375,-36.8124, -36.6873,-36.5622,-36.4373,-36.3122, -36.1246,-35.9997,-35.8749,-35.7501, -35.6252,-35.5004,-35.3757,-35.251, -35.1263,-35.0017,-34.9394,-34.9252, -34.9302,-34.9346,-34.9385,-34.9408, -34.9419,-34.942,-34.9423,-35.0671, -35.192,-35.3169,-35.4418,-35.5668, -35.6918,-35.8169,-35.9419,-36.067, -36.1922,-36.3173,-36.4426,-36.5678, -36.6931,-36.8184,-36.9437,-37.0691, -37.1945,-37.3199,-37.4454,-37.5709, -37.6964,-37.8219,-37.9475,-38.0731, -38.1987,-38.3839,-38.6272,-38.9313, -39.1747,-39.4792,-39.601,-39.7229, -39.8448,-39.9666,-40.1495,-40.3324, -40.4544,-40.5764,-40.6984,-40.8204, -40.9425,-41.0645,-41.1256,-41.14)
FOOTPRINT_POINT_LONGITUDE = (308.672,308.184,307.962,307.799, 307.548,307.193,307.179,307.151,307.156 ,307.166,307.175,307.186,307.196, 307.208,307.215,307.223,307.231,307.238 ,307.245,307.25,307.253,307.257,307.26, 307.264,307.267,307.27,307.273,307.276, 307.279,307.282,307.285,307.288,307.291 ,307.294,307.297,307.299,307.301, 307.304,307.307,307.309,307.312,307.314 ,307.316,307.318,307.32,307.323,307.324 ,307.324,307.633,307.956,308.324, 308.604,308.795,308.81,308.817,308.814, 308.812,308.81,308.807,308.805,308.803, 308.8,308.798,308.796,308.794,308.792, 308.789,308.787,308.785,308.782,308.78, 308.777,308.775,308.772,308.77,308.767, 308.764,308.762,308.759,308.757,308.754 ,308.749,308.744,308.74,308.737,308.731 ,308.728,308.725,308.722,308.72,308.717 ,308.712,308.708,308.705,308.703,308.7, 308.695,308.692,308.69,308.672)
ORBIT_NUMBER = 16856
ORBITAL_ECCENTRICITY = 0.578
ORBITAL_INCLINATION = 86.95
ORBITAL_SEMIMAJOR_AXIS = 8806.33
PERIAPSIS_ALTITUDE = 328.58
PERIAPSIS_ARGUMENT_ANGLE = 313.76
PERIAPSIS_TIME = 2017-04-23T19:33:10.000Z
SPACECRAFT_ORIENTATION = (0.0,1.0,0.0)
^MEX_ORIENTATION_DESC = "MEX_ORIENTATION_DESC.TXT"
SPACECRAFT_POINTING_MODE = NADIR
^MEX_POINTING_DESC = "MEX_POINTING_DESC.TXT"
RIGHT_ASCENSION = -1e+32
DECLINATION = -1e+32
OFFSET_ANGLE = -1e+32
SPACECRAFT_SOLAR_DISTANCE = 2.30793e+08
TARGET_NAME = MARS
/* CAMERA DATA ELEMENTS */
DETECTOR_TEMPERATURE = 18.5744
FOCAL_PLANE_TEMPERATURE = 8.7872
INST_CMPRS_NAME = "DISCRETE COSINE TRANSFORMATION (DCT)"
INST_CMPRS_RATIO = 6.97561
INST_CMPRS_QUALITY = 0
INST_CMPRS_QUANTZ_TBL_ID = 0
INSTRUMENT_TEMPERATURE = 11.0301
LENS_TEMPERATURE = 9.195
MACROPIXEL_SIZE = 1
MISSING_FRAMES = 0
PIXEL_SUBSAMPLING_FLAG = N
SIGNAL_CHAIN_ID = 0
/* RADIOMETRIC DATA ELEMENTS */
BANDWIDTH = 177.0
CENTER_FILTER_WAVELENGTH = 677.5
RADIANCE_OFFSET = 2.85272
RADIANCE_SCALING_FACTOR = 0.00985985
REFLECTANCE_SCALING_FACTOR = 0.000278999
MEX:REFLECTANCE_OFFSET = 0.080722
/* IMAGE OBJECT DEFINITIONS */
OBJECT = IMAGE
  INTERCHANGE_FORMAT = BINARY
  LINES = 29466
  LINE_SAMPLES = 6210
  SAMPLE_TYPE = UNSIGNED_INTEGER
  SAMPLE_BITS = 8
  BANDS = 1
  BAND_STORAGE_TYPE = BAND_SEQUENTIAL
  MAXIMUM = 255
  MEAN = 136.923
  MINIMUM = 1
  STANDARD_DEVIATION = 26.1068
END_OBJECT = IMAGE
/* MAP OBJECT DEFINITIONS */
OBJECT = IMAGE_MAP_PROJECTION
  ^DATA_SET_MAP_PROJECTION_CATALOG= "DSMAP.CAT"
  A_AXIS_RADIUS = 3396.0
  B_AXIS_RADIUS = 3396.0
  C_AXIS_RADIUS = 3396.0
  CENTER_LATITUDE = 0.0
  CENTER_LONGITUDE = 308.0
  COORDINATE_SYSTEM_NAME = PLANETOGRAPHIC
  COORDINATE_SYSTEM_TYPE = "BODY-FIXED ROTATING"
  EASTERNMOST_LONGITUDE = 308.817
  FIRST_STANDARD_PARALLEL = "N/A"
  LINE_FIRST_PIXEL = 1
  LINE_LAST_PIXEL = 29466
  LINE_PROJECTION_OFFSET = -165607.0
  MAP_PROJECTION_ROTATION = 0.0
  MAP_PROJECTION_TYPE = SINUSOIDAL
  MAP_RESOLUTION = 4741.71043093333
  MAP_SCALE = 0.0125
  MAXIMUM_LATITUDE = -34.9252
  MINIMUM_LATITUDE = -41.14
  POSITIVE_LONGITUDE_DIRECTION = EAST
  REFERENCE_LATITUDE = "N/A"
  REFERENCE_LONGITUDE = "N/A"
  SAMPLE_FIRST_PIXEL = 1
  SAMPLE_LAST_PIXEL = 6210
  SAMPLE_PROJECTION_OFFSET = 3035.0
  SECOND_STANDARD_PARALLEL = "N/A"
  WESTERNMOST_LONGITUDE = 307.151
END_OBJECT = IMAGE_MAP_PROJECTION
END
