PDS_VERSION_ID = PDS3
/* FILE DATA ELEMENTS */
RECORD_TYPE = UNDEFINED
/* POINTERS TO DATA OBJECTS */
^IMAGE = ("HG858_0000_P14.TIF")
/* IDENTIFICATION DATA ELEMENTS */
DATA_SET_ID = "MEX-M-HRSC-4-REFDR-MAPPROJECT-EXT6-V4.0"
DATA_SET_NAME = "MARS EXPRESS HRSC MAP PROJECTED REFDR EXTENSION6 V4.0"
DETECTOR_ID = MEX_HRSC_P1
EVENT_TYPE = "MARS-REGIONAL-MAPPING-Im-Fl-Gl"
INSTRUMENT_HOST_ID = MEX
INSTRUMENT_HOST_NAME = "MARS EXPRESS"
INSTRUMENT_ID = HRSC
INSTRUMENT_NAME = "HIGH RESOLUTION STEREO CAMERA"
MISSION_NAME = "MARS EXPRESS"
MISSION_PHASE_NAME = ME_Phase_36
PROCESSING_LEVEL_ID = 4
PRODUCT_CREATION_TIME = 2023-01-26T14:39:22.000Z
PRODUCT_ID = "HG858_0000_P14.TIF"
RELEASE_ID = 0001
REVISION_ID = 0000
/* QUALITY DATA ELEMENTS */
DATA_QUALITY_ID = 1
DATA_QUALITY_DESC = "Data calculated based on original SPICE kernels"
/* TIME DATA ELEMENTS */
SPACECRAFT_CLOCK_START_COUNT = "1/0441106322.09062"
SPACECRAFT_CLOCK_STOP_COUNT = "1/0441106535.15179"
START_TIME = 2017-04-24T09:32:59.696Z
STOP_TIME = 2017-04-24T09:35:30.186Z
/* ORBITAL DATA ELEMENTS */
ASCENDING_NODE_LONGITUDE = 257.3
MAXIMUM_RESOLUTION = 0.027
FOOTPRINT_POINT_LATITUDE = (-46.0123,-45.9999,-45.9904,-45.9806, -45.9705,-45.9493,-45.9486,-45.9869, -45.8142,-45.6412,-45.4685,-45.2953, -45.1226,-44.9501,-44.6055,-44.3468, -44.002,-43.7439,-43.5716,-42.4734, -42.301,-42.0427,-41.8704,-41.5252, -41.1841,-41.0083,-40.7435,-40.5668, -40.3027,-40.1265,-39.9504,-39.7683, -39.5895,-39.4123,-39.2398,-38.9757, -38.7966,-38.5379,-38.3656,-38.191, -38.0149,-37.8363,-37.6551,-37.4791, -37.1362,-36.877,-36.5331,-36.3595, -36.2728,-36.24,-36.248,-36.2588, -36.2669,-36.2773,-36.288,-36.2885, -36.289,-36.4628,-36.6367,-36.8107, -36.985,-37.2461,-37.5863,-37.7657, -37.9435,-38.1195,-38.2939,-38.4676, -38.731,-38.9077,-39.0815,-39.3484, -39.5264,-39.7915,-39.9719,-40.148, -40.4113,-40.5873,-40.7623,-40.9359, -41.1135,-41.2915,-41.6357,-41.898, -42.0709,-42.3272,-42.5843,-43.6862, -43.9451,-44.1177,-44.4618,-44.794, -44.9709,-45.1486,-45.3233,-45.5853, -45.7584,-45.9317,-46.0184,-46.0123)
FOOTPRINT_POINT_LONGITUDE = (105.247,104.885,104.625,104.368, 104.115,103.618,103.603,103.612,103.618 ,103.624,103.631,103.636,103.642, 103.648,103.66,103.668,103.678,103.685, 103.69,103.719,103.722,103.728,103.731, 103.738,103.745,103.749,103.753,103.756 ,103.761,103.763,103.766,103.768, 103.769,103.771,103.775,103.777,103.778 ,103.782,103.785,103.787,103.788, 103.789,103.788,103.789,103.793,103.795 ,103.798,103.799,103.799,103.799, 104.034,104.361,104.618,104.969,105.343 ,105.359,105.365,105.364,105.363, 105.363,105.362,105.36,105.346,105.352, 105.356,105.356,105.354,105.351,105.351 ,105.352,105.348,105.352,105.354, 105.355,105.355,105.354,105.351,105.349 ,105.346,105.34,105.34,105.345,105.345, 105.347,105.348,105.344,105.342,105.334 ,105.333,105.332,105.327,105.302, 105.308,105.314,105.316,105.318,105.316 ,105.315,105.314,105.247)
ORBIT_NUMBER = 16858
ORBITAL_ECCENTRICITY = 0.579
ORBITAL_INCLINATION = 86.95
ORBITAL_SEMIMAJOR_AXIS = 8810.36
PERIAPSIS_ALTITUDE = 327.69
PERIAPSIS_ARGUMENT_ANGLE = 313.38
PERIAPSIS_TIME = 2017-04-24T09:32:33.000Z
SPACECRAFT_ORIENTATION = (0.0,1.0,0.0)
^MEX_ORIENTATION_DESC = "MEX_ORIENTATION_DESC.TXT"
SPACECRAFT_POINTING_MODE = ACROSSTRACK
^MEX_POINTING_DESC = "MEX_POINTING_DESC.TXT"
RIGHT_ASCENSION = -1e+32
DECLINATION = -1e+32
OFFSET_ANGLE = -0.88
SPACECRAFT_SOLAR_DISTANCE = 2.30904e+08
TARGET_NAME = MARS
/* CAMERA DATA ELEMENTS */
DETECTOR_TEMPERATURE = 18.1666
FOCAL_PLANE_TEMPERATURE = 9.195
INST_CMPRS_NAME = "DISCRETE COSINE TRANSFORMATION (DCT)"
INST_CMPRS_RATIO = 6.74258
INST_CMPRS_QUALITY = 0
INST_CMPRS_QUANTZ_TBL_ID = 0
INSTRUMENT_TEMPERATURE = 11.8457
LENS_TEMPERATURE = 9.8067
MACROPIXEL_SIZE = 2
MISSING_FRAMES = 306
PIXEL_SUBSAMPLING_FLAG = N
SIGNAL_CHAIN_ID = 3
/* RADIOMETRIC DATA ELEMENTS */
BANDWIDTH = 174.0
CENTER_FILTER_WAVELENGTH = 675.0
RADIANCE_OFFSET = 4.0809
RADIANCE_SCALING_FACTOR = 0.0203245
REFLECTANCE_SCALING_FACTOR = 0.000582865
MEX:REFLECTANCE_OFFSET = 0.117032
/* IMAGE OBJECT DEFINITIONS */
OBJECT = IMAGE
  INTERCHANGE_FORMAT = BINARY
  LINES = 23171
  LINE_SAMPLES = 2955
  SAMPLE_TYPE = UNSIGNED_INTEGER
  SAMPLE_BITS = 8
  BANDS = 1
  BAND_STORAGE_TYPE = BAND_SEQUENTIAL
  MAXIMUM = 255
  MEAN = 108.113
  MINIMUM = 1
  STANDARD_DEVIATION = 27.5365
END_OBJECT = IMAGE
/* MAP OBJECT DEFINITIONS */
OBJECT = IMAGE_MAP_PROJECTION
  ^DATA_SET_MAP_PROJECTION_CATALOG= "DSMAP.CAT"
  A_AXIS_RADIUS = 3396.0
  B_AXIS_RADIUS = 3396.0
  C_AXIS_RADIUS = 3396.0
  CENTER_LATITUDE = 0.0
  CENTER_LONGITUDE = 105.0
  COORDINATE_SYSTEM_NAME = PLANETOGRAPHIC
  COORDINATE_SYSTEM_TYPE = "BODY-FIXED ROTATING"
  EASTERNMOST_LONGITUDE = 105.365
  FIRST_STANDARD_PARALLEL = "N/A"
  LINE_FIRST_PIXEL = 1
  LINE_LAST_PIXEL = 23171
  LINE_PROJECTION_OFFSET = -85981.75
  MAP_PROJECTION_ROTATION = 0.0
  MAP_PROJECTION_TYPE = SINUSOIDAL
  MAP_RESOLUTION = 2370.85521546667
  MAP_SCALE = 0.025
  MAXIMUM_LATITUDE = -36.24
  MINIMUM_LATITUDE = -46.0184
  POSITIVE_LONGITUDE_DIRECTION = EAST
  REFERENCE_LATITUDE = "N/A"
  REFERENCE_LONGITUDE = "N/A"
  SAMPLE_FIRST_PIXEL = 1
  SAMPLE_LAST_PIXEL = 2955
  SAMPLE_PROJECTION_OFFSET = 2293.75
  SECOND_STANDARD_PARALLEL = "N/A"
  WESTERNMOST_LONGITUDE = 103.603
END_OBJECT = IMAGE_MAP_PROJECTION
END
