PDS_VERSION_ID = PDS3
/* FILE DATA ELEMENTS */
RECORD_TYPE = UNDEFINED
/* POINTERS TO DATA OBJECTS */
^IMAGE = ("HG859_0000_P24.TIF")
/* IDENTIFICATION DATA ELEMENTS */
DATA_SET_ID = "MEX-M-HRSC-4-REFDR-MAPPROJECT-EXT6-V4.0"
DATA_SET_NAME = "MARS EXPRESS HRSC MAP PROJECTED REFDR EXTENSION6 V4.0"
DETECTOR_ID = MEX_HRSC_P2
EVENT_TYPE = "MARS-LOCAL-CARTOGRAPHY-Im-Tc-Ts"
INSTRUMENT_HOST_ID = MEX
INSTRUMENT_HOST_NAME = "MARS EXPRESS"
INSTRUMENT_ID = HRSC
INSTRUMENT_NAME = "HIGH RESOLUTION STEREO CAMERA"
MISSION_NAME = "MARS EXPRESS"
MISSION_PHASE_NAME = ME_Phase_36
PROCESSING_LEVEL_ID = 4
PRODUCT_CREATION_TIME = 2023-01-26T14:39:22.000Z
PRODUCT_ID = "HG859_0000_P24.TIF"
RELEASE_ID = 0001
REVISION_ID = 0000
/* QUALITY DATA ELEMENTS */
DATA_QUALITY_ID = 1
DATA_QUALITY_DESC = "Data calculated based on original SPICE kernels"
/* TIME DATA ELEMENTS */
SPACECRAFT_CLOCK_START_COUNT = "1/0441132113.07307"
SPACECRAFT_CLOCK_STOP_COUNT = "1/0441132314.38072"
START_TIME = 2017-04-24T16:42:22.096Z
STOP_TIME = 2017-04-24T16:43:01.359Z
/* ORBITAL DATA ELEMENTS */
ASCENDING_NODE_LONGITUDE = 257.29
MAXIMUM_RESOLUTION = 0.0505
FOOTPRINT_POINT_LATITUDE = (-6.40946,-6.40904,-6.40856,-6.40804, -6.40746,-6.40684,-6.40617,-6.40545, -6.40467,-6.40384,-6.40296,-6.40202, -6.40103,-6.39998,-6.39887,-6.3977, -6.39647,-6.39519,-6.39386,-6.39247, -6.39102,-6.38952,-6.38798,-6.38637, -6.38472,-6.3821,-6.38165,-6.36918, -6.14825,-6.03595,-5.87707,-5.74036, -5.64912,-5.53524,-5.44409,-5.3521, -5.23651,-5.14413,-5.02882,-4.93675, -4.84413,-4.7505,-4.68015,-4.58672, -4.51681,-4.42341,-4.30613,-4.21168, -4.09404,-4.0706,-4.04942,-4.05122, -4.04924,-4.04914,-4.05203,-4.05482, -4.05917,-4.05648,-4.05997,-4.06233, -4.06265,-4.06356,-4.06127,-4.17382, -4.06572,-4.06684,-4.06756,-4.06815, -4.06832,-4.06847,-4.06945,-4.07041, -4.07045,-4.07035,-4.07037,-4.0712, -4.14243,-4.21367,-4.30874,-4.37972, -4.47327,-4.54343,-4.63706,-4.73083, -4.84817,-4.9647,-5.05719,-5.14969, -5.21902,-5.31155,-5.40423,-5.56463, -5.65598,-5.8152,-5.95117,-6.04265, -6.20203,-6.35908,-6.38165,-6.40946)
FOOTPRINT_POINT_LONGITUDE = (361.112,361.027,360.941,360.856,360.77 ,360.684,360.598,360.512,360.426,360.34 ,360.253,360.166,360.079,359.992, 359.904,359.817,359.729,359.641,359.553 ,359.465,359.377,359.288,359.199,359.11 ,359.02,358.886,358.863,358.846,358.839 ,358.834,358.827,358.821,358.816, 358.811,358.807,358.802,358.797,358.792 ,358.787,358.783,358.778,358.774,358.77 ,358.765,358.762,358.758,358.752, 358.747,358.742,358.741,358.74,358.858, 358.95,359.02,359.116,359.211,359.331, 359.491,359.586,359.68,359.819,359.911, 360.026,360.091,360.073,360.166,360.326 ,360.418,360.578,360.737,360.828, 360.919,361.01,361.1,361.123,361.131, 361.13,361.13,361.129,361.128,361.128, 361.127,361.126,361.126,361.125,361.124 ,361.123,361.122,361.122,361.121,361.12 ,361.119,361.118,361.117,361.116, 361.115,361.114,361.113,361.112, 361.112)
ORBIT_NUMBER = 16859
ORBITAL_ECCENTRICITY = 0.578
ORBITAL_INCLINATION = 86.95
ORBITAL_SEMIMAJOR_AXIS = 8806.87
PERIAPSIS_ALTITUDE = 328.54
PERIAPSIS_ARGUMENT_ANGLE = 313.22
PERIAPSIS_TIME = 2017-04-24T16:32:14.000Z
SPACECRAFT_ORIENTATION = (0.0,1.0,0.0)
^MEX_ORIENTATION_DESC = "MEX_ORIENTATION_DESC.TXT"
SPACECRAFT_POINTING_MODE = ACROSSTRACK
^MEX_POINTING_DESC = "MEX_POINTING_DESC.TXT"
RIGHT_ASCENSION = -1e+32
DECLINATION = -1e+32
OFFSET_ANGLE = 1.04
SPACECRAFT_SOLAR_DISTANCE = 2.3096e+08
TARGET_NAME = MARS
/* CAMERA DATA ELEMENTS */
DETECTOR_TEMPERATURE = 19.1861
FOCAL_PLANE_TEMPERATURE = 8.5833
INST_CMPRS_NAME = "DISCRETE COSINE TRANSFORMATION (DCT)"
INST_CMPRS_RATIO = 10.652
INST_CMPRS_QUALITY = 0
INST_CMPRS_QUANTZ_TBL_ID = 0
INSTRUMENT_TEMPERATURE = 12.4574
LENS_TEMPERATURE = 8.9911
MACROPIXEL_SIZE = 2
MISSING_FRAMES = 0
PIXEL_SUBSAMPLING_FLAG = N
SIGNAL_CHAIN_ID = 3
/* RADIOMETRIC DATA ELEMENTS */
BANDWIDTH = 177.0
CENTER_FILTER_WAVELENGTH = 676.5
RADIANCE_OFFSET = 4.25956
RADIANCE_SCALING_FACTOR = 0.0149909
REFLECTANCE_SCALING_FACTOR = 0.000423997
MEX:REFLECTANCE_OFFSET = 0.120476
/* IMAGE OBJECT DEFINITIONS */
OBJECT = IMAGE
  INTERCHANGE_FORMAT = BINARY
  LINES = 2819
  LINE_SAMPLES = 3011
  SAMPLE_TYPE = UNSIGNED_INTEGER
  SAMPLE_BITS = 8
  BANDS = 1
  BAND_STORAGE_TYPE = BAND_SEQUENTIAL
  MAXIMUM = 255
  MEAN = 81.0811
  MINIMUM = 1
  STANDARD_DEVIATION = 26.282
END_OBJECT = IMAGE
/* MAP OBJECT DEFINITIONS */
OBJECT = IMAGE_MAP_PROJECTION
  ^DATA_SET_MAP_PROJECTION_CATALOG= "DSMAP.CAT"
  A_AXIS_RADIUS = 3396.0
  B_AXIS_RADIUS = 3396.0
  C_AXIS_RADIUS = 3396.0
  CENTER_LATITUDE = 0.0
  CENTER_LONGITUDE = 360.0
  COORDINATE_SYSTEM_NAME = PLANETOGRAPHIC
  COORDINATE_SYSTEM_TYPE = "BODY-FIXED ROTATING"
  EASTERNMOST_LONGITUDE = 1.131
  FIRST_STANDARD_PARALLEL = "N/A"
  LINE_FIRST_PIXEL = 1
  LINE_LAST_PIXEL = 2819
  LINE_PROJECTION_OFFSET = -4786.25
  MAP_PROJECTION_ROTATION = 0.0
  MAP_PROJECTION_TYPE = SINUSOIDAL
  MAP_RESOLUTION = 1185.42760773333
  MAP_SCALE = 0.05
  MAXIMUM_LATITUDE = -4.04914
  MINIMUM_LATITUDE = -6.40946
  POSITIVE_LONGITUDE_DIRECTION = EAST
  REFERENCE_LATITUDE = "N/A"
  REFERENCE_LONGITUDE = "N/A"
  SAMPLE_FIRST_PIXEL = 1
  SAMPLE_LAST_PIXEL = 3011
  SAMPLE_PROJECTION_OFFSET = 1576.25
  SECOND_STANDARD_PARALLEL = "N/A"
  WESTERNMOST_LONGITUDE = -1.26
END_OBJECT = IMAGE_MAP_PROJECTION
END
