PDS_VERSION_ID = PDS3
/* FILE DATA ELEMENTS */
RECORD_TYPE = UNDEFINED
/* POINTERS TO DATA OBJECTS */
^IMAGE = ("HG859_0000_S24.TIF")
/* IDENTIFICATION DATA ELEMENTS */
DATA_SET_ID = "MEX-M-HRSC-4-REFDR-MAPPROJECT-EXT6-V4.0"
DATA_SET_NAME = "MARS EXPRESS HRSC MAP PROJECTED REFDR EXTENSION6 V4.0"
DETECTOR_ID = MEX_HRSC_S2
EVENT_TYPE = "MARS-LOCAL-CARTOGRAPHY-Im-Tc-Ts"
INSTRUMENT_HOST_ID = MEX
INSTRUMENT_HOST_NAME = "MARS EXPRESS"
INSTRUMENT_ID = HRSC
INSTRUMENT_NAME = "HIGH RESOLUTION STEREO CAMERA"
MISSION_NAME = "MARS EXPRESS"
MISSION_PHASE_NAME = ME_Phase_36
PROCESSING_LEVEL_ID = 4
PRODUCT_CREATION_TIME = 2023-01-26T14:39:22.000Z
PRODUCT_ID = "HG859_0000_S24.TIF"
RELEASE_ID = 0001
REVISION_ID = 0000
/* QUALITY DATA ELEMENTS */
DATA_QUALITY_ID = 1
DATA_QUALITY_DESC = "Data calculated based on original SPICE kernels"
/* TIME DATA ELEMENTS */
SPACECRAFT_CLOCK_START_COUNT = "1/0441132113.07307"
SPACECRAFT_CLOCK_STOP_COUNT = "1/0441132314.38072"
START_TIME = 2017-04-24T16:42:01.255Z
STOP_TIME = 2017-04-24T16:42:39.034Z
/* ORBITAL DATA ELEMENTS */
ASCENDING_NODE_LONGITUDE = 257.29
MAXIMUM_RESOLUTION = 0.0253
FOOTPRINT_POINT_LATITUDE = (-6.43249,-6.43079,-6.42902,-6.42719, -6.42529,-6.42333,-6.42129,-6.41918, -6.417,-6.41475,-6.41241,-6.41,-6.40752 ,-6.40495,-6.4023,-6.39957,-6.39675, -6.39386,-6.39089,-6.38785,-6.38474, -6.38154,-6.37826,-6.3749,-6.37147, -6.36796,-6.36707,-6.35037,-6.21918, -6.06054,-5.9024,-5.7655,-5.65074, -5.48992,-5.39803,-5.30624,-5.1674, -5.09773,-5.00475,-4.8884,-4.7955, -4.72536,-4.58443,-4.46666,-4.39589, -4.30132,-4.23097,-4.16089,-4.06737, -4.04348,-4.02454,-4.02318,-4.02285, -4.02627,-4.03595,-4.04664,-4.04642, -4.04763,-4.05237,-4.05514,-4.05729, -4.05979,-4.05701,-4.06682,-4.06904, -4.07057,-4.07266,-4.07553,-4.07671, -4.07862,-4.08114,-4.08254,-4.08436, -4.0847,-4.08519,-4.22488,-4.32174, -4.4172,-4.48794,-4.58242,-4.67705, -4.74777,-4.84098,-4.91098,-5.00433, -5.09758,-5.16741,-5.26067,-5.35314, -5.51414,-5.60627,-5.76309,-5.85517, -5.96577,-6.05614,-6.17653,-6.26675, -6.37994,-6.40264,-6.43249)
FOOTPRINT_POINT_LONGITUDE = (361.082,360.997,360.912,360.827, 360.742,360.656,360.571,360.485,360.399 ,360.313,360.227,360.14,360.054,359.967 ,359.88,359.793,359.705,359.618,359.53, 359.442,359.354,359.265,359.177,359.088 ,358.998,358.909,358.887,358.866, 358.863,358.856,358.849,358.843,358.838 ,358.831,358.827,358.822,358.816, 358.813,358.808,358.803,358.799,358.795 ,358.788,358.783,358.78,358.775,358.772 ,358.769,358.764,358.763,358.762, 358.924,358.993,359.088,359.208,359.351 ,359.443,359.558,359.628,359.698, 359.836,359.928,360.018,360.135,360.226 ,360.317,360.409,360.545,360.658, 360.748,360.839,360.951,361.063,361.086 ,361.097,361.096,361.095,361.095, 361.094,361.094,361.093,361.092,361.092 ,361.091,361.091,361.09,361.09,361.089, 361.089,361.088,361.087,361.086,361.085 ,361.084,361.084,361.083,361.083, 361.082,361.082,361.082)
ORBIT_NUMBER = 16859
ORBITAL_ECCENTRICITY = 0.578
ORBITAL_INCLINATION = 86.95
ORBITAL_SEMIMAJOR_AXIS = 8806.87
PERIAPSIS_ALTITUDE = 328.54
PERIAPSIS_ARGUMENT_ANGLE = 313.22
PERIAPSIS_TIME = 2017-04-24T16:32:14.000Z
SPACECRAFT_ORIENTATION = (0.0,1.0,0.0)
^MEX_ORIENTATION_DESC = "MEX_ORIENTATION_DESC.TXT"
SPACECRAFT_POINTING_MODE = ACROSSTRACK
^MEX_POINTING_DESC = "MEX_POINTING_DESC.TXT"
RIGHT_ASCENSION = -1e+32
DECLINATION = -1e+32
OFFSET_ANGLE = 1.04
SPACECRAFT_SOLAR_DISTANCE = 2.3096e+08
TARGET_NAME = MARS
/* CAMERA DATA ELEMENTS */
DETECTOR_TEMPERATURE = 19.1861
FOCAL_PLANE_TEMPERATURE = 8.5833
INST_CMPRS_NAME = "DISCRETE COSINE TRANSFORMATION (DCT)"
INST_CMPRS_RATIO = 9.96544
INST_CMPRS_QUALITY = 0
INST_CMPRS_QUANTZ_TBL_ID = 0
INSTRUMENT_TEMPERATURE = 12.4574
LENS_TEMPERATURE = 8.9911
MACROPIXEL_SIZE = 1
MISSING_FRAMES = 0
PIXEL_SUBSAMPLING_FLAG = N
SIGNAL_CHAIN_ID = 1
/* RADIOMETRIC DATA ELEMENTS */
BANDWIDTH = 178.0
CENTER_FILTER_WAVELENGTH = 679.0
RADIANCE_OFFSET = 4.53258
RADIANCE_SCALING_FACTOR = 0.0156524
REFLECTANCE_SCALING_FACTOR = 0.000442171
MEX:REFLECTANCE_OFFSET = 0.128042
/* IMAGE OBJECT DEFINITIONS */
OBJECT = IMAGE
  INTERCHANGE_FORMAT = BINARY
  LINES = 5637
  LINE_SAMPLES = 6022
  SAMPLE_TYPE = UNSIGNED_INTEGER
  SAMPLE_BITS = 8
  BANDS = 1
  BAND_STORAGE_TYPE = BAND_SEQUENTIAL
  MAXIMUM = 255
  MEAN = 84.0926
  MINIMUM = 1
  STANDARD_DEVIATION = 26.5566
END_OBJECT = IMAGE
/* MAP OBJECT DEFINITIONS */
OBJECT = IMAGE_MAP_PROJECTION
  ^DATA_SET_MAP_PROJECTION_CATALOG= "DSMAP.CAT"
  A_AXIS_RADIUS = 3396.0
  B_AXIS_RADIUS = 3396.0
  C_AXIS_RADIUS = 3396.0
  CENTER_LATITUDE = 0.0
  CENTER_LONGITUDE = 360.0
  COORDINATE_SYSTEM_NAME = PLANETOGRAPHIC
  COORDINATE_SYSTEM_TYPE = "BODY-FIXED ROTATING"
  EASTERNMOST_LONGITUDE = 1.097
  FIRST_STANDARD_PARALLEL = "N/A"
  LINE_FIRST_PIXEL = 1
  LINE_LAST_PIXEL = 5637
  LINE_PROJECTION_OFFSET = -9572.0
  MAP_PROJECTION_ROTATION = 0.0
  MAP_PROJECTION_TYPE = SINUSOIDAL
  MAP_RESOLUTION = 2370.85521546667
  MAP_SCALE = 0.025
  MAXIMUM_LATITUDE = -4.02285
  MINIMUM_LATITUDE = -6.43249
  POSITIVE_LONGITUDE_DIRECTION = EAST
  REFERENCE_LATITUDE = "N/A"
  REFERENCE_LONGITUDE = "N/A"
  SAMPLE_FIRST_PIXEL = 1
  SAMPLE_LAST_PIXEL = 6022
  SAMPLE_PROJECTION_OFFSET = 3153.0
  SECOND_STANDARD_PARALLEL = "N/A"
  WESTERNMOST_LONGITUDE = -1.238
END_OBJECT = IMAGE_MAP_PROJECTION
END
