PDS_VERSION_ID = PDS3
/* FILE DATA ELEMENTS */
RECORD_TYPE = UNDEFINED
/* POINTERS TO DATA OBJECTS */
^IMAGE = ("HG859_0002_SR4.TIF")
/* IDENTIFICATION DATA ELEMENTS */
DATA_SET_ID = "MEX-M-HRSC-4-REFDR-MAPPROJECT-EXT6-V4.0"
DATA_SET_NAME = "MARS EXPRESS HRSC MAP PROJECTED REFDR EXTENSION6 V4.0"
DETECTOR_ID = MEX_HRSC_SRC
EVENT_TYPE = "MARS-LOCAL-CARTOGRAPHY-Im-Tc-Ts"
INSTRUMENT_HOST_ID = MEX
INSTRUMENT_HOST_NAME = "MARS EXPRESS"
INSTRUMENT_ID = HRSC
INSTRUMENT_NAME = "HIGH RESOLUTION STEREO CAMERA"
MISSION_NAME = "MARS EXPRESS"
MISSION_PHASE_NAME = ME_Phase_36
PROCESSING_LEVEL_ID = 4
PRODUCT_CREATION_TIME = 2023-01-26T14:39:22.000Z
PRODUCT_ID = "HG859_0002_SR4.TIF"
RELEASE_ID = 0001
REVISION_ID = 0000
/* QUALITY DATA ELEMENTS */
DATA_QUALITY_ID = 1
DATA_QUALITY_DESC = "Data calculated based on original SPICE kernels"
/* TIME DATA ELEMENTS */
SPACECRAFT_CLOCK_START_COUNT = "1/0441132113.07307"
SPACECRAFT_CLOCK_STOP_COUNT = "1/0441132314.38072"
IMAGE_TIME = 2017-04-24T16:43:27.664Z
START_TIME = 2017-04-24T16:43:27.662Z
STOP_TIME = 2017-04-24T16:43:27.667Z
/* ORBITAL DATA ELEMENTS */
ASCENDING_NODE_LONGITUDE = 257.29
MAXIMUM_RESOLUTION = 0.006396
FOOTPRINT_POINT_LATITUDE = (-5.32024,-5.31473,-5.26028,-5.21156, -5.21154,-5.21152,-5.2115,-5.21147, -5.21145,-5.21143,-5.21141,-5.21139, -5.21135,-5.21131,-5.21127,-5.21122, -5.21118,-5.21116,-5.21114,-5.21276, -5.21449,-5.216,-5.21719,-5.21881, -5.22021,-5.22248,-5.22453,-5.22723, -5.22928,-5.23101,-5.23263,-5.23425, -5.23641,-5.2377,-5.23964,-5.24137, -5.2431,-5.24558,-5.24763,-5.24915, -5.25109,-5.25271,-5.2539,-5.25595, -5.25767,-5.26037,-5.2621,-5.26329, -5.26566,-5.26718,-5.26901,-5.2702, -5.2716,-5.27344,-5.27516,-5.27657, -5.27797,-5.28013,-5.28207,-5.28337, -5.28477,-5.28596,-5.28715,-5.28877, -5.29114,-5.29233,-5.29406,-5.29568, -5.29805,-5.29956,-5.30097,-5.30302, -5.30442,-5.30561,-5.30734,-5.30906, -5.31025,-5.31176,-5.31338,-5.31457, -5.31673,-5.31964,-5.31975,-5.31975, -5.3198,-5.31984,-5.31989,-5.31993, -5.31997,-5.32002,-5.32004,-5.32006, -5.32008,-5.32011,-5.32013,-5.32015, -5.32017,-5.32019,-5.32022,-5.32024)
FOOTPRINT_POINT_LONGITUDE = (0.0185395,0.0185385,0.0185382, 0.0186481,0.0197381,0.0208282,0.0219182 ,0.0230082,0.0240981,0.0251881,0.026278 ,0.0273679,0.0295476,0.0317273, 0.0339068,0.0360862,0.0382656,0.0393552 ,0.0403359,0.0403686,0.0404035,0.040434 ,0.040458,0.0404907,0.040519,0.0405648, 0.0406062,0.0406606,0.040702,0.0407368, 0.0407695,0.0408021,0.0408457,0.0408718 ,0.0409109,0.0409458,0.0409806, 0.0410306,0.0410719,0.0411023,0.0411415 ,0.0411741,0.041198,0.0412392,0.041274, 0.0413283,0.041363,0.0413869,0.0414347, 0.0414651,0.041502,0.0415258,0.0415541, 0.0415909,0.0416256,0.0416538,0.041682, 0.0417254,0.0417644,0.0417904,0.0418186 ,0.0418424,0.0418663,0.0418988, 0.0419464,0.0419703,0.0420049,0.0420374 ,0.042085,0.0421153,0.0421435,0.0421846 ,0.0422127,0.0422365,0.0422711, 0.0423057,0.0423295,0.0423598,0.0423922 ,0.042416,0.0424592,0.0425176,0.0425198 ,0.0424108,0.0402312,0.0380516, 0.0358718,0.033692,0.031512,0.029332, 0.028242,0.0271519,0.0260618,0.0249717, 0.0238815,0.0227914,0.0217012,0.020611, 0.0195207,0.0185395)
ORBIT_NUMBER = 16859
ORBITAL_ECCENTRICITY = 0.578
ORBITAL_INCLINATION = 86.95
ORBITAL_SEMIMAJOR_AXIS = 8806.87
PERIAPSIS_ALTITUDE = 328.54
PERIAPSIS_ARGUMENT_ANGLE = 313.22
PERIAPSIS_TIME = 2017-04-24T16:32:14.000Z
SPACECRAFT_ORIENTATION = (0.0,1.0,0.0)
^MEX_ORIENTATION_DESC = "MEX_ORIENTATION_DESC.TXT"
SPACECRAFT_POINTING_MODE = ACROSSTRACK
^MEX_POINTING_DESC = "MEX_POINTING_DESC.TXT"
RIGHT_ASCENSION = -1e+32
DECLINATION = -1e+32
OFFSET_ANGLE = 1.04
SPACECRAFT_SOLAR_DISTANCE = 2.3096e+08
TARGET_NAME = MARS
/* CAMERA DATA ELEMENTS */
BUFFER_MODE_ID = BUFFER_8
EXPOSURE_DURATION = 5.04
INST_CMPRS_NAME = NONE
INST_CMPRS_RATIO = 1.0
INST_CMPRS_QUALITY = -2147483648
INST_CMPRS_QUANTZ_TBL_ID = -2147483648
INSTRUMENT_TEMPERATURE = 7.50727
MISSING_FRAMES = 0
START_BIT = 0
/* RADIOMETRIC DATA ELEMENTS */
BANDWIDTH = 250.0
CENTER_FILTER_WAVELENGTH = 600.0
RADIANCE_OFFSET = -9.99e+31
RADIANCE_SCALING_FACTOR = -9.99e+31
REFLECTANCE_SCALING_FACTOR = -9.99e+31
MEX:REFLECTANCE_OFFSET = -9.99e+31
/* IMAGE OBJECT DEFINITIONS */
OBJECT = IMAGE
  INTERCHANGE_FORMAT = BINARY
  LINES = 1355
  LINE_SAMPLES = 1376
  SAMPLE_TYPE = UNSIGNED_INTEGER
  SAMPLE_BITS = 8
  BANDS = 1
  BAND_STORAGE_TYPE = BAND_SEQUENTIAL
  MAXIMUM = 252
  MEAN = 121.767
  MINIMUM = 19
  STANDARD_DEVIATION = 20.6016
END_OBJECT = IMAGE
/* MAP OBJECT DEFINITIONS */
OBJECT = IMAGE_MAP_PROJECTION
  ^DATA_SET_MAP_PROJECTION_CATALOG= "DSMAP.CAT"
  A_AXIS_RADIUS = 3396.19
  B_AXIS_RADIUS = 3396.19
  C_AXIS_RADIUS = 3396.19
  CENTER_LATITUDE = 0.0
  CENTER_LONGITUDE = 0.0
  COORDINATE_SYSTEM_NAME = PLANETOGRAPHIC
  COORDINATE_SYSTEM_TYPE = "BODY-FIXED ROTATING"
  EASTERNMOST_LONGITUDE = 0.04252
  FIRST_STANDARD_PARALLEL = "N/A"
  LINE_FIRST_PIXEL = 1
  LINE_LAST_PIXEL = 1355
  LINE_PROJECTION_OFFSET = -61757.0
  MAP_PROJECTION_ROTATION = 0.0
  MAP_PROJECTION_TYPE = SINUSOIDAL
  MAP_RESOLUTION = 11854.9393024378
  MAP_SCALE = 0.005
  MAXIMUM_LATITUDE = -5.21114
  MINIMUM_LATITUDE = -5.32024
  POSITIVE_LONGITUDE_DIRECTION = EAST
  REFERENCE_LATITUDE = "N/A"
  REFERENCE_LONGITUDE = "N/A"
  SAMPLE_FIRST_PIXEL = 1
  SAMPLE_LAST_PIXEL = 1376
  SAMPLE_PROJECTION_OFFSET = 852.0
  SECOND_STANDARD_PARALLEL = "N/A"
  WESTERNMOST_LONGITUDE = 0.018538
END_OBJECT = IMAGE_MAP_PROJECTION
END
