PDS_VERSION_ID = PDS3
/* FILE DATA ELEMENTS */
RECORD_TYPE = UNDEFINED
/* POINTERS TO DATA OBJECTS */
^IMAGE = ("HG859_0005_SR4.TIF")
/* IDENTIFICATION DATA ELEMENTS */
DATA_SET_ID = "MEX-M-HRSC-4-REFDR-MAPPROJECT-EXT6-V4.0"
DATA_SET_NAME = "MARS EXPRESS HRSC MAP PROJECTED REFDR EXTENSION6 V4.0"
DETECTOR_ID = MEX_HRSC_SRC
EVENT_TYPE = "MARS-LOCAL-CARTOGRAPHY-Im-Tc-Ts"
INSTRUMENT_HOST_ID = MEX
INSTRUMENT_HOST_NAME = "MARS EXPRESS"
INSTRUMENT_ID = HRSC
INSTRUMENT_NAME = "HIGH RESOLUTION STEREO CAMERA"
MISSION_NAME = "MARS EXPRESS"
MISSION_PHASE_NAME = ME_Phase_36
PROCESSING_LEVEL_ID = 4
PRODUCT_CREATION_TIME = 2023-01-26T14:39:22.000Z
PRODUCT_ID = "HG859_0005_SR4.TIF"
RELEASE_ID = 0001
REVISION_ID = 0000
/* QUALITY DATA ELEMENTS */
DATA_QUALITY_ID = 1
DATA_QUALITY_DESC = "Data calculated based on original SPICE kernels"
/* TIME DATA ELEMENTS */
SPACECRAFT_CLOCK_START_COUNT = "1/0441132113.07307"
SPACECRAFT_CLOCK_STOP_COUNT = "1/0441132314.38072"
IMAGE_TIME = 2017-04-24T16:43:32.569Z
START_TIME = 2017-04-24T16:43:32.567Z
STOP_TIME = 2017-04-24T16:43:32.572Z
/* ORBITAL DATA ELEMENTS */
ASCENDING_NODE_LONGITUDE = 257.29
MAXIMUM_RESOLUTION = 0.006436
FOOTPRINT_POINT_LATITUDE = (-5.05498,-5.05237,-5.05031,-5.0502, -5.04487,-4.99086,-4.94565,-4.94563, -4.94561,-4.94559,-4.94557,-4.94555, -4.94553,-4.9455,-4.94548,-4.94546, -4.94544,-4.94542,-4.9454,-4.94538, -4.94535,-4.94533,-4.94532,-4.94728, -4.94923,-4.95075,-4.95271,-4.95455, -4.95575,-4.95738,-4.95879,-4.96129, -4.96291,-4.96433,-4.96617,-4.96759, -4.96976,-4.97139,-4.97345,-4.97508, -4.97627,-4.97823,-4.98073,-4.98322, -4.98453,-4.98572,-4.98724,-4.98952, -4.99267,-4.99409,-4.99626,-4.998, -5.00049,-5.00223,-5.00451,-5.00614, -5.00831,-5.00983,-5.01135,-5.01364, -5.01548,-5.01678,-5.01863,-5.01993, -5.02189,-5.02363,-5.02504,-5.02743, -5.02917,-5.03047,-5.03232,-5.0347, -5.0372,-5.03905,-5.041,-5.04274, -5.04459,-5.04719,-5.04969,-5.05165, -5.05447,-5.05458,-5.05458,-5.05463, -5.05465,-5.05467,-5.05469,-5.05472, -5.05474,-5.05476,-5.05478,-5.05481, -5.05483,-5.05485,-5.05487,-5.0549, -5.05492,-5.05494,-5.05496,-5.05498)
FOOTPRINT_POINT_LONGITUDE = (0.0196908,0.0196379,0.019596,0.0195938 ,0.0195953,0.0195918,0.0197636, 0.0208595,0.0219554,0.0230513,0.0241472 ,0.0252431,0.0263389,0.0274347, 0.0285305,0.0296263,0.030722,0.0318178, 0.0329135,0.0340091,0.0351048,0.0362004 ,0.0368578,0.0368979,0.036938,0.0369691 ,0.0370092,0.0370471,0.0370716,0.037105 ,0.0371339,0.0371851,0.0372184, 0.0372474,0.0372852,0.0373141,0.0373586 ,0.0373919,0.0374342,0.0374675,0.037492 ,0.0375319,0.037583,0.0376341,0.0376608 ,0.0376852,0.0377163,0.0377629, 0.0378273,0.0378561,0.0379005,0.037936, 0.037987,0.0380225,0.0380691,0.0381023, 0.0381467,0.0381777,0.0382087,0.0382552 ,0.0382929,0.0383195,0.0383571, 0.0383837,0.0384236,0.038459,0.0384878, 0.0385364,0.0385718,0.0385984,0.038636, 0.0386847,0.0387355,0.0387731,0.0388129 ,0.0388483,0.0388858,0.0389389, 0.0389897,0.0390294,0.0390868,0.039089, 0.0389795,0.0367879,0.0356921,0.0345963 ,0.0335005,0.0324046,0.0313087, 0.0302128,0.0291169,0.0280209,0.0269249 ,0.0258289,0.0247329,0.0236368, 0.0225407,0.0214446,0.0203485, 0.0196908)
ORBIT_NUMBER = 16859
ORBITAL_ECCENTRICITY = 0.578
ORBITAL_INCLINATION = 86.95
ORBITAL_SEMIMAJOR_AXIS = 8806.87
PERIAPSIS_ALTITUDE = 328.54
PERIAPSIS_ARGUMENT_ANGLE = 313.22
PERIAPSIS_TIME = 2017-04-24T16:32:14.000Z
SPACECRAFT_ORIENTATION = (0.0,1.0,0.0)
^MEX_ORIENTATION_DESC = "MEX_ORIENTATION_DESC.TXT"
SPACECRAFT_POINTING_MODE = ACROSSTRACK
^MEX_POINTING_DESC = "MEX_POINTING_DESC.TXT"
RIGHT_ASCENSION = -1e+32
DECLINATION = -1e+32
OFFSET_ANGLE = 1.04
SPACECRAFT_SOLAR_DISTANCE = 2.3096e+08
TARGET_NAME = MARS
/* CAMERA DATA ELEMENTS */
BUFFER_MODE_ID = BUFFER_8
EXPOSURE_DURATION = 5.04
INST_CMPRS_NAME = NONE
INST_CMPRS_RATIO = 1.0
INST_CMPRS_QUALITY = -2147483648
INST_CMPRS_QUANTZ_TBL_ID = -2147483648
INSTRUMENT_TEMPERATURE = 7.62341
MISSING_FRAMES = 0
START_BIT = 0
/* RADIOMETRIC DATA ELEMENTS */
BANDWIDTH = 250.0
CENTER_FILTER_WAVELENGTH = 600.0
RADIANCE_OFFSET = -9.99e+31
RADIANCE_SCALING_FACTOR = -9.99e+31
REFLECTANCE_SCALING_FACTOR = -9.99e+31
MEX:REFLECTANCE_OFFSET = -9.99e+31
/* IMAGE OBJECT DEFINITIONS */
OBJECT = IMAGE
  INTERCHANGE_FORMAT = BINARY
  LINES = 1363
  LINE_SAMPLES = 1385
  SAMPLE_TYPE = UNSIGNED_INTEGER
  SAMPLE_BITS = 8
  BANDS = 1
  BAND_STORAGE_TYPE = BAND_SEQUENTIAL
  MAXIMUM = 250
  MEAN = 141.259
  MINIMUM = 8
  STANDARD_DEVIATION = 38.2329
END_OBJECT = IMAGE
/* MAP OBJECT DEFINITIONS */
OBJECT = IMAGE_MAP_PROJECTION
  ^DATA_SET_MAP_PROJECTION_CATALOG= "DSMAP.CAT"
  A_AXIS_RADIUS = 3396.19
  B_AXIS_RADIUS = 3396.19
  C_AXIS_RADIUS = 3396.19
  CENTER_LATITUDE = 0.0
  CENTER_LONGITUDE = 0.0
  COORDINATE_SYSTEM_NAME = PLANETOGRAPHIC
  COORDINATE_SYSTEM_TYPE = "BODY-FIXED ROTATING"
  EASTERNMOST_LONGITUDE = 0.039089
  FIRST_STANDARD_PARALLEL = "N/A"
  LINE_FIRST_PIXEL = 1
  LINE_LAST_PIXEL = 1363
  LINE_PROJECTION_OFFSET = -58606.0
  MAP_PROJECTION_ROTATION = 0.0
  MAP_PROJECTION_TYPE = SINUSOIDAL
  MAP_RESOLUTION = 11854.9393024378
  MAP_SCALE = 0.005
  MAXIMUM_LATITUDE = -4.94532
  MINIMUM_LATITUDE = -5.05498
  POSITIVE_LONGITUDE_DIRECTION = EAST
  REFERENCE_LATITUDE = "N/A"
  REFERENCE_LONGITUDE = "N/A"
  SAMPLE_FIRST_PIXEL = 1
  SAMPLE_LAST_PIXEL = 1385
  SAMPLE_PROJECTION_OFFSET = 901.0
  SECOND_STANDARD_PARALLEL = "N/A"
  WESTERNMOST_LONGITUDE = 0.019592
END_OBJECT = IMAGE_MAP_PROJECTION
END
