PDS_VERSION_ID = PDS3
/* FILE DATA ELEMENTS */
RECORD_TYPE = UNDEFINED
/* POINTERS TO DATA OBJECTS */
^IMAGE = ("HG860_0000_S14.TIF")
/* IDENTIFICATION DATA ELEMENTS */
DATA_SET_ID = "MEX-M-HRSC-4-REFDR-MAPPROJECT-EXT6-V4.0"
DATA_SET_NAME = "MARS EXPRESS HRSC MAP PROJECTED REFDR EXTENSION6 V4.0"
DETECTOR_ID = MEX_HRSC_S1
EVENT_TYPE = "MARS-LOCAL-STEREO-Te"
INSTRUMENT_HOST_ID = MEX
INSTRUMENT_HOST_NAME = "MARS EXPRESS"
INSTRUMENT_ID = HRSC
INSTRUMENT_NAME = "HIGH RESOLUTION STEREO CAMERA"
MISSION_NAME = "MARS EXPRESS"
MISSION_PHASE_NAME = ME_Phase_36
PROCESSING_LEVEL_ID = 4
PRODUCT_CREATION_TIME = 2023-01-26T14:39:22.000Z
PRODUCT_ID = "HG860_0000_S14.TIF"
RELEASE_ID = 0001
REVISION_ID = 0000
/* QUALITY DATA ELEMENTS */
DATA_QUALITY_ID = 1
DATA_QUALITY_DESC = "Data calculated based on original SPICE kernels"
/* TIME DATA ELEMENTS */
SPACECRAFT_CLOCK_START_COUNT = "1/0441156721.07348"
SPACECRAFT_CLOCK_STOP_COUNT = "1/0441156886.00618"
START_TIME = 2017-04-24T23:33:08.011Z
STOP_TIME = 2017-04-24T23:34:52.136Z
/* ORBITAL DATA ELEMENTS */
ASCENDING_NODE_LONGITUDE = 257.26
MAXIMUM_RESOLUTION = 0.0139
FOOTPRINT_POINT_LATITUDE = (-44.2763,-44.2725,-44.269,-44.2643, -44.2596,-44.2511,-44.2451,-44.2448, -44.2852,-44.0862,-43.8869,-43.7544, -43.5553,-43.3566,-43.2242,-43.0919, -42.9597,-42.8276,-42.5636,-42.2999, -42.0358,-41.8381,-41.5734,-41.4373, -41.304,-41.1703,-40.9062,-40.5721, -40.4366,-40.3006,-40.1656,-39.9641, -39.8293,-39.6944,-39.5611,-39.3614, -39.1575,-38.9551,-38.82,-38.6847, -38.5515,-38.4167,-38.2152,-38.0139, -37.8798,-37.6806,-37.6139,-37.6043, -37.6153,-37.6205,-37.6233,-37.625, -37.6324,-37.6326,-37.6331,-37.8288, -37.9618,-38.0962,-38.2976,-38.4323, -38.5673,-38.7016,-38.8364,-38.9708, -39.1058,-39.2403,-39.3754,-39.5773, -39.7118,-39.8459,-39.9805,-40.1156, -40.2505,-40.385,-40.5852,-40.7192, -40.9789,-41.1813,-41.3809,-41.5807, -41.7145,-41.9148,-42.0494,-42.1823, -42.3158,-42.4483,-42.5815,-42.7807, -42.9138,-43.0465,-43.2459,-43.4448, -43.5776,-43.7103,-43.8431,-43.976, -44.109,-44.242,-44.3085,-44.2763)
FOOTPRINT_POINT_LONGITUDE = (259.378,259.145,258.943,258.695, 258.462,258.075,257.826,257.811,257.783 ,257.794,257.804,257.811,257.82,257.83, 257.836,257.842,257.849,257.855,257.866 ,257.878,257.889,257.897,257.908, 257.915,257.921,257.927,257.938,257.951 ,257.955,257.96,257.965,257.971,257.975 ,257.98,257.983,257.988,257.995,258.001 ,258.005,258.009,258.013,258.016, 258.022,258.027,258.03,258.035,258.036, 258.036,258.398,258.686,258.884,259.278 ,259.553,259.568,259.575,259.569, 259.565,259.562,259.558,259.555,259.552 ,259.549,259.545,259.542,259.539, 259.536,259.532,259.527,259.523,259.52, 259.516,259.512,259.509,259.505,259.498 ,259.494,259.486,259.482,259.478, 259.473,259.47,259.465,259.463,259.459, 259.456,259.452,259.448,259.443,259.439 ,259.435,259.429,259.423,259.419, 259.415,259.41,259.406,259.402,259.397, 259.395,259.378)
ORBIT_NUMBER = 16860
ORBITAL_ECCENTRICITY = 0.578
ORBITAL_INCLINATION = 86.94
ORBITAL_SEMIMAJOR_AXIS = 8808.96
PERIAPSIS_ALTITUDE = 327.88
PERIAPSIS_ARGUMENT_ANGLE = 313.04
PERIAPSIS_TIME = 2017-04-24T23:32:01.000Z
SPACECRAFT_ORIENTATION = (0.0,1.0,0.0)
^MEX_ORIENTATION_DESC = "MEX_ORIENTATION_DESC.TXT"
SPACECRAFT_POINTING_MODE = NADIR
^MEX_POINTING_DESC = "MEX_POINTING_DESC.TXT"
RIGHT_ASCENSION = -1e+32
DECLINATION = -1e+32
OFFSET_ANGLE = -1e+32
SPACECRAFT_SOLAR_DISTANCE = 2.31015e+08
TARGET_NAME = MARS
/* CAMERA DATA ELEMENTS */
DETECTOR_TEMPERATURE = 17.7588
FOCAL_PLANE_TEMPERATURE = 8.7872
INST_CMPRS_NAME = "DISCRETE COSINE TRANSFORMATION (DCT)"
INST_CMPRS_RATIO = 9.82473
INST_CMPRS_QUALITY = 0
INST_CMPRS_QUANTZ_TBL_ID = 0
INSTRUMENT_TEMPERATURE = 11.0301
LENS_TEMPERATURE = 8.7872
MACROPIXEL_SIZE = 1
MISSING_FRAMES = 0
PIXEL_SUBSAMPLING_FLAG = N
SIGNAL_CHAIN_ID = 2
/* RADIOMETRIC DATA ELEMENTS */
BANDWIDTH = 180.0
CENTER_FILTER_WAVELENGTH = 677.0
RADIANCE_OFFSET = 2.59371
RADIANCE_SCALING_FACTOR = 0.0156292
REFLECTANCE_SCALING_FACTOR = 0.000435172
MEX:REFLECTANCE_OFFSET = 0.0722178
/* IMAGE OBJECT DEFINITIONS */
OBJECT = IMAGE
  INTERCHANGE_FORMAT = BINARY
  LINES = 31770
  LINE_SAMPLES = 6166
  SAMPLE_TYPE = UNSIGNED_INTEGER
  SAMPLE_BITS = 8
  BANDS = 1
  BAND_STORAGE_TYPE = BAND_SEQUENTIAL
  MAXIMUM = 255
  MEAN = 141.538
  MINIMUM = 1
  STANDARD_DEVIATION = 28.4061
END_OBJECT = IMAGE
/* MAP OBJECT DEFINITIONS */
OBJECT = IMAGE_MAP_PROJECTION
  ^DATA_SET_MAP_PROJECTION_CATALOG= "DSMAP.CAT"
  A_AXIS_RADIUS = 3396.0
  B_AXIS_RADIUS = 3396.0
  C_AXIS_RADIUS = 3396.0
  CENTER_LATITUDE = 0.0
  CENTER_LONGITUDE = 259.0
  COORDINATE_SYSTEM_NAME = PLANETOGRAPHIC
  COORDINATE_SYSTEM_TYPE = "BODY-FIXED ROTATING"
  EASTERNMOST_LONGITUDE = 259.575
  FIRST_STANDARD_PARALLEL = "N/A"
  LINE_FIRST_PIXEL = 1
  LINE_LAST_PIXEL = 31770
  LINE_PROJECTION_OFFSET = -178493.0
  MAP_PROJECTION_ROTATION = 0.0
  MAP_PROJECTION_TYPE = SINUSOIDAL
  MAP_RESOLUTION = 4741.71043093333
  MAP_SCALE = 0.0125
  MAXIMUM_LATITUDE = -37.6043
  MINIMUM_LATITUDE = -44.3085
  POSITIVE_LONGITUDE_DIRECTION = EAST
  REFERENCE_LATITUDE = "N/A"
  REFERENCE_LONGITUDE = "N/A"
  SAMPLE_FIRST_PIXEL = 1
  SAMPLE_LAST_PIXEL = 6166
  SAMPLE_PROJECTION_OFFSET = 4108.0
  SECOND_STANDARD_PARALLEL = "N/A"
  WESTERNMOST_LONGITUDE = 257.783
END_OBJECT = IMAGE_MAP_PROJECTION
END
