PDS_VERSION_ID = PDS3
/* FILE DATA ELEMENTS */
RECORD_TYPE = UNDEFINED
/* POINTERS TO DATA OBJECTS */
^IMAGE = ("HG860_0000_S24.TIF")
/* IDENTIFICATION DATA ELEMENTS */
DATA_SET_ID = "MEX-M-HRSC-4-REFDR-MAPPROJECT-EXT6-V4.0"
DATA_SET_NAME = "MARS EXPRESS HRSC MAP PROJECTED REFDR EXTENSION6 V4.0"
DETECTOR_ID = MEX_HRSC_S2
EVENT_TYPE = "MARS-LOCAL-STEREO-Te"
INSTRUMENT_HOST_ID = MEX
INSTRUMENT_HOST_NAME = "MARS EXPRESS"
INSTRUMENT_ID = HRSC
INSTRUMENT_NAME = "HIGH RESOLUTION STEREO CAMERA"
MISSION_NAME = "MARS EXPRESS"
MISSION_PHASE_NAME = ME_Phase_36
PROCESSING_LEVEL_ID = 4
PRODUCT_CREATION_TIME = 2023-01-26T14:39:22.000Z
PRODUCT_ID = "HG860_0000_S24.TIF"
RELEASE_ID = 0001
REVISION_ID = 0000
/* QUALITY DATA ELEMENTS */
DATA_QUALITY_ID = 1
DATA_QUALITY_DESC = "Data calculated based on original SPICE kernels"
/* TIME DATA ELEMENTS */
SPACECRAFT_CLOCK_START_COUNT = "1/0441156721.07348"
SPACECRAFT_CLOCK_STOP_COUNT = "1/0441156886.00618"
START_TIME = 2017-04-24T23:32:09.258Z
STOP_TIME = 2017-04-24T23:33:50.378Z
/* ORBITAL DATA ELEMENTS */
ASCENDING_NODE_LONGITUDE = 257.26
MAXIMUM_RESOLUTION = 0.0138
FOOTPRINT_POINT_LATITUDE = (-44.413,-44.4073,-44.4023,-44.3981, -44.3918,-44.3847,-44.3758,-44.3753, -44.3313,-44.0725,-43.7473,-43.4883, -43.229,-43.0992,-42.9045,-42.7746, -42.5796,-42.4496,-42.2489,-42.1145, -41.9804,-41.7789,-41.6458,-41.5131, -41.3832,-41.1835,-41.0494,-40.8493, -40.7157,-40.581,-40.4465,-40.3122, -40.1773,-40.0417,-39.8383,-39.6354, -39.499,-39.2966,-39.161,-39.0261, -38.8246,-38.622,-38.4868,-38.2848, -38.1493,-38.0156,-37.8793,-37.7435, -37.6757,-37.6753,-37.6787,-37.6786, -37.6823,-37.6857,-37.6913,-37.6908, -37.6909,-37.6908,-37.831,-37.9678, -38.1706,-38.3057,-38.4411,-38.576, -38.7115,-38.9146,-39.0502,-39.2531, -39.3886,-39.5237,-39.6597,-39.8636, -39.9999,-40.1355,-40.2713,-40.4077, -40.6132,-40.7508,-40.9551,-41.0885, -41.2877,-41.4217,-41.6207,-41.754, -41.8873,-42.0193,-42.1528,-42.2862, -42.4203,-42.5512,-42.7456,-43.0047, -43.3291,-43.524,-43.654,-43.7839, -43.9803,-44.3047,-44.3696,-44.413)
FOOTPRINT_POINT_LONGITUDE = (259.366,259.026,258.779,258.594, 258.348,258.101,257.823,257.808,257.785 ,257.8,257.818,257.831,257.845,257.851, 257.861,257.867,257.877,257.883,257.892 ,257.898,257.905,257.914,257.92,257.926 ,257.934,257.943,257.949,257.958, 257.963,257.969,257.974,257.979,257.984 ,257.989,257.996,258.003,258.007, 258.014,258.018,258.023,258.03,258.036, 258.04,258.047,258.05,258.055,258.058, 258.062,258.064,258.064,258.31,258.484, 258.673,258.906,259.212,259.519,259.534 ,259.541,259.537,259.534,259.53,259.527 ,259.525,259.522,259.519,259.515, 259.512,259.508,259.505,259.503,259.499 ,259.495,259.491,259.488,259.485, 259.481,259.475,259.471,259.466,259.463 ,259.46,259.457,259.454,259.451,259.448 ,259.446,259.443,259.44,259.437,259.434 ,259.429,259.423,259.414,259.409, 259.406,259.402,259.396,259.387,259.385 ,259.366)
ORBIT_NUMBER = 16860
ORBITAL_ECCENTRICITY = 0.578
ORBITAL_INCLINATION = 86.94
ORBITAL_SEMIMAJOR_AXIS = 8808.96
PERIAPSIS_ALTITUDE = 327.88
PERIAPSIS_ARGUMENT_ANGLE = 313.04
PERIAPSIS_TIME = 2017-04-24T23:32:01.000Z
SPACECRAFT_ORIENTATION = (0.0,1.0,0.0)
^MEX_ORIENTATION_DESC = "MEX_ORIENTATION_DESC.TXT"
SPACECRAFT_POINTING_MODE = NADIR
^MEX_POINTING_DESC = "MEX_POINTING_DESC.TXT"
RIGHT_ASCENSION = -1e+32
DECLINATION = -1e+32
OFFSET_ANGLE = -1e+32
SPACECRAFT_SOLAR_DISTANCE = 2.31015e+08
TARGET_NAME = MARS
/* CAMERA DATA ELEMENTS */
DETECTOR_TEMPERATURE = 18.5744
FOCAL_PLANE_TEMPERATURE = 8.7872
INST_CMPRS_NAME = "DISCRETE COSINE TRANSFORMATION (DCT)"
INST_CMPRS_RATIO = 7.91514
INST_CMPRS_QUALITY = 0
INST_CMPRS_QUANTZ_TBL_ID = 0
INSTRUMENT_TEMPERATURE = 11.0301
LENS_TEMPERATURE = 8.7872
MACROPIXEL_SIZE = 1
MISSING_FRAMES = 1
PIXEL_SUBSAMPLING_FLAG = N
SIGNAL_CHAIN_ID = 1
/* RADIOMETRIC DATA ELEMENTS */
BANDWIDTH = 178.0
CENTER_FILTER_WAVELENGTH = 679.0
RADIANCE_OFFSET = 2.3296
RADIANCE_SCALING_FACTOR = 0.015503
REFLECTANCE_SCALING_FACTOR = 0.000438153
MEX:REFLECTANCE_OFFSET = 0.0658403
/* IMAGE OBJECT DEFINITIONS */
OBJECT = IMAGE
  INTERCHANGE_FORMAT = BINARY
  LINES = 31770
  LINE_SAMPLES = 6166
  SAMPLE_TYPE = UNSIGNED_INTEGER
  SAMPLE_BITS = 8
  BANDS = 1
  BAND_STORAGE_TYPE = BAND_SEQUENTIAL
  MAXIMUM = 255
  MEAN = 136.449
  MINIMUM = 1
  STANDARD_DEVIATION = 23.9898
END_OBJECT = IMAGE
/* MAP OBJECT DEFINITIONS */
OBJECT = IMAGE_MAP_PROJECTION
  ^DATA_SET_MAP_PROJECTION_CATALOG= "DSMAP.CAT"
  A_AXIS_RADIUS = 3396.0
  B_AXIS_RADIUS = 3396.0
  C_AXIS_RADIUS = 3396.0
  CENTER_LATITUDE = 0.0
  CENTER_LONGITUDE = 259.0
  COORDINATE_SYSTEM_NAME = PLANETOGRAPHIC
  COORDINATE_SYSTEM_TYPE = "BODY-FIXED ROTATING"
  EASTERNMOST_LONGITUDE = 259.541
  FIRST_STANDARD_PARALLEL = "N/A"
  LINE_FIRST_PIXEL = 1
  LINE_LAST_PIXEL = 31770
  LINE_PROJECTION_OFFSET = -178493.0
  MAP_PROJECTION_ROTATION = 0.0
  MAP_PROJECTION_TYPE = SINUSOIDAL
  MAP_RESOLUTION = 4741.71043093333
  MAP_SCALE = 0.0125
  MAXIMUM_LATITUDE = -37.6753
  MINIMUM_LATITUDE = -44.413
  POSITIVE_LONGITUDE_DIRECTION = EAST
  REFERENCE_LATITUDE = "N/A"
  REFERENCE_LONGITUDE = "N/A"
  SAMPLE_FIRST_PIXEL = 1
  SAMPLE_LAST_PIXEL = 6166
  SAMPLE_PROJECTION_OFFSET = 4108.0
  SECOND_STANDARD_PARALLEL = "N/A"
  WESTERNMOST_LONGITUDE = 257.785
END_OBJECT = IMAGE_MAP_PROJECTION
END
