PDS_VERSION_ID = PDS3
/* FILE DATA ELEMENTS */
RECORD_TYPE = UNDEFINED
/* POINTERS TO DATA OBJECTS */
^IMAGE = ("HG862_0000_P14.TIF")
/* IDENTIFICATION DATA ELEMENTS */
DATA_SET_ID = "MEX-M-HRSC-4-REFDR-MAPPROJECT-EXT6-V4.0"
DATA_SET_NAME = "MARS EXPRESS HRSC MAP PROJECTED REFDR EXTENSION6 V4.0"
DETECTOR_ID = MEX_HRSC_P1
EVENT_TYPE = "MARS-REGIONAL-MAPPING-Im-Fl-Gl"
INSTRUMENT_HOST_ID = MEX
INSTRUMENT_HOST_NAME = "MARS EXPRESS"
INSTRUMENT_ID = HRSC
INSTRUMENT_NAME = "HIGH RESOLUTION STEREO CAMERA"
MISSION_NAME = "MARS EXPRESS"
MISSION_PHASE_NAME = ME_Phase_36
PROCESSING_LEVEL_ID = 4
PRODUCT_CREATION_TIME = 2023-01-26T14:39:22.000Z
PRODUCT_ID = "HG862_0000_P14.TIF"
RELEASE_ID = 0001
REVISION_ID = 0000
/* QUALITY DATA ELEMENTS */
DATA_QUALITY_ID = 1
DATA_QUALITY_DESC = "Data calculated based on original SPICE kernels"
/* TIME DATA ELEMENTS */
SPACECRAFT_CLOCK_START_COUNT = "1/0441207184.08261"
SPACECRAFT_CLOCK_STOP_COUNT = "1/0441207372.55278"
START_TIME = 2017-04-25T13:34:02.924Z
STOP_TIME = 2017-04-25T13:36:06.147Z
/* ORBITAL DATA ELEMENTS */
ASCENDING_NODE_LONGITUDE = 257.22
MAXIMUM_RESOLUTION = 0.0291
FOOTPRINT_POINT_LATITUDE = (-38.1573,-38.1511,-38.1462,-38.1409, -38.1354,-38.1296,-38.1235,-38.1231, -38.1786,-38.0326,-37.8864,-37.6672, -37.5212,-37.3755,-37.23,-37.0844, -36.9388,-36.7929,-36.6472,-36.502, -36.3569,-36.1392,-35.9941,-35.7043, -35.4147,-34.9806,-34.6917,-34.3321, -34.0445,-33.8292,-33.6664,-33.4949, -33.2377,-32.9774,-32.8047,-32.6356, -32.4647,-32.2931,-32.0365,-31.8652, -31.6951,-31.5257,-31.2719,-31.1014, -30.9297,-30.6762,-30.5045,-30.4208, -30.4159,-30.4255,-30.4286,-30.432, -30.4375,-30.4407,-30.4433,-30.4434, -30.444,-30.6956,-30.8684,-31.0397, -31.2125,-31.3784,-31.5474,-31.7191, -31.8889,-32.0581,-32.229,-32.402, -32.5742,-32.7481,-32.9206,-33.177, -33.3482,-33.5195,-33.6908,-33.9982, -34.2855,-34.6463,-35.0076,-35.1526, -35.4418,-35.5873,-35.8053,-35.9506, -36.0958,-36.2413,-36.4593,-36.6776, -36.8232,-36.9689,-37.1145,-37.2606, -37.4069,-37.5526,-37.6989,-37.8457, -37.9929,-38.1395,-38.2125,-38.1573)
FOOTPRINT_POINT_LONGITUDE = (55.476,55.1481,54.9112,54.6755,54.4413 ,54.2081,53.976,53.9615,53.9448,53.9473 ,53.9497,53.9533,53.9556,53.9578, 53.9599,53.9619,53.9639,53.9659,53.9678 ,53.9696,53.9713,53.9737,53.9753, 53.9783,53.981,53.9847,53.9868,53.9889, 53.9904,53.9914,53.9921,53.9928,53.9937 ,53.9952,53.996,53.9959,53.9962,53.9966 ,53.997,53.9972,53.9971,53.9968,53.9963 ,53.9962,53.9963,53.9955,53.9956, 53.9951,53.9951,54.3325,54.5027,54.6735 ,55.0484,55.3623,55.5837,55.5995, 55.6052,55.6017,55.6037,55.6041,55.6058 ,55.6011,55.5991,55.5993,55.5977, 55.5953,55.5943,55.5951,55.595,55.5964, 55.5963,55.5938,55.592,55.5903,55.5885, 55.5851,55.5814,55.5776,55.5737,55.5724 ,55.5687,55.5676,55.5655,55.5639, 55.5621,55.5605,55.5577,55.5549,55.5529 ,55.551,55.5489,55.5471,55.5455,55.5431 ,55.5412,55.5397,55.5386,55.5367, 55.5353,55.476)
ORBIT_NUMBER = 16862
ORBITAL_ECCENTRICITY = 0.578
ORBITAL_INCLINATION = 86.96
ORBITAL_SEMIMAJOR_AXIS = 8807.79
PERIAPSIS_ALTITUDE = 328.14
PERIAPSIS_ARGUMENT_ANGLE = 312.73
PERIAPSIS_TIME = 2017-04-25T13:31:25.000Z
SPACECRAFT_ORIENTATION = (0.0,1.0,0.0)
^MEX_ORIENTATION_DESC = "MEX_ORIENTATION_DESC.TXT"
SPACECRAFT_POINTING_MODE = ACROSSTRACK
^MEX_POINTING_DESC = "MEX_POINTING_DESC.TXT"
RIGHT_ASCENSION = -1e+32
DECLINATION = -1e+32
OFFSET_ANGLE = -0.4
SPACECRAFT_SOLAR_DISTANCE = 2.31126e+08
TARGET_NAME = MARS
/* CAMERA DATA ELEMENTS */
DETECTOR_TEMPERATURE = 17.351
FOCAL_PLANE_TEMPERATURE = 8.3794
INST_CMPRS_NAME = "DISCRETE COSINE TRANSFORMATION (DCT)"
INST_CMPRS_RATIO = 9.4135
INST_CMPRS_QUALITY = 0
INST_CMPRS_QUANTZ_TBL_ID = 0
INSTRUMENT_TEMPERATURE = 11.8457
LENS_TEMPERATURE = 9.195
MACROPIXEL_SIZE = 2
MISSING_FRAMES = 0
PIXEL_SUBSAMPLING_FLAG = N
SIGNAL_CHAIN_ID = 3
/* RADIOMETRIC DATA ELEMENTS */
BANDWIDTH = 174.0
CENTER_FILTER_WAVELENGTH = 675.0
RADIANCE_OFFSET = 4.80465
RADIANCE_SCALING_FACTOR = 0.0129395
REFLECTANCE_SCALING_FACTOR = 0.000371796
MEX:REFLECTANCE_OFFSET = 0.138054
/* IMAGE OBJECT DEFINITIONS */
OBJECT = IMAGE
  INTERCHANGE_FORMAT = BINARY
  LINES = 18384
  LINE_SAMPLES = 3195
  SAMPLE_TYPE = UNSIGNED_INTEGER
  SAMPLE_BITS = 8
  BANDS = 1
  BAND_STORAGE_TYPE = BAND_SEQUENTIAL
  MAXIMUM = 254
  MEAN = 163.097
  MINIMUM = 1
  STANDARD_DEVIATION = 55.3421
END_OBJECT = IMAGE
/* MAP OBJECT DEFINITIONS */
OBJECT = IMAGE_MAP_PROJECTION
  ^DATA_SET_MAP_PROJECTION_CATALOG= "DSMAP.CAT"
  A_AXIS_RADIUS = 3396.0
  B_AXIS_RADIUS = 3396.0
  C_AXIS_RADIUS = 3396.0
  CENTER_LATITUDE = 0.0
  CENTER_LONGITUDE = 55.0
  COORDINATE_SYSTEM_NAME = PLANETOGRAPHIC
  COORDINATE_SYSTEM_TYPE = "BODY-FIXED ROTATING"
  EASTERNMOST_LONGITUDE = 55.6058
  FIRST_STANDARD_PARALLEL = "N/A"
  LINE_FIRST_PIXEL = 1
  LINE_LAST_PIXEL = 18384
  LINE_PROJECTION_OFFSET = -72133.25
  MAP_PROJECTION_ROTATION = 0.0
  MAP_PROJECTION_TYPE = SINUSOIDAL
  MAP_RESOLUTION = 2370.85521546667
  MAP_SCALE = 0.025
  MAXIMUM_LATITUDE = -30.4159
  MINIMUM_LATITUDE = -38.2125
  POSITIVE_LONGITUDE_DIRECTION = EAST
  REFERENCE_LATITUDE = "N/A"
  REFERENCE_LONGITUDE = "N/A"
  SAMPLE_FIRST_PIXEL = 1
  SAMPLE_LAST_PIXEL = 3195
  SAMPLE_PROJECTION_OFFSET = 2013.75
  SECOND_STANDARD_PARALLEL = "N/A"
  WESTERNMOST_LONGITUDE = 53.9448
END_OBJECT = IMAGE_MAP_PROJECTION
END
