PDS_VERSION_ID = PDS3
/* FILE DATA ELEMENTS */
RECORD_TYPE = UNDEFINED
/* POINTERS TO DATA OBJECTS */
^IMAGE = ("HG865_0000_GR4.TIF")
/* IDENTIFICATION DATA ELEMENTS */
DATA_SET_ID = "MEX-M-HRSC-4-REFDR-MAPPROJECT-EXT6-V4.0"
DATA_SET_NAME = "MARS EXPRESS HRSC MAP PROJECTED REFDR EXTENSION6 V4.0"
DETECTOR_ID = MEX_HRSC_GREEN
EVENT_TYPE = "MARS-REGIONAL-MAPPING-Im-Fl-Gl"
INSTRUMENT_HOST_ID = MEX
INSTRUMENT_HOST_NAME = "MARS EXPRESS"
INSTRUMENT_ID = HRSC
INSTRUMENT_NAME = "HIGH RESOLUTION STEREO CAMERA"
MISSION_NAME = "MARS EXPRESS"
MISSION_PHASE_NAME = ME_Phase_36
PROCESSING_LEVEL_ID = 4
PRODUCT_CREATION_TIME = 2023-01-26T14:39:22.000Z
PRODUCT_ID = "HG865_0000_GR4.TIF"
RELEASE_ID = 0001
REVISION_ID = 0000
/* QUALITY DATA ELEMENTS */
DATA_QUALITY_ID = 1
DATA_QUALITY_DESC = "Data calculated based on original SPICE kernels"
/* TIME DATA ELEMENTS */
SPACECRAFT_CLOCK_START_COUNT = "1/0441282618.09068"
SPACECRAFT_CLOCK_STOP_COUNT = "1/0441282839.57103"
START_TIME = 2017-04-26T10:31:01.416Z
STOP_TIME = 2017-04-26T10:33:37.852Z
/* ORBITAL DATA ELEMENTS */
ASCENDING_NODE_LONGITUDE = 257.17
MAXIMUM_RESOLUTION = 0.0524
FOOTPRINT_POINT_LATITUDE = (-45.9742,-45.9621,-45.9477,-45.9246, -45.924,-45.9289,-45.73,-45.5312, -45.3322,-45.0271,-44.729,-44.332, -44.1334,-43.9348,-43.7361,-43.5376, -43.1406,-42.744,-42.5401,-42.3356, -42.1305,-41.9253,-41.7203,-41.515, -41.3113,-41.1073,-40.903,-40.6983, -40.4944,-40.2902,-40.0861,-39.882, -39.678,-39.4737,-39.2698,-38.9641, -38.7602,-38.5569,-38.3537,-38.1504, -37.9472,-37.7438,-37.5409,-37.3381, -37.0343,-36.8317,-36.6293,-36.3257, -36.1235,-35.9214,-35.8204,-35.7848, -35.7914,-35.7983,-35.8029,-35.809, -35.8091,-35.81,-36.0124,-36.3164, -36.6206,-36.8235,-37.0267,-37.2299, -37.4331,-37.6365,-37.8399,-38.0432, -38.2471,-38.4505,-38.7561,-38.96, -39.165,-39.3697,-39.6761,-39.8806, -40.0856,-40.3924,-40.6998,-40.9046, -41.2119,-41.4172,-41.7254,-42.0331, -42.2385,-42.4439,-42.7521,-43.0505, -43.3491,-43.5481,-43.847,-44.1458, -44.345,-44.7429,-45.042,-45.2417, -45.5477,-45.8465,-45.9458,-45.9742)
FOOTPRINT_POINT_LONGITUDE = (106.177,105.696,105.201,104.527,104.51 ,104.423,104.443,104.461,104.482, 104.514,104.539,104.568,104.585,104.602 ,104.619,104.634,104.666,104.696, 104.711,104.722,104.74,104.76,104.778, 104.8,104.804,104.811,104.824,104.841, 104.85,104.862,104.875,104.887,104.899, 104.916,104.928,104.947,104.96,104.97, 104.978,104.988,104.999,105.012,105.021 ,105.03,105.04,105.049,105.057,105.07, 105.079,105.086,105.091,105.092,105.395 ,105.819,106.127,106.657,106.672, 106.676,106.668,106.656,106.644,106.636 ,106.628,106.619,106.611,106.602, 106.594,106.586,106.577,106.568,106.556 ,106.547,106.535,106.525,106.511, 106.501,106.49,106.475,106.459,106.449, 106.434,106.423,106.405,106.389,106.378 ,106.366,106.349,106.333,106.315, 106.304,106.286,106.268,106.256,106.233 ,106.214,106.201,106.18,106.162,106.157 ,106.177)
ORBIT_NUMBER = 16865
ORBITAL_ECCENTRICITY = 0.578
ORBITAL_INCLINATION = 86.95
ORBITAL_SEMIMAJOR_AXIS = 8808.24
PERIAPSIS_ALTITUDE = 327.67
PERIAPSIS_ARGUMENT_ANGLE = 312.19
PERIAPSIS_TIME = 2017-04-26T10:30:31.000Z
SPACECRAFT_ORIENTATION = (0.0,1.0,0.0)
^MEX_ORIENTATION_DESC = "MEX_ORIENTATION_DESC.TXT"
SPACECRAFT_POINTING_MODE = ACROSSTRACK
^MEX_POINTING_DESC = "MEX_POINTING_DESC.TXT"
RIGHT_ASCENSION = -1e+32
DECLINATION = -1e+32
OFFSET_ANGLE = 1.145
SPACECRAFT_SOLAR_DISTANCE = 2.31292e+08
TARGET_NAME = MARS
/* CAMERA DATA ELEMENTS */
DETECTOR_TEMPERATURE = 18.7783
FOCAL_PLANE_TEMPERATURE = 10.2145
INST_CMPRS_NAME = "DISCRETE COSINE TRANSFORMATION (DCT)"
INST_CMPRS_RATIO = 9.39341
INST_CMPRS_QUALITY = 0
INST_CMPRS_QUANTZ_TBL_ID = 0
INSTRUMENT_TEMPERATURE = 13.0691
LENS_TEMPERATURE = 10.8262
MACROPIXEL_SIZE = 4
MISSING_FRAMES = 1
PIXEL_SUBSAMPLING_FLAG = N
SIGNAL_CHAIN_ID = 2
/* RADIOMETRIC DATA ELEMENTS */
BANDWIDTH = 88.0
CENTER_FILTER_WAVELENGTH = 538.0
RADIANCE_OFFSET = 1.22617
RADIANCE_SCALING_FACTOR = 0.00583892
REFLECTANCE_SCALING_FACTOR = 0.000268933
MEX:REFLECTANCE_OFFSET = 0.0564759
/* IMAGE OBJECT DEFINITIONS */
OBJECT = IMAGE
  INTERCHANGE_FORMAT = BINARY
  LINES = 12109
  LINE_SAMPLES = 1954
  SAMPLE_TYPE = UNSIGNED_INTEGER
  SAMPLE_BITS = 8
  BANDS = 1
  BAND_STORAGE_TYPE = BAND_SEQUENTIAL
  MAXIMUM = 255
  MEAN = 130.582
  MINIMUM = 1
  STANDARD_DEVIATION = 22.3698
END_OBJECT = IMAGE
/* MAP OBJECT DEFINITIONS */
OBJECT = IMAGE_MAP_PROJECTION
  ^DATA_SET_MAP_PROJECTION_CATALOG= "DSMAP.CAT"
  A_AXIS_RADIUS = 3396.0
  B_AXIS_RADIUS = 3396.0
  C_AXIS_RADIUS = 3396.0
  CENTER_LATITUDE = 0.0
  CENTER_LONGITUDE = 106.0
  COORDINATE_SYSTEM_NAME = PLANETOGRAPHIC
  COORDINATE_SYSTEM_TYPE = "BODY-FIXED ROTATING"
  EASTERNMOST_LONGITUDE = 106.676
  FIRST_STANDARD_PARALLEL = "N/A"
  LINE_FIRST_PIXEL = 1
  LINE_LAST_PIXEL = 12109
  LINE_PROJECTION_OFFSET = -42415.375
  MAP_PROJECTION_ROTATION = 0.0
  MAP_PROJECTION_TYPE = SINUSOIDAL
  MAP_RESOLUTION = 1185.42760773333
  MAP_SCALE = 0.05
  MAXIMUM_LATITUDE = -35.7848
  MINIMUM_LATITUDE = -45.9742
  POSITIVE_LONGITUDE_DIRECTION = EAST
  REFERENCE_LATITUDE = "N/A"
  REFERENCE_LONGITUDE = "N/A"
  SAMPLE_FIRST_PIXEL = 1
  SAMPLE_LAST_PIXEL = 1954
  SAMPLE_PROJECTION_OFFSET = 1306.875
  SECOND_STANDARD_PARALLEL = "N/A"
  WESTERNMOST_LONGITUDE = 104.423
END_OBJECT = IMAGE_MAP_PROJECTION
END
