PDS_VERSION_ID = PDS3
/* FILE DATA ELEMENTS */
RECORD_TYPE = UNDEFINED
/* POINTERS TO DATA OBJECTS */
^IMAGE = ("HG865_0000_RE4.TIF")
/* IDENTIFICATION DATA ELEMENTS */
DATA_SET_ID = "MEX-M-HRSC-4-REFDR-MAPPROJECT-EXT6-V4.0"
DATA_SET_NAME = "MARS EXPRESS HRSC MAP PROJECTED REFDR EXTENSION6 V4.0"
DETECTOR_ID = MEX_HRSC_RED
EVENT_TYPE = "MARS-REGIONAL-MAPPING-Im-Fl-Gl"
INSTRUMENT_HOST_ID = MEX
INSTRUMENT_HOST_NAME = "MARS EXPRESS"
INSTRUMENT_ID = HRSC
INSTRUMENT_NAME = "HIGH RESOLUTION STEREO CAMERA"
MISSION_NAME = "MARS EXPRESS"
MISSION_PHASE_NAME = ME_Phase_36
PROCESSING_LEVEL_ID = 4
PRODUCT_CREATION_TIME = 2023-01-26T14:39:22.000Z
PRODUCT_ID = "HG865_0000_RE4.TIF"
RELEASE_ID = 0001
REVISION_ID = 0000
/* QUALITY DATA ELEMENTS */
DATA_QUALITY_ID = 1
DATA_QUALITY_DESC = "Data calculated based on original SPICE kernels"
/* TIME DATA ELEMENTS */
SPACECRAFT_CLOCK_START_COUNT = "1/0441282618.09068"
SPACECRAFT_CLOCK_STOP_COUNT = "1/0441282839.57103"
START_TIME = 2017-04-26T10:30:31.411Z
STOP_TIME = 2017-04-26T10:33:06.106Z
/* ORBITAL DATA ELEMENTS */
ASCENDING_NODE_LONGITUDE = 257.17
MAXIMUM_RESOLUTION = 0.0547
FOOTPRINT_POINT_LATITUDE = (-46.0962,-46.0572,-46.0141,-45.951, -45.9494,-45.89,-45.693,-45.4958, -45.1061,-44.9094,-44.7098,-44.5092, -44.3113,-44.1135,-43.916,-43.6197, -43.3229,-43.0256,-42.8273,-42.6292, -42.4291,-42.036,-41.6476,-41.3435, -41.1409,-40.9421,-40.7452,-40.5402, -40.3343,-40.1293,-39.9239,-39.7189, -39.4144,-39.2088,-39.0045,-38.6975, -38.4919,-38.1822,-37.8739,-37.6706, -37.4642,-37.2565,-36.946,-36.74, -36.5344,-36.3282,-36.1225,-35.9164, -35.8136,-35.7317,-35.7607,-35.8037, -35.8282,-35.8534,-35.8543,-35.8555, -36.0621,-36.3713,-36.6814,-36.9905, -37.1967,-37.5067,-37.7134,-37.9213, -38.2304,-38.5426,-38.8538,-39.1586, -39.3623,-39.5695,-39.7737,-39.9782, -40.1847,-40.4947,-40.701,-40.9042, -41.2026,-41.4024,-41.5992,-41.7971, -41.9972,-42.2954,-42.4942,-42.6933, -42.8925,-43.0915,-43.2899,-43.4886, -43.6877,-43.8851,-44.0837,-44.3816, -44.5799,-44.7813,-45.0801,-45.3751, -45.6726,-45.871,-45.9746,-46.0962)
FOOTPRINT_POINT_LONGITUDE = (106.166,105.683,105.186,104.511, 104.494,104.413,104.432,104.451,104.494 ,104.513,104.528,104.542,104.559, 104.576,104.593,104.618,104.642,104.666 ,104.681,104.697,104.709,104.743, 104.782,104.795,104.803,104.816,104.832 ,104.843,104.856,104.869,104.882, 104.895,104.918,104.929,104.943,104.962 ,104.973,104.988,105.004,105.017, 105.026,105.034,105.046,105.056,105.065 ,105.074,105.083,105.091,105.096, 105.099,105.484,105.957,106.284,106.634 ,106.648,106.652,106.645,106.633, 106.621,106.609,106.601,106.589,106.58, 106.572,106.559,106.547,106.535,106.519 ,106.509,106.5,106.49,106.48,106.47, 106.456,106.446,106.436,106.421,106.411 ,106.4,106.389,106.379,106.364,106.353, 106.342,106.332,106.321,106.309,106.298 ,106.287,106.275,106.264,106.246, 106.234,106.223,106.206,106.186,106.168 ,106.155,106.151,106.166)
ORBIT_NUMBER = 16865
ORBITAL_ECCENTRICITY = 0.578
ORBITAL_INCLINATION = 86.95
ORBITAL_SEMIMAJOR_AXIS = 8808.24
PERIAPSIS_ALTITUDE = 327.67
PERIAPSIS_ARGUMENT_ANGLE = 312.19
PERIAPSIS_TIME = 2017-04-26T10:30:31.000Z
SPACECRAFT_ORIENTATION = (0.0,1.0,0.0)
^MEX_ORIENTATION_DESC = "MEX_ORIENTATION_DESC.TXT"
SPACECRAFT_POINTING_MODE = ACROSSTRACK
^MEX_POINTING_DESC = "MEX_POINTING_DESC.TXT"
RIGHT_ASCENSION = -1e+32
DECLINATION = -1e+32
OFFSET_ANGLE = 1.145
SPACECRAFT_SOLAR_DISTANCE = 2.31292e+08
TARGET_NAME = MARS
/* CAMERA DATA ELEMENTS */
DETECTOR_TEMPERATURE = 19.39
FOCAL_PLANE_TEMPERATURE = 10.2145
INST_CMPRS_NAME = "DISCRETE COSINE TRANSFORMATION (DCT)"
INST_CMPRS_RATIO = 10.2819
INST_CMPRS_QUALITY = 0
INST_CMPRS_QUANTZ_TBL_ID = 0
INSTRUMENT_TEMPERATURE = 13.0691
LENS_TEMPERATURE = 10.8262
MACROPIXEL_SIZE = 4
MISSING_FRAMES = 0
PIXEL_SUBSAMPLING_FLAG = N
SIGNAL_CHAIN_ID = 2
/* RADIOMETRIC DATA ELEMENTS */
BANDWIDTH = 48.0
CENTER_FILTER_WAVELENGTH = 748.0
RADIANCE_OFFSET = 1.0451
RADIANCE_SCALING_FACTOR = 0.00649361
REFLECTANCE_SCALING_FACTOR = 0.000792746
MEX:REFLECTANCE_OFFSET = 0.127587
/* IMAGE OBJECT DEFINITIONS */
OBJECT = IMAGE
  INTERCHANGE_FORMAT = BINARY
  LINES = 12109
  LINE_SAMPLES = 1954
  SAMPLE_TYPE = UNSIGNED_INTEGER
  SAMPLE_BITS = 8
  BANDS = 1
  BAND_STORAGE_TYPE = BAND_SEQUENTIAL
  MAXIMUM = 255
  MEAN = 112.704
  MINIMUM = 1
  STANDARD_DEVIATION = 24.8175
END_OBJECT = IMAGE
/* MAP OBJECT DEFINITIONS */
OBJECT = IMAGE_MAP_PROJECTION
  ^DATA_SET_MAP_PROJECTION_CATALOG= "DSMAP.CAT"
  A_AXIS_RADIUS = 3396.0
  B_AXIS_RADIUS = 3396.0
  C_AXIS_RADIUS = 3396.0
  CENTER_LATITUDE = 0.0
  CENTER_LONGITUDE = 106.0
  COORDINATE_SYSTEM_NAME = PLANETOGRAPHIC
  COORDINATE_SYSTEM_TYPE = "BODY-FIXED ROTATING"
  EASTERNMOST_LONGITUDE = 106.652
  FIRST_STANDARD_PARALLEL = "N/A"
  LINE_FIRST_PIXEL = 1
  LINE_LAST_PIXEL = 12109
  LINE_PROJECTION_OFFSET = -42415.375
  MAP_PROJECTION_ROTATION = 0.0
  MAP_PROJECTION_TYPE = SINUSOIDAL
  MAP_RESOLUTION = 1185.42760773333
  MAP_SCALE = 0.05
  MAXIMUM_LATITUDE = -35.7317
  MINIMUM_LATITUDE = -46.0962
  POSITIVE_LONGITUDE_DIRECTION = EAST
  REFERENCE_LATITUDE = "N/A"
  REFERENCE_LONGITUDE = "N/A"
  SAMPLE_FIRST_PIXEL = 1
  SAMPLE_LAST_PIXEL = 1954
  SAMPLE_PROJECTION_OFFSET = 1306.875
  SECOND_STANDARD_PARALLEL = "N/A"
  WESTERNMOST_LONGITUDE = 104.413
END_OBJECT = IMAGE_MAP_PROJECTION
END
