PDS_VERSION_ID = PDS3
/* FILE DATA ELEMENTS */
RECORD_TYPE = UNDEFINED
/* POINTERS TO DATA OBJECTS */
^IMAGE = ("HG871_0000_S24.TIF")
/* IDENTIFICATION DATA ELEMENTS */
DATA_SET_ID = "MEX-M-HRSC-4-REFDR-MAPPROJECT-EXT6-V4.0"
DATA_SET_NAME = "MARS EXPRESS HRSC MAP PROJECTED REFDR EXTENSION6 V4.0"
DETECTOR_ID = MEX_HRSC_S2
EVENT_TYPE = "MARS-LOCAL-STEREO-Fl-Gl-Pf"
INSTRUMENT_HOST_ID = MEX
INSTRUMENT_HOST_NAME = "MARS EXPRESS"
INSTRUMENT_ID = HRSC
INSTRUMENT_NAME = "HIGH RESOLUTION STEREO CAMERA"
MISSION_NAME = "MARS EXPRESS"
MISSION_PHASE_NAME = ME_Phase_36
PROCESSING_LEVEL_ID = 4
PRODUCT_CREATION_TIME = 2023-01-26T14:39:22.000Z
PRODUCT_ID = "HG871_0000_S24.TIF"
RELEASE_ID = 0001
REVISION_ID = 0000
/* QUALITY DATA ELEMENTS */
DATA_QUALITY_ID = 1
DATA_QUALITY_DESC = "Data calculated based on original SPICE kernels"
/* TIME DATA ELEMENTS */
SPACECRAFT_CLOCK_START_COUNT = "1/0441433670.09045"
SPACECRAFT_CLOCK_STOP_COUNT = "1/0441433803.26326"
START_TIME = 2017-04-28T04:27:58.314Z
STOP_TIME = 2017-04-28T04:29:10.431Z
/* ORBITAL DATA ELEMENTS */
ASCENDING_NODE_LONGITUDE = 257.06
MAXIMUM_RESOLUTION = 0.0137
FOOTPRINT_POINT_LATITUDE = (-49.5602,-49.5488,-49.5365,-49.5233, -49.5091,-49.494,-49.4738,-49.4727, -49.4151,-49.3216,-49.1816,-49.0875, -48.9466,-48.8527,-48.712,-48.6186, -48.5253,-48.4312,-48.2904,-48.1967, -48.1025,-47.9613,-47.82,-47.6791, -47.585,-47.444,-47.3502,-47.2088, -47.1144,-47.02,-46.9254,-46.8307, -46.6889,-46.5938,-46.4991,-46.3569, -46.1699,-45.9871,-45.8499,-45.6672, -45.4843,-45.3891,-45.2461,-45.1526, -45.0562,-44.9049,-44.7605,-44.7128, -44.6997,-44.7075,-44.7141,-44.7218, -44.7292,-44.7439,-44.7548,-44.7667, -44.7754,-44.7772,-44.7792,-44.8755, -44.9733,-45.0703,-45.2155,-45.3117, -45.4547,-45.5968,-45.7809,-45.9206, -46.0134,-46.2448,-46.3843,-46.4792, -46.5742,-46.7164,-46.8105,-46.9516, -47.046,-47.1405,-47.2348,-47.375, -47.5173,-47.6121,-47.7065,-47.801, -47.8958,-47.991,-48.1311,-48.2247, -48.3193,-48.46,-48.5539,-48.6479, -48.7422,-48.8829,-48.977,-49.1623, -49.3015,-49.4432,-49.4903,-49.5602)
FOOTPRINT_POINT_LONGITUDE = (213.365,213.096,212.825,212.552, 212.279,212.005,211.66,211.642,211.599, 211.608,211.622,211.631,211.644,211.653 ,211.666,211.675,211.684,211.693, 211.706,211.714,211.723,211.735,211.747 ,211.76,211.768,211.78,211.788,211.8, 211.808,211.815,211.823,211.83,211.841, 211.848,211.855,211.866,211.88,211.894, 211.904,211.917,211.931,211.937,211.946 ,211.954,211.959,211.963,211.972, 211.975,211.976,212.121,212.251,212.396 ,212.541,212.846,213.085,213.371, 213.577,213.592,213.6,213.596,213.591, 213.587,213.581,213.577,213.571,213.565 ,213.557,213.55,213.546,213.536,213.529 ,213.525,213.521,213.515,213.51,213.504 ,213.5,213.495,213.491,213.485,213.478, 213.473,213.469,213.464,213.46,213.455, 213.448,213.444,213.439,213.432,213.427 ,213.423,213.418,213.411,213.406, 213.396,213.389,213.382,213.379, 213.365)
ORBIT_NUMBER = 16871
ORBITAL_ECCENTRICITY = 0.578
ORBITAL_INCLINATION = 86.97
ORBITAL_SEMIMAJOR_AXIS = 8801.5
PERIAPSIS_ALTITUDE = 327.67
PERIAPSIS_ARGUMENT_ANGLE = 311.17
PERIAPSIS_TIME = 2017-04-28T04:28:40.000Z
SPACECRAFT_ORIENTATION = (0.0,1.0,0.0)
^MEX_ORIENTATION_DESC = "MEX_ORIENTATION_DESC.TXT"
SPACECRAFT_POINTING_MODE = ACROSSTRACK
^MEX_POINTING_DESC = "MEX_POINTING_DESC.TXT"
RIGHT_ASCENSION = -1e+32
DECLINATION = -1e+32
OFFSET_ANGLE = 0.35
SPACECRAFT_SOLAR_DISTANCE = 2.31623e+08
TARGET_NAME = MARS
/* CAMERA DATA ELEMENTS */
DETECTOR_TEMPERATURE = 16.9432
FOCAL_PLANE_TEMPERATURE = 8.7872
INST_CMPRS_NAME = "DISCRETE COSINE TRANSFORMATION (DCT)"
INST_CMPRS_RATIO = 6.4141
INST_CMPRS_QUALITY = 0
INST_CMPRS_QUANTZ_TBL_ID = 0
INSTRUMENT_TEMPERATURE = 11.4379
LENS_TEMPERATURE = 8.7872
MACROPIXEL_SIZE = 1
MISSING_FRAMES = 0
PIXEL_SUBSAMPLING_FLAG = N
SIGNAL_CHAIN_ID = 1
/* RADIOMETRIC DATA ELEMENTS */
BANDWIDTH = 178.0
CENTER_FILTER_WAVELENGTH = 679.0
RADIANCE_OFFSET = 2.87165
RADIANCE_SCALING_FACTOR = 0.0190278
REFLECTANCE_SCALING_FACTOR = 0.00054061
MEX:REFLECTANCE_OFFSET = 0.081588
/* IMAGE OBJECT DEFINITIONS */
OBJECT = IMAGE
  INTERCHANGE_FORMAT = BINARY
  LINES = 22617
  LINE_SAMPLES = 6308
  SAMPLE_TYPE = UNSIGNED_INTEGER
  SAMPLE_BITS = 8
  BANDS = 1
  BAND_STORAGE_TYPE = BAND_SEQUENTIAL
  MAXIMUM = 255
  MEAN = 121.723
  MINIMUM = 1
  STANDARD_DEVIATION = 25.7297
END_OBJECT = IMAGE
/* MAP OBJECT DEFINITIONS */
OBJECT = IMAGE_MAP_PROJECTION
  ^DATA_SET_MAP_PROJECTION_CATALOG= "DSMAP.CAT"
  A_AXIS_RADIUS = 3396.0
  B_AXIS_RADIUS = 3396.0
  C_AXIS_RADIUS = 3396.0
  CENTER_LATITUDE = 0.0
  CENTER_LONGITUDE = 213.0
  COORDINATE_SYSTEM_NAME = PLANETOGRAPHIC
  COORDINATE_SYSTEM_TYPE = "BODY-FIXED ROTATING"
  EASTERNMOST_LONGITUDE = 213.6
  FIRST_STANDARD_PARALLEL = "N/A"
  LINE_FIRST_PIXEL = 1
  LINE_LAST_PIXEL = 22617
  LINE_PROJECTION_OFFSET = -211957.0
  MAP_PROJECTION_ROTATION = 0.0
  MAP_PROJECTION_TYPE = SINUSOIDAL
  MAP_RESOLUTION = 4741.71043093333
  MAP_SCALE = 0.0125
  MAXIMUM_LATITUDE = -44.6997
  MINIMUM_LATITUDE = -49.5602
  POSITIVE_LONGITUDE_DIRECTION = EAST
  REFERENCE_LATITUDE = "N/A"
  REFERENCE_LONGITUDE = "N/A"
  SAMPLE_FIRST_PIXEL = 1
  SAMPLE_LAST_PIXEL = 6308
  SAMPLE_PROJECTION_OFFSET = 4282.0
  SECOND_STANDARD_PARALLEL = "N/A"
  WESTERNMOST_LONGITUDE = 211.599
END_OBJECT = IMAGE_MAP_PROJECTION
END
