PDS_VERSION_ID = PDS3
/* FILE DATA ELEMENTS */
RECORD_TYPE = UNDEFINED
/* POINTERS TO DATA OBJECTS */
^IMAGE = ("HG872_0000_GR4.TIF")
/* IDENTIFICATION DATA ELEMENTS */
DATA_SET_ID = "MEX-M-HRSC-4-REFDR-MAPPROJECT-EXT6-V4.0"
DATA_SET_NAME = "MARS EXPRESS HRSC MAP PROJECTED REFDR EXTENSION6 V4.0"
DETECTOR_ID = MEX_HRSC_GREEN
EVENT_TYPE = "MARS-REGIONAL-MAPPING-Im-Eo"
INSTRUMENT_HOST_ID = MEX
INSTRUMENT_HOST_NAME = "MARS EXPRESS"
INSTRUMENT_ID = HRSC
INSTRUMENT_NAME = "HIGH RESOLUTION STEREO CAMERA"
MISSION_NAME = "MARS EXPRESS"
MISSION_PHASE_NAME = ME_Phase_36
PROCESSING_LEVEL_ID = 4
PRODUCT_CREATION_TIME = 2023-01-26T14:39:22.000Z
PRODUCT_ID = "HG872_0000_GR4.TIF"
RELEASE_ID = 0001
REVISION_ID = 0000
/* QUALITY DATA ELEMENTS */
DATA_QUALITY_ID = 1
DATA_QUALITY_DESC = "Data calculated based on original SPICE kernels"
/* TIME DATA ELEMENTS */
SPACECRAFT_CLOCK_START_COUNT = "1/0441458758.09065"
SPACECRAFT_CLOCK_STOP_COUNT = "1/0441458953.49247"
START_TIME = 2017-04-28T11:26:42.813Z
STOP_TIME = 2017-04-28T11:28:55.662Z
/* ORBITAL DATA ELEMENTS */
ASCENDING_NODE_LONGITUDE = 257.04
MAXIMUM_RESOLUTION = 0.0518
FOOTPRINT_POINT_LATITUDE = (-55.8869,-55.8771,-55.8687,-55.8468, -55.825,-55.8243,-55.8327,-55.6529, -55.3836,-55.2094,-55.0348,-54.7731, -54.5987,-54.4245,-54.1632,-53.9023, -53.7288,-53.5546,-53.2929,-53.1184, -52.9449,-52.6831,-52.5086,-52.334, -52.1594,-51.9847,-51.8096,-51.5469, -51.3715,-51.1962,-50.9342,-50.6719, -50.41,-50.2353,-50.0607,-49.886, -49.7113,-49.5366,-49.362,-49.1874, -48.8449,-48.5914,-48.2537,-47.9171, -47.5791,-47.4051,-47.2313,-47.144, -47.1256,-47.1348,-47.1481,-47.1579, -47.1637,-47.1639,-47.1649,-47.4274, -47.6019,-47.7712,-48.0248,-48.1939, -48.6162,-48.8702,-49.0395,-49.2133, -49.4761,-49.6513,-49.8262,-50.0013, -50.1767,-50.4389,-50.6138,-50.7891, -50.9644,-51.1396,-51.3155,-51.4912, -51.7548,-51.9301,-52.1051,-52.2803, -52.543,-52.7182,-52.8933,-53.0684, -53.2436,-53.4186,-53.5932,-53.7672, -54.0296,-54.2046,-54.3795,-54.6414, -54.8166,-55.0792,-55.2541,-55.4285, -55.6073,-55.7886,-55.8789,-55.8869)
FOOTPRINT_POINT_LONGITUDE = (111.838,111.436,111.132,110.435, 109.838,109.819,109.8,109.823,109.857, 109.878,109.899,109.93,109.951,109.97, 109.999,110.026,110.044,110.062,110.088 ,110.106,110.122,110.147,110.164,110.18 ,110.197,110.213,110.229,110.253, 110.269,110.284,110.306,110.327,110.348 ,110.362,110.375,110.388,110.401, 110.413,110.426,110.438,110.461,110.478 ,110.5,110.52,110.541,110.552,110.561, 110.566,110.567,110.891,111.42,111.891, 112.223,112.239,112.245,112.237,112.232 ,112.227,112.219,112.213,112.195, 112.187,112.182,112.177,112.168,112.162 ,112.155,112.148,112.143,112.131, 112.123,112.117,112.111,112.104,112.101 ,112.097,112.09,112.084,112.076,112.069 ,112.058,112.051,112.044,112.036, 112.029,112.021,112.012,111.998,111.986 ,111.978,111.969,111.954,111.948, 111.936,111.928,111.917,111.905,111.9, 111.895,111.838)
ORBIT_NUMBER = 16872
ORBITAL_ECCENTRICITY = 0.578
ORBITAL_INCLINATION = 86.95
ORBITAL_SEMIMAJOR_AXIS = 8806.06
PERIAPSIS_ALTITUDE = 327.59
PERIAPSIS_ARGUMENT_ANGLE = 311.0
PERIAPSIS_TIME = 2017-04-28T11:28:24.000Z
SPACECRAFT_ORIENTATION = (0.0,1.0,0.0)
^MEX_ORIENTATION_DESC = "MEX_ORIENTATION_DESC.TXT"
SPACECRAFT_POINTING_MODE = ACROSSTRACK
^MEX_POINTING_DESC = "MEX_POINTING_DESC.TXT"
RIGHT_ASCENSION = -1e+32
DECLINATION = -1e+32
OFFSET_ANGLE = -0.35
SPACECRAFT_SOLAR_DISTANCE = 2.31679e+08
TARGET_NAME = MARS
/* CAMERA DATA ELEMENTS */
DETECTOR_TEMPERATURE = 17.9627
FOCAL_PLANE_TEMPERATURE = 7.7677
INST_CMPRS_NAME = "DISCRETE COSINE TRANSFORMATION (DCT)"
INST_CMPRS_RATIO = 14.3929
INST_CMPRS_QUALITY = 0
INST_CMPRS_QUANTZ_TBL_ID = 0
INSTRUMENT_TEMPERATURE = 11.234
LENS_TEMPERATURE = 8.9911
MACROPIXEL_SIZE = 4
MISSING_FRAMES = 0
PIXEL_SUBSAMPLING_FLAG = N
SIGNAL_CHAIN_ID = 2
/* RADIOMETRIC DATA ELEMENTS */
BANDWIDTH = 88.0
CENTER_FILTER_WAVELENGTH = 538.0
RADIANCE_OFFSET = 1.24077
RADIANCE_SCALING_FACTOR = 0.00435057
REFLECTANCE_SCALING_FACTOR = 0.000201051
MEX:REFLECTANCE_OFFSET = 0.0573391
/* IMAGE OBJECT DEFINITIONS */
OBJECT = IMAGE
  INTERCHANGE_FORMAT = BINARY
  LINES = 10391
  LINE_SAMPLES = 1812
  SAMPLE_TYPE = UNSIGNED_INTEGER
  SAMPLE_BITS = 8
  BANDS = 1
  BAND_STORAGE_TYPE = BAND_SEQUENTIAL
  MAXIMUM = 255
  MEAN = 99.219
  MINIMUM = 1
  STANDARD_DEVIATION = 28.1802
END_OBJECT = IMAGE
/* MAP OBJECT DEFINITIONS */
OBJECT = IMAGE_MAP_PROJECTION
  ^DATA_SET_MAP_PROJECTION_CATALOG= "DSMAP.CAT"
  A_AXIS_RADIUS = 3396.0
  B_AXIS_RADIUS = 3396.0
  C_AXIS_RADIUS = 3396.0
  CENTER_LATITUDE = 0.0
  CENTER_LONGITUDE = 111.0
  COORDINATE_SYSTEM_NAME = PLANETOGRAPHIC
  COORDINATE_SYSTEM_TYPE = "BODY-FIXED ROTATING"
  EASTERNMOST_LONGITUDE = 112.245
  FIRST_STANDARD_PARALLEL = "N/A"
  LINE_FIRST_PIXEL = 1
  LINE_LAST_PIXEL = 10391
  LINE_PROJECTION_OFFSET = -55872.375
  MAP_PROJECTION_ROTATION = 0.0
  MAP_PROJECTION_TYPE = SINUSOIDAL
  MAP_RESOLUTION = 1185.42760773333
  MAP_SCALE = 0.05
  MAXIMUM_LATITUDE = -47.1256
  MINIMUM_LATITUDE = -55.8869
  POSITIVE_LONGITUDE_DIRECTION = EAST
  REFERENCE_LATITUDE = "N/A"
  REFERENCE_LONGITUDE = "N/A"
  SAMPLE_FIRST_PIXEL = 1
  SAMPLE_LAST_PIXEL = 1812
  SAMPLE_PROJECTION_OFFSET = 808.125
  SECOND_STANDARD_PARALLEL = "N/A"
  WESTERNMOST_LONGITUDE = 109.8
END_OBJECT = IMAGE_MAP_PROJECTION
END
