PDS_VERSION_ID = PDS3
/* FILE DATA ELEMENTS */
RECORD_TYPE = UNDEFINED
/* POINTERS TO DATA OBJECTS */
^IMAGE = ("HG872_0000_RE4.TIF")
/* IDENTIFICATION DATA ELEMENTS */
DATA_SET_ID = "MEX-M-HRSC-4-REFDR-MAPPROJECT-EXT6-V4.0"
DATA_SET_NAME = "MARS EXPRESS HRSC MAP PROJECTED REFDR EXTENSION6 V4.0"
DETECTOR_ID = MEX_HRSC_RED
EVENT_TYPE = "MARS-REGIONAL-MAPPING-Im-Eo"
INSTRUMENT_HOST_ID = MEX
INSTRUMENT_HOST_NAME = "MARS EXPRESS"
INSTRUMENT_ID = HRSC
INSTRUMENT_NAME = "HIGH RESOLUTION STEREO CAMERA"
MISSION_NAME = "MARS EXPRESS"
MISSION_PHASE_NAME = ME_Phase_36
PROCESSING_LEVEL_ID = 4
PRODUCT_CREATION_TIME = 2023-01-26T14:39:22.000Z
PRODUCT_ID = "HG872_0000_RE4.TIF"
RELEASE_ID = 0001
REVISION_ID = 0000
/* QUALITY DATA ELEMENTS */
DATA_QUALITY_ID = 1
DATA_QUALITY_DESC = "Data calculated based on original SPICE kernels"
/* TIME DATA ELEMENTS */
SPACECRAFT_CLOCK_START_COUNT = "1/0441458758.09065"
SPACECRAFT_CLOCK_STOP_COUNT = "1/0441458953.49247"
START_TIME = 2017-04-28T11:26:11.914Z
STOP_TIME = 2017-04-28T11:28:26.442Z
/* ORBITAL DATA ELEMENTS */
ASCENDING_NODE_LONGITUDE = 257.04
MAXIMUM_RESOLUTION = 0.0542
FOOTPRINT_POINT_LATITUDE = (-55.9593,-55.9535,-55.9488,-55.9431, -55.9364,-55.9288,-55.9204,-55.9198, -55.8611,-55.6859,-55.5119,-55.2509, -54.989,-54.7276,-54.5531,-54.3768, -54.1999,-53.9344,-53.7507,-53.5708, -53.2259,-53.0492,-52.8763,-52.7047, -52.5328,-52.2752,-52.0173,-51.6797, -51.2544,-50.911,-50.7389,-50.5664, -50.3926,-50.2195,-50.0458,-49.7852, -49.612,-49.3507,-49.0894,-48.9152, -48.6538,-48.4805,-48.3066,-48.041, -47.8647,-47.6901,-47.5171,-47.2557, -47.1672,-47.1555,-47.16,-47.1657, -47.1677,-47.169,-47.169,-47.1698, -47.3445,-47.6067,-47.781,-47.9563, -48.1319,-48.3964,-48.5728,-48.7484, -48.922,-49.1825,-49.3567,-49.53, -49.7919,-49.9665,-50.2276,-50.4906, -50.6652,-51.0104,-51.1827,-51.5231, -51.951,-52.1241,-52.2965,-52.469, -52.6411,-52.8133,-52.9853,-53.3287, -53.5019,-53.6839,-53.8643,-54.0408, -54.2176,-54.3955,-54.5745,-54.7495, -54.9252,-55.1,-55.2759,-55.4554, -55.6328,-55.8058,-55.8925,-55.9593)
FOOTPRINT_POINT_LONGITUDE = (111.863,111.351,111.038,110.727, 110.417,110.109,109.801,109.782,109.77, 109.793,109.816,109.849,109.881,109.913 ,109.934,109.954,109.974,110.004, 110.022,110.041,110.078,110.095,110.112 ,110.129,110.146,110.171,110.195, 110.228,110.267,110.296,110.311,110.325 ,110.339,110.353,110.367,110.387,110.4, 110.419,110.438,110.45,110.468,110.48, 110.491,110.508,110.519,110.53,110.541, 110.557,110.562,110.563,110.873,111.357 ,111.641,112.229,112.245,112.25,112.245 ,112.238,112.234,112.228,112.223, 112.213,112.206,112.199,112.195,112.188 ,112.182,112.177,112.168,112.162, 112.153,112.141,112.134,112.124,112.119 ,112.112,112.1,112.093,112.087,112.08, 112.074,112.067,112.06,112.047,112.039, 112.026,112.016,112.009,112.001,111.993 ,111.982,111.976,111.969,111.963, 111.955,111.943,111.933,111.927,111.924 ,111.863)
ORBIT_NUMBER = 16872
ORBITAL_ECCENTRICITY = 0.578
ORBITAL_INCLINATION = 86.95
ORBITAL_SEMIMAJOR_AXIS = 8806.06
PERIAPSIS_ALTITUDE = 327.59
PERIAPSIS_ARGUMENT_ANGLE = 311.0
PERIAPSIS_TIME = 2017-04-28T11:28:24.000Z
SPACECRAFT_ORIENTATION = (0.0,1.0,0.0)
^MEX_ORIENTATION_DESC = "MEX_ORIENTATION_DESC.TXT"
SPACECRAFT_POINTING_MODE = ACROSSTRACK
^MEX_POINTING_DESC = "MEX_POINTING_DESC.TXT"
RIGHT_ASCENSION = -1e+32
DECLINATION = -1e+32
OFFSET_ANGLE = -0.35
SPACECRAFT_SOLAR_DISTANCE = 2.31679e+08
TARGET_NAME = MARS
/* CAMERA DATA ELEMENTS */
DETECTOR_TEMPERATURE = 18.3705
FOCAL_PLANE_TEMPERATURE = 7.7677
INST_CMPRS_NAME = "DISCRETE COSINE TRANSFORMATION (DCT)"
INST_CMPRS_RATIO = 18.3586
INST_CMPRS_QUALITY = 0
INST_CMPRS_QUANTZ_TBL_ID = 0
INSTRUMENT_TEMPERATURE = 11.234
LENS_TEMPERATURE = 8.9911
MACROPIXEL_SIZE = 4
MISSING_FRAMES = 0
PIXEL_SUBSAMPLING_FLAG = N
SIGNAL_CHAIN_ID = 2
/* RADIOMETRIC DATA ELEMENTS */
BANDWIDTH = 48.0
CENTER_FILTER_WAVELENGTH = 748.0
RADIANCE_OFFSET = 0.963662
RADIANCE_SCALING_FACTOR = 0.00569521
REFLECTANCE_SCALING_FACTOR = 0.000697598
MEX:REFLECTANCE_OFFSET = 0.118037
/* IMAGE OBJECT DEFINITIONS */
OBJECT = IMAGE
  INTERCHANGE_FORMAT = BINARY
  LINES = 10391
  LINE_SAMPLES = 1812
  SAMPLE_TYPE = UNSIGNED_INTEGER
  SAMPLE_BITS = 8
  BANDS = 1
  BAND_STORAGE_TYPE = BAND_SEQUENTIAL
  MAXIMUM = 255
  MEAN = 83.4706
  MINIMUM = 1
  STANDARD_DEVIATION = 29.7224
END_OBJECT = IMAGE
/* MAP OBJECT DEFINITIONS */
OBJECT = IMAGE_MAP_PROJECTION
  ^DATA_SET_MAP_PROJECTION_CATALOG= "DSMAP.CAT"
  A_AXIS_RADIUS = 3396.0
  B_AXIS_RADIUS = 3396.0
  C_AXIS_RADIUS = 3396.0
  CENTER_LATITUDE = 0.0
  CENTER_LONGITUDE = 111.0
  COORDINATE_SYSTEM_NAME = PLANETOGRAPHIC
  COORDINATE_SYSTEM_TYPE = "BODY-FIXED ROTATING"
  EASTERNMOST_LONGITUDE = 112.25
  FIRST_STANDARD_PARALLEL = "N/A"
  LINE_FIRST_PIXEL = 1
  LINE_LAST_PIXEL = 10391
  LINE_PROJECTION_OFFSET = -55872.375
  MAP_PROJECTION_ROTATION = 0.0
  MAP_PROJECTION_TYPE = SINUSOIDAL
  MAP_RESOLUTION = 1185.42760773333
  MAP_SCALE = 0.05
  MAXIMUM_LATITUDE = -47.1555
  MINIMUM_LATITUDE = -55.9593
  POSITIVE_LONGITUDE_DIRECTION = EAST
  REFERENCE_LATITUDE = "N/A"
  REFERENCE_LONGITUDE = "N/A"
  SAMPLE_FIRST_PIXEL = 1
  SAMPLE_LAST_PIXEL = 1812
  SAMPLE_PROJECTION_OFFSET = 808.125
  SECOND_STANDARD_PARALLEL = "N/A"
  WESTERNMOST_LONGITUDE = 109.77
END_OBJECT = IMAGE_MAP_PROJECTION
END
