PDS_VERSION_ID = PDS3
/* FILE DATA ELEMENTS */
RECORD_TYPE = UNDEFINED
/* POINTERS TO DATA OBJECTS */
^IMAGE = ("HG874_0000_S14.TIF")
/* IDENTIFICATION DATA ELEMENTS */
DATA_SET_ID = "MEX-M-HRSC-4-REFDR-MAPPROJECT-EXT6-V4.0"
DATA_SET_NAME = "MARS EXPRESS HRSC MAP PROJECTED REFDR EXTENSION6 V4.0"
DETECTOR_ID = MEX_HRSC_S1
EVENT_TYPE = "MARS-LOCAL-STEREO-Te-Fl"
INSTRUMENT_HOST_ID = MEX
INSTRUMENT_HOST_NAME = "MARS EXPRESS"
INSTRUMENT_ID = HRSC
INSTRUMENT_NAME = "HIGH RESOLUTION STEREO CAMERA"
MISSION_NAME = "MARS EXPRESS"
MISSION_PHASE_NAME = ME_Phase_36
PROCESSING_LEVEL_ID = 4
PRODUCT_CREATION_TIME = 2023-01-26T14:39:22.000Z
PRODUCT_ID = "HG874_0000_S14.TIF"
RELEASE_ID = 0001
REVISION_ID = 0000
/* QUALITY DATA ELEMENTS */
DATA_QUALITY_ID = 1
DATA_QUALITY_DESC = "Data calculated based on original SPICE kernels"
/* TIME DATA ELEMENTS */
SPACECRAFT_CLOCK_START_COUNT = "1/0441509286.09045"
SPACECRAFT_CLOCK_STOP_COUNT = "1/0441509481.25556"
START_TIME = 2017-04-29T01:29:13.304Z
STOP_TIME = 2017-04-29T01:31:27.564Z
/* ORBITAL DATA ELEMENTS */
ASCENDING_NODE_LONGITUDE = 257.0
MAXIMUM_RESOLUTION = 0.014
FOOTPRINT_POINT_LATITUDE = (-45.6932,-45.6852,-45.6748,-45.6654, -45.6589,-45.6584,-45.6996,-45.5301, -45.3607,-45.1914,-45.0222,-44.8532, -44.6843,-44.5157,-44.2624,-44.0935, -43.9247,-43.7556,-43.5023,-43.3312, -43.0741,-42.8995,-42.6374,-42.4633, -42.2899,-42.1151,-41.9412,-41.7673, -41.5923,-41.4181,-41.2444,-40.9815, -40.7261,-40.5562,-40.3838,-40.1271, -39.9573,-39.7874,-39.6172,-39.4465, -39.2755,-39.1034,-38.8494,-38.6801, -38.427,-38.2583,-37.9209,-37.752, -37.5827,-37.413,-37.2424,-37.1574, -37.1546,-37.1631,-37.1689,-37.1741, -37.1792,-37.1793,-37.1796,-37.6008, -37.8535,-38.0234,-38.2778,-38.4476, -38.6176,-38.8734,-39.044,-39.3809, -39.6329,-39.8879,-40.218,-40.3888, -40.6543,-40.8302,-41.0016,-41.1761, -41.3519,-41.5256,-41.701,-41.8763, -42.0521,-42.2273,-42.4036,-42.5782, -42.7514,-43.0137,-43.1887,-43.3577, -43.6949,-43.8671,-44.039,-44.3766, -44.5457,-44.7144,-44.884,-45.2213, -45.4747,-45.6438,-45.7283,-45.6932)
FOOTPRINT_POINT_LONGITUDE = (267.136,266.689,266.195,265.796, 265.541,265.525,265.496,265.506,265.515 ,265.525,265.534,265.543,265.551,265.56 ,265.573,265.581,265.59,265.598,265.61, 265.619,265.633,265.641,265.653,265.661 ,265.668,265.676,265.683,265.69,265.698 ,265.705,265.712,265.723,265.73,265.735 ,265.741,265.749,265.753,265.758, 265.763,265.767,265.772,265.778,265.784 ,265.788,265.793,265.797,265.804, 265.807,265.811,265.815,265.819,265.821 ,265.821,266.21,266.553,267.006,267.382 ,267.397,267.405,267.394,267.388, 267.384,267.377,267.373,267.368,267.362 ,267.357,267.347,267.338,267.33,267.316 ,267.311,267.306,267.303,267.297, 267.293,267.289,267.285,267.28,267.276, 267.272,267.267,267.263,267.258,267.252 ,267.245,267.241,267.236,267.224,267.22 ,267.215,267.203,267.197,267.191, 267.185,267.172,267.162,267.155,267.152 ,267.136)
ORBIT_NUMBER = 16874
ORBITAL_ECCENTRICITY = 0.578
ORBITAL_INCLINATION = 86.95
ORBITAL_SEMIMAJOR_AXIS = 8804.08
PERIAPSIS_ALTITUDE = 327.74
PERIAPSIS_ARGUMENT_ANGLE = 310.66
PERIAPSIS_TIME = 2017-04-29T01:27:51.000Z
SPACECRAFT_ORIENTATION = (0.0,1.0,0.0)
^MEX_ORIENTATION_DESC = "MEX_ORIENTATION_DESC.TXT"
SPACECRAFT_POINTING_MODE = NADIR
^MEX_POINTING_DESC = "MEX_POINTING_DESC.TXT"
RIGHT_ASCENSION = -1e+32
DECLINATION = -1e+32
OFFSET_ANGLE = -1e+32
SPACECRAFT_SOLAR_DISTANCE = 2.31789e+08
TARGET_NAME = MARS
/* CAMERA DATA ELEMENTS */
DETECTOR_TEMPERATURE = 17.7588
FOCAL_PLANE_TEMPERATURE = 7.9716
INST_CMPRS_NAME = "DISCRETE COSINE TRANSFORMATION (DCT)"
INST_CMPRS_RATIO = 7.64709
INST_CMPRS_QUALITY = 0
INST_CMPRS_QUANTZ_TBL_ID = 0
INSTRUMENT_TEMPERATURE = 11.6418
LENS_TEMPERATURE = 8.5833
MACROPIXEL_SIZE = 1
MISSING_FRAMES = 0
PIXEL_SUBSAMPLING_FLAG = N
SIGNAL_CHAIN_ID = 2
/* RADIOMETRIC DATA ELEMENTS */
BANDWIDTH = 180.0
CENTER_FILTER_WAVELENGTH = 677.0
RADIANCE_OFFSET = 2.72023
RADIANCE_SCALING_FACTOR = 0.0220794
REFLECTANCE_SCALING_FACTOR = 0.000618888
MEX:REFLECTANCE_OFFSET = 0.0762485
/* IMAGE OBJECT DEFINITIONS */
OBJECT = IMAGE
  INTERCHANGE_FORMAT = BINARY
  LINES = 40660
  LINE_SAMPLES = 6825
  SAMPLE_TYPE = UNSIGNED_INTEGER
  SAMPLE_BITS = 8
  BANDS = 1
  BAND_STORAGE_TYPE = BAND_SEQUENTIAL
  MAXIMUM = 255
  MEAN = 116.472
  MINIMUM = 1
  STANDARD_DEVIATION = 30.1066
END_OBJECT = IMAGE
/* MAP OBJECT DEFINITIONS */
OBJECT = IMAGE_MAP_PROJECTION
  ^DATA_SET_MAP_PROJECTION_CATALOG= "DSMAP.CAT"
  A_AXIS_RADIUS = 3396.0
  B_AXIS_RADIUS = 3396.0
  C_AXIS_RADIUS = 3396.0
  CENTER_LATITUDE = 0.0
  CENTER_LONGITUDE = 266.0
  COORDINATE_SYSTEM_NAME = PLANETOGRAPHIC
  COORDINATE_SYSTEM_TYPE = "BODY-FIXED ROTATING"
  EASTERNMOST_LONGITUDE = 267.405
  FIRST_STANDARD_PARALLEL = "N/A"
  LINE_FIRST_PIXEL = 1
  LINE_LAST_PIXEL = 40660
  LINE_PROJECTION_OFFSET = -176371.0
  MAP_PROJECTION_ROTATION = 0.0
  MAP_PROJECTION_TYPE = SINUSOIDAL
  MAP_RESOLUTION = 4741.71043093333
  MAP_SCALE = 0.0125
  MAXIMUM_LATITUDE = -37.1546
  MINIMUM_LATITUDE = -45.7283
  POSITIVE_LONGITUDE_DIRECTION = EAST
  REFERENCE_LATITUDE = "N/A"
  REFERENCE_LONGITUDE = "N/A"
  SAMPLE_FIRST_PIXEL = 1
  SAMPLE_LAST_PIXEL = 6825
  SAMPLE_PROJECTION_OFFSET = 1644.0
  SECOND_STANDARD_PARALLEL = "N/A"
  WESTERNMOST_LONGITUDE = 265.496
END_OBJECT = IMAGE_MAP_PROJECTION
END
