PDS_VERSION_ID = PDS3
/* FILE DATA ELEMENTS */
RECORD_TYPE = UNDEFINED
/* POINTERS TO DATA OBJECTS */
^IMAGE = ("HG876_0000_BL4.TIF")
/* IDENTIFICATION DATA ELEMENTS */
DATA_SET_ID = "MEX-M-HRSC-4-REFDR-MAPPROJECT-EXT6-V4.0"
DATA_SET_NAME = "MARS EXPRESS HRSC MAP PROJECTED REFDR EXTENSION6 V4.0"
DETECTOR_ID = MEX_HRSC_BLUE
EVENT_TYPE = "MARS-REGIONAL-MAPPING-Im-Fl-Gl"
INSTRUMENT_HOST_ID = MEX
INSTRUMENT_HOST_NAME = "MARS EXPRESS"
INSTRUMENT_ID = HRSC
INSTRUMENT_NAME = "HIGH RESOLUTION STEREO CAMERA"
MISSION_NAME = "MARS EXPRESS"
MISSION_PHASE_NAME = ME_Phase_36
PROCESSING_LEVEL_ID = 4
PRODUCT_CREATION_TIME = 2023-01-26T14:39:22.000Z
PRODUCT_ID = "HG876_0000_BL4.TIF"
RELEASE_ID = 0001
REVISION_ID = 0000
/* QUALITY DATA ELEMENTS */
DATA_QUALITY_ID = 1
DATA_QUALITY_DESC = "Data calculated based on original SPICE kernels"
/* TIME DATA ELEMENTS */
SPACECRAFT_CLOCK_START_COUNT = "1/0441559534.09058"
SPACECRAFT_CLOCK_STOP_COUNT = "1/0441559767.07645"
START_TIME = 2017-04-29T15:26:07.603Z
STOP_TIME = 2017-04-29T15:28:57.585Z
/* ORBITAL DATA ELEMENTS */
ASCENDING_NODE_LONGITUDE = 256.96
MAXIMUM_RESOLUTION = 0.0532
FOOTPRINT_POINT_LATITUDE = (-53.4271,-53.4071,-53.3842,-53.3497, -53.3488,-53.3243,-52.8837,-52.5533, -52.1124,-51.7816,-51.5611,-51.3404, -51.1197,-50.789,-50.5682,-50.3473, -50.1264,-49.7948,-49.5737,-49.3525, -49.0208,-48.7996,-48.5776,-48.3568, -48.0243,-47.8026,-47.3615,-47.1407, -46.9196,-46.6978,-46.3651,-46.1442, -45.9226,-45.7012,-45.4797,-45.1477, -44.9261,-44.7049,-44.3731,-44.1518, -43.8199,-43.4878,-43.2667,-43.0455, -42.8244,-42.6033,-42.3825,-42.2721, -42.2068,-42.222,-42.2399,-42.2552, -42.2555,-42.2565,-42.478,-42.6993, -42.9208,-43.1424,-43.4751,-43.6969, -43.9188,-44.2514,-44.4731,-44.6951, -44.9171,-45.1393,-45.4722,-45.805, -46.0268,-46.2487,-46.4705,-46.6926, -47.0259,-47.2479,-47.5806,-47.8025, -48.0244,-48.3571,-48.5787,-48.8007, -49.0228,-49.3556,-49.5774,-49.7994, -50.0215,-50.243,-50.4648,-50.6865, -50.9081,-51.2405,-51.4619,-51.7942, -52.1262,-52.3475,-52.5687,-52.7901, -53.0112,-53.2323,-53.3428,-53.4271)
FOOTPRINT_POINT_LONGITUDE = (61.4089,60.857,60.299,59.5573,59.5396, 59.4461,59.5024,59.5444,59.5982,59.638, 59.664,59.6894,59.7144,59.7529,59.7771, 59.8005,59.824,59.8577,59.8796,59.901, 59.9332,59.9539,59.9716,59.9933,60.021, 60.0386,60.0817,60.102,60.1208,60.1371, 60.1605,60.1792,60.1951,60.2112,60.2264 ,60.25,60.2643,60.2798,60.3021,60.3161, 60.3369,60.3559,60.3694,60.3819,60.3946 ,60.4069,60.4195,60.4259,60.4292, 60.8568,61.4459,62.0272,62.042,62.0469, 62.0381,62.0293,62.0204,62.0112,61.9972 ,61.9878,61.9781,61.9636,61.9537, 61.9437,61.9335,61.9231,61.9074,61.8915 ,61.8807,61.8697,61.8586,61.8473, 61.8299,61.8182,61.8005,61.7885,61.7763 ,61.7577,61.7452,61.7323,61.7191, 61.6993,61.6858,61.672,61.658,61.644, 61.6297,61.6153,61.6006,61.5782,61.5631 ,61.5398,61.5161,61.5001,61.4837, 61.4671,61.4503,61.4333,61.4246, 61.4089)
ORBIT_NUMBER = 16876
ORBITAL_ECCENTRICITY = 0.578
ORBITAL_INCLINATION = 86.96
ORBITAL_SEMIMAJOR_AXIS = 8803.29
PERIAPSIS_ALTITUDE = 327.57
PERIAPSIS_ARGUMENT_ANGLE = 310.33
PERIAPSIS_TIME = 2017-04-29T15:27:12.000Z
SPACECRAFT_ORIENTATION = (0.0,1.0,0.0)
^MEX_ORIENTATION_DESC = "MEX_ORIENTATION_DESC.TXT"
SPACECRAFT_POINTING_MODE = ACROSSTRACK
^MEX_POINTING_DESC = "MEX_POINTING_DESC.TXT"
RIGHT_ASCENSION = -1e+32
DECLINATION = -1e+32
OFFSET_ANGLE = 0.458
SPACECRAFT_SOLAR_DISTANCE = 2.31898e+08
TARGET_NAME = MARS
/* CAMERA DATA ELEMENTS */
DETECTOR_TEMPERATURE = 18.3705
FOCAL_PLANE_TEMPERATURE = 7.5638
INST_CMPRS_NAME = "DISCRETE COSINE TRANSFORMATION (DCT)"
INST_CMPRS_RATIO = 5.70379
INST_CMPRS_QUALITY = 0
INST_CMPRS_QUANTZ_TBL_ID = 0
INSTRUMENT_TEMPERATURE = 11.234
LENS_TEMPERATURE = 7.9716
MACROPIXEL_SIZE = 4
MISSING_FRAMES = 0
PIXEL_SUBSAMPLING_FLAG = N
SIGNAL_CHAIN_ID = 2
/* RADIOMETRIC DATA ELEMENTS */
BANDWIDTH = 76.0
CENTER_FILTER_WAVELENGTH = 444.0
RADIANCE_OFFSET = 0.699466
RADIANCE_SCALING_FACTOR = 0.000968119
REFLECTANCE_SCALING_FACTOR = 5.34909e-05
MEX:REFLECTANCE_OFFSET = 0.0386472
/* IMAGE OBJECT DEFINITIONS */
OBJECT = IMAGE
  INTERCHANGE_FORMAT = BINARY
  LINES = 13264
  LINE_SAMPLES = 2029
  SAMPLE_TYPE = UNSIGNED_INTEGER
  SAMPLE_BITS = 8
  BANDS = 1
  BAND_STORAGE_TYPE = BAND_SEQUENTIAL
  MAXIMUM = 253
  MEAN = 130.656
  MINIMUM = 2
  STANDARD_DEVIATION = 33.4511
END_OBJECT = IMAGE
/* MAP OBJECT DEFINITIONS */
OBJECT = IMAGE_MAP_PROJECTION
  ^DATA_SET_MAP_PROJECTION_CATALOG= "DSMAP.CAT"
  A_AXIS_RADIUS = 3396.0
  B_AXIS_RADIUS = 3396.0
  C_AXIS_RADIUS = 3396.0
  CENTER_LATITUDE = 0.0
  CENTER_LONGITUDE = 61.0
  COORDINATE_SYSTEM_NAME = PLANETOGRAPHIC
  COORDINATE_SYSTEM_TYPE = "BODY-FIXED ROTATING"
  EASTERNMOST_LONGITUDE = 62.0469
  FIRST_STANDARD_PARALLEL = "N/A"
  LINE_FIRST_PIXEL = 1
  LINE_LAST_PIXEL = 13264
  LINE_PROJECTION_OFFSET = -50053.625
  MAP_PROJECTION_ROTATION = 0.0
  MAP_PROJECTION_TYPE = SINUSOIDAL
  MAP_RESOLUTION = 1185.42760773333
  MAP_SCALE = 0.05
  MAXIMUM_LATITUDE = -42.2068
  MINIMUM_LATITUDE = -53.4271
  POSITIVE_LONGITUDE_DIRECTION = EAST
  REFERENCE_LATITUDE = "N/A"
  REFERENCE_LONGITUDE = "N/A"
  SAMPLE_FIRST_PIXEL = 1
  SAMPLE_LAST_PIXEL = 2029
  SAMPLE_PROJECTION_OFFSET = 1107.875
  SECOND_STANDARD_PARALLEL = "N/A"
  WESTERNMOST_LONGITUDE = 59.4461
END_OBJECT = IMAGE_MAP_PROJECTION
END
