PDS_VERSION_ID = PDS3
/* FILE DATA ELEMENTS */
RECORD_TYPE = UNDEFINED
/* POINTERS TO DATA OBJECTS */
^IMAGE = ("HG876_0000_IR4.TIF")
/* IDENTIFICATION DATA ELEMENTS */
DATA_SET_ID = "MEX-M-HRSC-4-REFDR-MAPPROJECT-EXT6-V4.0"
DATA_SET_NAME = "MARS EXPRESS HRSC MAP PROJECTED REFDR EXTENSION6 V4.0"
DETECTOR_ID = MEX_HRSC_IR
EVENT_TYPE = "MARS-REGIONAL-MAPPING-Im-Fl-Gl"
INSTRUMENT_HOST_ID = MEX
INSTRUMENT_HOST_NAME = "MARS EXPRESS"
INSTRUMENT_ID = HRSC
INSTRUMENT_NAME = "HIGH RESOLUTION STEREO CAMERA"
MISSION_NAME = "MARS EXPRESS"
MISSION_PHASE_NAME = ME_Phase_36
PROCESSING_LEVEL_ID = 4
PRODUCT_CREATION_TIME = 2023-01-26T14:39:22.000Z
PRODUCT_ID = "HG876_0000_IR4.TIF"
RELEASE_ID = 0001
REVISION_ID = 0000
/* QUALITY DATA ELEMENTS */
DATA_QUALITY_ID = 1
DATA_QUALITY_DESC = "Data calculated based on original SPICE kernels"
/* TIME DATA ELEMENTS */
SPACECRAFT_CLOCK_START_COUNT = "1/0441559534.09058"
SPACECRAFT_CLOCK_STOP_COUNT = "1/0441559767.07645"
START_TIME = 2017-04-29T15:26:37.096Z
STOP_TIME = 2017-04-29T15:29:28.173Z
/* ORBITAL DATA ELEMENTS */
ASCENDING_NODE_LONGITUDE = 256.96
MAXIMUM_RESOLUTION = 0.0555
FOOTPRINT_POINT_LATITUDE = (-53.327,-53.3181,-53.3071,-53.2892, -53.2887,-53.3654,-53.1426,-52.9204, -52.6974,-52.4747,-52.1407,-51.9177, -51.695,-51.4721,-51.2495,-51.0268, -50.8028,-50.5795,-50.3577,-50.1347, -49.9125,-49.6908,-49.3584,-49.136, -48.9144,-48.5838,-48.3617,-48.0312, -47.8106,-47.5859,-47.3629,-47.029, -46.5899,-46.2595,-46.0376,-45.7078, -45.3777,-45.1579,-44.9391,-44.7191, -44.4993,-44.2799,-44.0612,-43.6239, -43.2914,-43.0661,-42.728,-42.3895, -42.2767,-42.2615,-42.2643,-42.2673, -42.268,-42.2659,-42.2659,-42.2668, -42.606,-42.946,-43.173,-43.3985, -43.8368,-44.0567,-44.3869,-44.6074, -44.8266,-45.0454,-45.267,-45.5974, -45.9297,-46.1511,-46.3728,-46.5944, -46.8147,-47.0359,-47.3692,-47.5916, -47.9254,-48.1483,-48.4838,-48.7063, -48.9278,-49.151,-49.3735,-49.5964, -49.818,-50.0403,-50.264,-50.5987, -50.8221,-51.0452,-51.3808,-51.6046, -51.9399,-52.1641,-52.3876,-52.7229, -52.9468,-53.2826,-53.3946,-53.327)
FOOTPRINT_POINT_LONGITUDE = (61.4117,60.8621,60.3059,59.5658,59.548 ,59.4409,59.4696,59.4971,59.5251, 59.5523,59.5924,59.619,59.6447,59.6703, 59.6952,59.7199,59.7459,59.7705,59.793, 59.8166,59.839,59.8604,59.8918,59.9134, 59.9338,59.9617,59.982,60.0089,60.0269, 60.0493,60.0695,60.0987,60.1302,60.1545 ,60.1722,60.1952,60.2182,60.2332, 60.2468,60.2616,60.276,60.2899,60.3029, 60.3287,60.3483,60.3605,60.379,60.3977, 60.4038,60.4045,60.7968,61.1699,61.4791 ,62.0446,62.0597,62.0647,62.0506, 62.0363,62.0265,62.0166,61.9968,61.9869 ,61.9717,61.9614,61.9509,61.9402, 61.9295,61.9131,61.8964,61.8851,61.8737 ,61.862,61.8502,61.8382,61.8199,61.8076 ,61.7887,61.7759,61.7564,61.7431, 61.7296,61.716,61.7021,61.688,61.6737, 61.6592,61.6446,61.6222,61.607,61.5915, 61.5679,61.5519,61.5275,61.5109,61.494, 61.4683,61.4508,61.424,61.415,61.4117)
ORBIT_NUMBER = 16876
ORBITAL_ECCENTRICITY = 0.578
ORBITAL_INCLINATION = 86.96
ORBITAL_SEMIMAJOR_AXIS = 8803.29
PERIAPSIS_ALTITUDE = 327.57
PERIAPSIS_ARGUMENT_ANGLE = 310.33
PERIAPSIS_TIME = 2017-04-29T15:27:12.000Z
SPACECRAFT_ORIENTATION = (0.0,1.0,0.0)
^MEX_ORIENTATION_DESC = "MEX_ORIENTATION_DESC.TXT"
SPACECRAFT_POINTING_MODE = ACROSSTRACK
^MEX_POINTING_DESC = "MEX_POINTING_DESC.TXT"
RIGHT_ASCENSION = -1e+32
DECLINATION = -1e+32
OFFSET_ANGLE = 0.458
SPACECRAFT_SOLAR_DISTANCE = 2.31898e+08
TARGET_NAME = MARS
/* CAMERA DATA ELEMENTS */
DETECTOR_TEMPERATURE = 16.7393
FOCAL_PLANE_TEMPERATURE = 7.5638
INST_CMPRS_NAME = "DISCRETE COSINE TRANSFORMATION (DCT)"
INST_CMPRS_RATIO = 11.5942
INST_CMPRS_QUALITY = 0
INST_CMPRS_QUANTZ_TBL_ID = 0
INSTRUMENT_TEMPERATURE = 11.234
LENS_TEMPERATURE = 7.9716
MACROPIXEL_SIZE = 4
MISSING_FRAMES = 0
PIXEL_SUBSAMPLING_FLAG = N
SIGNAL_CHAIN_ID = 2
/* RADIOMETRIC DATA ELEMENTS */
BANDWIDTH = 81.0
CENTER_FILTER_WAVELENGTH = 955.5
RADIANCE_OFFSET = 1.14732
RADIANCE_SCALING_FACTOR = 0.00259199
REFLECTANCE_SCALING_FACTOR = 0.000300714
MEX:REFLECTANCE_OFFSET = 0.133108
/* IMAGE OBJECT DEFINITIONS */
OBJECT = IMAGE
  INTERCHANGE_FORMAT = BINARY
  LINES = 13264
  LINE_SAMPLES = 2029
  SAMPLE_TYPE = UNSIGNED_INTEGER
  SAMPLE_BITS = 8
  BANDS = 1
  BAND_STORAGE_TYPE = BAND_SEQUENTIAL
  MAXIMUM = 255
  MEAN = 135.34
  MINIMUM = 1
  STANDARD_DEVIATION = 44.7758
END_OBJECT = IMAGE
/* MAP OBJECT DEFINITIONS */
OBJECT = IMAGE_MAP_PROJECTION
  ^DATA_SET_MAP_PROJECTION_CATALOG= "DSMAP.CAT"
  A_AXIS_RADIUS = 3396.0
  B_AXIS_RADIUS = 3396.0
  C_AXIS_RADIUS = 3396.0
  CENTER_LATITUDE = 0.0
  CENTER_LONGITUDE = 61.0
  COORDINATE_SYSTEM_NAME = PLANETOGRAPHIC
  COORDINATE_SYSTEM_TYPE = "BODY-FIXED ROTATING"
  EASTERNMOST_LONGITUDE = 62.0647
  FIRST_STANDARD_PARALLEL = "N/A"
  LINE_FIRST_PIXEL = 1
  LINE_LAST_PIXEL = 13264
  LINE_PROJECTION_OFFSET = -50053.625
  MAP_PROJECTION_ROTATION = 0.0
  MAP_PROJECTION_TYPE = SINUSOIDAL
  MAP_RESOLUTION = 1185.42760773333
  MAP_SCALE = 0.05
  MAXIMUM_LATITUDE = -42.2615
  MINIMUM_LATITUDE = -53.3946
  POSITIVE_LONGITUDE_DIRECTION = EAST
  REFERENCE_LATITUDE = "N/A"
  REFERENCE_LONGITUDE = "N/A"
  SAMPLE_FIRST_PIXEL = 1
  SAMPLE_LAST_PIXEL = 2029
  SAMPLE_PROJECTION_OFFSET = 1107.875
  SECOND_STANDARD_PARALLEL = "N/A"
  WESTERNMOST_LONGITUDE = 59.4409
END_OBJECT = IMAGE_MAP_PROJECTION
END
