PDS_VERSION_ID = PDS3
/* FILE DATA ELEMENTS */
RECORD_TYPE = UNDEFINED
/* POINTERS TO DATA OBJECTS */
^IMAGE = ("HG876_0000_RE4.TIF")
/* IDENTIFICATION DATA ELEMENTS */
DATA_SET_ID = "MEX-M-HRSC-4-REFDR-MAPPROJECT-EXT6-V4.0"
DATA_SET_NAME = "MARS EXPRESS HRSC MAP PROJECTED REFDR EXTENSION6 V4.0"
DETECTOR_ID = MEX_HRSC_RED
EVENT_TYPE = "MARS-REGIONAL-MAPPING-Im-Fl-Gl"
INSTRUMENT_HOST_ID = MEX
INSTRUMENT_HOST_NAME = "MARS EXPRESS"
INSTRUMENT_ID = HRSC
INSTRUMENT_NAME = "HIGH RESOLUTION STEREO CAMERA"
MISSION_NAME = "MARS EXPRESS"
MISSION_PHASE_NAME = ME_Phase_36
PROCESSING_LEVEL_ID = 4
PRODUCT_CREATION_TIME = 2023-01-26T14:39:22.000Z
PRODUCT_ID = "HG876_0000_RE4.TIF"
RELEASE_ID = 0001
REVISION_ID = 0000
/* QUALITY DATA ELEMENTS */
DATA_QUALITY_ID = 1
DATA_QUALITY_DESC = "Data calculated based on original SPICE kernels"
/* TIME DATA ELEMENTS */
SPACECRAFT_CLOCK_START_COUNT = "1/0441559534.09058"
SPACECRAFT_CLOCK_STOP_COUNT = "1/0441559767.07645"
START_TIME = 2017-04-29T15:25:47.736Z
STOP_TIME = 2017-04-29T15:28:37.923Z
/* ORBITAL DATA ELEMENTS */
ASCENDING_NODE_LONGITUDE = 256.96
MAXIMUM_RESOLUTION = 0.0556
FOOTPRINT_POINT_LATITUDE = (-53.4915,-53.464,-53.4329,-53.3864, -53.3852,-53.2931,-52.9654,-52.5283, -52.3102,-52.091,-51.7626,-51.5439, -51.3247,-50.9962,-50.7782,-50.4491, -50.2295,-50.0099,-49.7893,-49.5687, -49.3481,-49.1281,-48.9071,-48.6849, -48.3541,-48.0207,-47.7982,-47.3623, -47.1425,-46.9224,-46.6982,-46.3639, -46.144,-45.9216,-45.6996,-45.3665, -45.144,-44.8098,-44.5882,-44.366, -44.1435,-43.8098,-43.4747,-43.1408, -42.9181,-42.5839,-42.362,-42.2508, -42.1708,-42.1911,-42.2096,-42.2287, -42.2494,-42.25,-42.251,-42.474, -42.8078,-43.1422,-43.4776,-43.7011, -43.9253,-44.2591,-44.4816,-44.7046, -44.9282,-45.1524,-45.3739,-45.5975, -45.9302,-46.152,-46.4847,-46.7072, -46.9308,-47.1528,-47.3744,-47.7062, -47.9274,-48.1483,-48.3697,-48.5892, -48.8109,-49.0332,-49.3645,-49.5855, -49.8074,-50.1399,-50.4703,-50.6907, -50.911,-51.2416,-51.461,-51.6809, -51.9011,-52.1201,-52.3398,-52.6691, -52.8888,-53.2173,-53.3267,-53.4915)
FOOTPRINT_POINT_LONGITUDE = (61.4132,60.8522,60.2854,59.532,59.5139 ,59.4284,59.4714,59.5274,59.5552, 59.5819,59.6216,59.6478,59.6734,59.7114 ,59.7373,59.7737,59.7974,59.8209, 59.8433,59.8654,59.8871,59.9091,59.9301 ,59.9498,59.9809,60.0092,60.0276, 60.0712,60.0911,60.1105,60.1262,60.151, 60.1697,60.1861,60.2026,60.2268,60.2423 ,60.2648,60.2805,60.2954,60.3099, 60.3312,60.351,60.3712,60.3843,60.4034, 60.4165,60.4229,60.4267,60.7779,61.1705 ,61.5756,62.0207,62.0354,62.0403, 62.0318,62.0189,62.0056,61.9919,61.9826 ,61.9731,61.959,61.9494,61.9396,61.9296 ,61.9194,61.9093,61.8989,61.8833, 61.8728,61.8567,61.8456,61.8343,61.823, 61.8116,61.7942,61.7825,61.7706,61.7585 ,61.7464,61.7339,61.7211,61.7019, 61.6888,61.6754,61.6549,61.6343,61.6203 ,61.6062,61.5844,61.5699,61.555,61.5398 ,61.5246,61.509,61.4853,61.4691,61.4446 ,61.4363,61.4132)
ORBIT_NUMBER = 16876
ORBITAL_ECCENTRICITY = 0.578
ORBITAL_INCLINATION = 86.96
ORBITAL_SEMIMAJOR_AXIS = 8803.29
PERIAPSIS_ALTITUDE = 327.57
PERIAPSIS_ARGUMENT_ANGLE = 310.33
PERIAPSIS_TIME = 2017-04-29T15:27:12.000Z
SPACECRAFT_ORIENTATION = (0.0,1.0,0.0)
^MEX_ORIENTATION_DESC = "MEX_ORIENTATION_DESC.TXT"
SPACECRAFT_POINTING_MODE = ACROSSTRACK
^MEX_POINTING_DESC = "MEX_POINTING_DESC.TXT"
RIGHT_ASCENSION = -1e+32
DECLINATION = -1e+32
OFFSET_ANGLE = 0.458
SPACECRAFT_SOLAR_DISTANCE = 2.31898e+08
TARGET_NAME = MARS
/* CAMERA DATA ELEMENTS */
DETECTOR_TEMPERATURE = 18.5744
FOCAL_PLANE_TEMPERATURE = 7.5638
INST_CMPRS_NAME = "DISCRETE COSINE TRANSFORMATION (DCT)"
INST_CMPRS_RATIO = 29.6982
INST_CMPRS_QUALITY = 0
INST_CMPRS_QUANTZ_TBL_ID = 0
INSTRUMENT_TEMPERATURE = 11.234
LENS_TEMPERATURE = 7.9716
MACROPIXEL_SIZE = 4
MISSING_FRAMES = 0
PIXEL_SUBSAMPLING_FLAG = N
SIGNAL_CHAIN_ID = 2
/* RADIOMETRIC DATA ELEMENTS */
BANDWIDTH = 48.0
CENTER_FILTER_WAVELENGTH = 748.0
RADIANCE_OFFSET = 1.43056
RADIANCE_SCALING_FACTOR = 0.00247502
REFLECTANCE_SCALING_FACTOR = 0.000303738
MEX:REFLECTANCE_OFFSET = 0.17556
/* IMAGE OBJECT DEFINITIONS */
OBJECT = IMAGE
  INTERCHANGE_FORMAT = BINARY
  LINES = 13264
  LINE_SAMPLES = 2029
  SAMPLE_TYPE = UNSIGNED_INTEGER
  SAMPLE_BITS = 8
  BANDS = 1
  BAND_STORAGE_TYPE = BAND_SEQUENTIAL
  MAXIMUM = 255
  MEAN = 128.921
  MINIMUM = 1
  STANDARD_DEVIATION = 44.6231
END_OBJECT = IMAGE
/* MAP OBJECT DEFINITIONS */
OBJECT = IMAGE_MAP_PROJECTION
  ^DATA_SET_MAP_PROJECTION_CATALOG= "DSMAP.CAT"
  A_AXIS_RADIUS = 3396.0
  B_AXIS_RADIUS = 3396.0
  C_AXIS_RADIUS = 3396.0
  CENTER_LATITUDE = 0.0
  CENTER_LONGITUDE = 61.0
  COORDINATE_SYSTEM_NAME = PLANETOGRAPHIC
  COORDINATE_SYSTEM_TYPE = "BODY-FIXED ROTATING"
  EASTERNMOST_LONGITUDE = 62.0403
  FIRST_STANDARD_PARALLEL = "N/A"
  LINE_FIRST_PIXEL = 1
  LINE_LAST_PIXEL = 13264
  LINE_PROJECTION_OFFSET = -50053.625
  MAP_PROJECTION_ROTATION = 0.0
  MAP_PROJECTION_TYPE = SINUSOIDAL
  MAP_RESOLUTION = 1185.42760773333
  MAP_SCALE = 0.05
  MAXIMUM_LATITUDE = -42.1708
  MINIMUM_LATITUDE = -53.4915
  POSITIVE_LONGITUDE_DIRECTION = EAST
  REFERENCE_LATITUDE = "N/A"
  REFERENCE_LONGITUDE = "N/A"
  SAMPLE_FIRST_PIXEL = 1
  SAMPLE_LAST_PIXEL = 2029
  SAMPLE_PROJECTION_OFFSET = 1107.875
  SECOND_STANDARD_PARALLEL = "N/A"
  WESTERNMOST_LONGITUDE = 59.4284
END_OBJECT = IMAGE_MAP_PROJECTION
END
