PDS_VERSION_ID = PDS3
/* FILE DATA ELEMENTS */
RECORD_TYPE = UNDEFINED
/* POINTERS TO DATA OBJECTS */
^IMAGE = ("HG877_0000_ND4.TIF")
/* IDENTIFICATION DATA ELEMENTS */
DATA_SET_ID = "MEX-M-HRSC-4-REFDR-MAPPROJECT-EXT6-V4.0"
DATA_SET_NAME = "MARS EXPRESS HRSC MAP PROJECTED REFDR EXTENSION6 V4.0"
DETECTOR_ID = MEX_HRSC_NADIR
EVENT_TYPE = "MARS-LOCAL-STEREO-Fl-Gl-Tc"
INSTRUMENT_HOST_ID = MEX
INSTRUMENT_HOST_NAME = "MARS EXPRESS"
INSTRUMENT_ID = HRSC
INSTRUMENT_NAME = "HIGH RESOLUTION STEREO CAMERA"
MISSION_NAME = "MARS EXPRESS"
MISSION_PHASE_NAME = ME_Phase_36
PROCESSING_LEVEL_ID = 4
PRODUCT_CREATION_TIME = 2023-01-26T14:39:22.000Z
PRODUCT_ID = "HG877_0000_ND4.TIF"
RELEASE_ID = 0001
REVISION_ID = 0000
/* QUALITY DATA ELEMENTS */
DATA_QUALITY_ID = 1
DATA_QUALITY_DESC = "Data calculated based on original SPICE kernels"
/* TIME DATA ELEMENTS */
SPACECRAFT_CLOCK_START_COUNT = "1/0441584626.09043"
SPACECRAFT_CLOCK_STOP_COUNT = "1/0441584809.26518"
START_TIME = 2017-04-29T22:24:27.189Z
STOP_TIME = 2017-04-29T22:26:26.192Z
/* ORBITAL DATA ELEMENTS */
ASCENDING_NODE_LONGITUDE = 256.95
MAXIMUM_RESOLUTION = 0.0132
FOOTPRINT_POINT_LATITUDE = (-59.1758,-59.1623,-59.1476,-59.1319, -59.115,-59.097,-59.0728,-59.0715, -59.0637,-58.9079,-58.752,-58.5964, -58.4407,-58.2061,-57.9713,-57.815, -57.658,-57.5018,-57.3449,-57.1878, -57.031,-56.8742,-56.7173,-56.5604, -56.4036,-56.2466,-56.0896,-55.9326, -55.7754,-55.6183,-55.4611,-55.2271, -54.9229,-54.6182,-54.3133,-54.0084, -53.7032,-53.3979,-53.0925,-52.7869, -52.4812,-52.1755,-51.8697,-51.6402, -51.4872,-51.4107,-51.3346,-51.3536, -51.3679,-51.383,-51.3954,-51.4044, -51.4049,-51.4054,-51.559,-51.7126, -51.8662,-52.0198,-52.1733,-52.3269, -52.4804,-52.6339,-52.7874,-52.9408, -53.0943,-53.2477,-53.4011,-53.5545, -53.7078,-53.8611,-54.0144,-54.1677, -54.3209,-54.4741,-54.7805,-54.9337, -55.2397,-55.3931,-55.5511,-55.7092, -55.8672,-56.0251,-56.2621,-56.42, -56.5781,-56.8151,-57.0513,-57.2088, -57.3664,-57.5239,-57.6815,-57.839, -57.9963,-58.2322,-58.4679,-58.6251, -58.7822,-59.0177,-59.0962,-59.1758)
FOOTPRINT_POINT_LONGITUDE = (318.396,318.039,317.68,317.319,316.956 ,316.591,316.13,316.107,316.0,316.035, 316.07,316.109,316.148,316.193,316.236, 316.267,316.291,316.325,316.351,316.374 ,316.402,316.43,316.458,316.486,316.514 ,316.542,316.57,316.597,316.623,316.65, 316.676,316.711,316.764,316.812,316.859 ,316.905,316.949,316.993,317.035, 317.076,317.116,317.156,317.196,317.223 ,317.241,317.251,317.26,317.694,318.048 ,318.455,318.821,319.112,319.13,319.139 ,319.128,319.117,319.105,319.094, 319.082,319.071,319.059,319.047,319.035 ,319.022,319.01,318.998,318.985,318.972 ,318.96,318.947,318.933,318.92,318.907, 318.893,318.866,318.852,318.824,318.809 ,318.794,318.779,318.764,318.748, 318.725,318.709,318.692,318.667,318.643 ,318.626,318.609,318.592,318.574, 318.557,318.539,318.512,318.485,318.466 ,318.448,318.419,318.409,318.396)
ORBIT_NUMBER = 16877
ORBITAL_ECCENTRICITY = 0.578
ORBITAL_INCLINATION = 86.96
ORBITAL_SEMIMAJOR_AXIS = 8799.07
PERIAPSIS_ALTITUDE = 328.05
PERIAPSIS_ARGUMENT_ANGLE = 310.16
PERIAPSIS_TIME = 2017-04-29T22:26:52.000Z
SPACECRAFT_ORIENTATION = (0.0,1.0,0.0)
^MEX_ORIENTATION_DESC = "MEX_ORIENTATION_DESC.TXT"
SPACECRAFT_POINTING_MODE = ACROSSTRACK
^MEX_POINTING_DESC = "MEX_POINTING_DESC.TXT"
RIGHT_ASCENSION = -1e+32
DECLINATION = -1e+32
OFFSET_ANGLE = 0.539
SPACECRAFT_SOLAR_DISTANCE = 2.31953e+08
TARGET_NAME = MARS
/* CAMERA DATA ELEMENTS */
DETECTOR_TEMPERATURE = 18.5744
FOCAL_PLANE_TEMPERATURE = 8.7872
INST_CMPRS_NAME = "DISCRETE COSINE TRANSFORMATION (DCT)"
INST_CMPRS_RATIO = 7.35305
INST_CMPRS_QUALITY = 0
INST_CMPRS_QUANTZ_TBL_ID = 0
INSTRUMENT_TEMPERATURE = 11.0301
LENS_TEMPERATURE = 8.7872
MACROPIXEL_SIZE = 1
MISSING_FRAMES = 0
PIXEL_SUBSAMPLING_FLAG = N
SIGNAL_CHAIN_ID = 0
/* RADIOMETRIC DATA ELEMENTS */
BANDWIDTH = 177.0
CENTER_FILTER_WAVELENGTH = 677.5
RADIANCE_OFFSET = 2.70767
RADIANCE_SCALING_FACTOR = 0.0182028
REFLECTANCE_SCALING_FACTOR = 0.000520264
MEX:REFLECTANCE_OFFSET = 0.0773892
/* IMAGE OBJECT DEFINITIONS */
OBJECT = IMAGE
  INTERCHANGE_FORMAT = BINARY
  LINES = 37174
  LINE_SAMPLES = 8248
  SAMPLE_TYPE = UNSIGNED_INTEGER
  SAMPLE_BITS = 8
  BANDS = 1
  BAND_STORAGE_TYPE = BAND_SEQUENTIAL
  MAXIMUM = 254
  MEAN = 168.26
  MINIMUM = 1
  STANDARD_DEVIATION = 34.102
END_OBJECT = IMAGE
/* MAP OBJECT DEFINITIONS */
OBJECT = IMAGE_MAP_PROJECTION
  ^DATA_SET_MAP_PROJECTION_CATALOG= "DSMAP.CAT"
  A_AXIS_RADIUS = 3396.0
  B_AXIS_RADIUS = 3396.0
  C_AXIS_RADIUS = 3396.0
  CENTER_LATITUDE = 0.0
  CENTER_LONGITUDE = 318.0
  COORDINATE_SYSTEM_NAME = PLANETOGRAPHIC
  COORDINATE_SYSTEM_TYPE = "BODY-FIXED ROTATING"
  EASTERNMOST_LONGITUDE = 319.139
  FIRST_STANDARD_PARALLEL = "N/A"
  LINE_FIRST_PIXEL = 1
  LINE_LAST_PIXEL = 37174
  LINE_PROJECTION_OFFSET = -243415.0
  MAP_PROJECTION_ROTATION = 0.0
  MAP_PROJECTION_TYPE = SINUSOIDAL
  MAP_RESOLUTION = 4741.71043093333
  MAP_SCALE = 0.0125
  MAXIMUM_LATITUDE = -51.3346
  MINIMUM_LATITUDE = -59.1758
  POSITIVE_LONGITUDE_DIRECTION = EAST
  REFERENCE_LATITUDE = "N/A"
  REFERENCE_LONGITUDE = "N/A"
  SAMPLE_FIRST_PIXEL = 1
  SAMPLE_LAST_PIXEL = 8248
  SAMPLE_PROJECTION_OFFSET = 4876.0
  SECOND_STANDARD_PARALLEL = "N/A"
  WESTERNMOST_LONGITUDE = 316.0
END_OBJECT = IMAGE_MAP_PROJECTION
END
