PDS_VERSION_ID = PDS3
/* FILE DATA ELEMENTS */
RECORD_TYPE = UNDEFINED
/* POINTERS TO DATA OBJECTS */
^IMAGE = ("HG880_0000_P24.TIF")
/* IDENTIFICATION DATA ELEMENTS */
DATA_SET_ID = "MEX-M-HRSC-4-REFDR-MAPPROJECT-EXT6-V4.0"
DATA_SET_NAME = "MARS EXPRESS HRSC MAP PROJECTED REFDR EXTENSION6 V4.0"
DETECTOR_ID = MEX_HRSC_P2
EVENT_TYPE = "MARS-REGIONAL-MAPPING-Te-Im-Fl"
INSTRUMENT_HOST_ID = MEX
INSTRUMENT_HOST_NAME = "MARS EXPRESS"
INSTRUMENT_ID = HRSC
INSTRUMENT_NAME = "HIGH RESOLUTION STEREO CAMERA"
MISSION_NAME = "MARS EXPRESS"
MISSION_PHASE_NAME = ME_Phase_36
PROCESSING_LEVEL_ID = 4
PRODUCT_CREATION_TIME = 2023-01-26T14:39:22.000Z
PRODUCT_ID = "HG880_0000_P24.TIF"
RELEASE_ID = 0001
REVISION_ID = 0000
/* QUALITY DATA ELEMENTS */
DATA_QUALITY_ID = 1
DATA_QUALITY_DESC = "Data calculated based on original SPICE kernels"
/* TIME DATA ELEMENTS */
SPACECRAFT_CLOCK_START_COUNT = "1/0441660530.09046"
SPACECRAFT_CLOCK_STOP_COUNT = "1/0441660829.05279"
START_TIME = 2017-04-30T19:29:09.356Z
STOP_TIME = 2017-04-30T19:32:35.682Z
/* ORBITAL DATA ELEMENTS */
ASCENDING_NODE_LONGITUDE = 256.9
MAXIMUM_RESOLUTION = 0.0293
FOOTPRINT_POINT_LATITUDE = (-36.1831,-36.1644,-36.1428,-36.1131, -36.1123,-36.0893,-35.7516,-35.5257, -35.1873,-34.8494,-34.4003,-34.1705, -33.7666,-33.3637,-33.0955,-32.8273, -32.4248,-32.1563,-31.8882,-31.6214, -31.3537,-31.0863,-30.8184,-30.5506, -30.1503,-29.8837,-29.6173,-29.3512, -29.0846,-28.6851,-28.419,-28.151, -27.8786,-27.4703,-27.0615,-26.783, -26.5044,-26.2259,-25.9479,-25.6642, -25.3779,-25.095,-24.6642,-24.3729, -24.0823,-23.7913,-23.4936,-23.1964, -22.9001,-22.7497,-22.7182,-22.7291, -22.737,-22.7492,-22.7584,-22.7649, -22.7652,-22.7659,-23.3626,-23.6598, -24.1017,-24.3924,-24.6839,-24.9732, -25.2584,-25.6867,-25.972,-26.2507, -26.6682,-27.0878,-27.3615,-27.6341, -27.9069,-28.3164,-28.5823,-28.8489, -29.1139,-29.3829,-29.7836,-30.0506, -30.3183,-30.5858,-30.8529,-31.2534, -31.6582,-32.0601,-32.3249,-32.5973, -32.8665,-33.1354,-33.5392,-33.809, -34.0787,-34.3317,-34.7821,-35.3463, -35.6854,-36.0253,-36.1397,-36.1831)
FOOTPRINT_POINT_LONGITUDE = (12.7583,12.2884,11.8107,11.2321, 11.2167,11.1875,11.1986,11.205,11.2143, 11.2237,11.2367,11.2392,11.2475,11.2561 ,11.2616,11.2669,11.2738,11.2777, 11.2818,11.2867,11.2903,11.2939,11.2965 ,11.2989,11.3032,11.3058,11.3082, 11.3105,11.3119,11.3137,11.3146,11.3156 ,11.3167,11.3177,11.3173,11.3174, 11.3171,11.3166,11.3161,11.3153,11.3129 ,11.313,11.3102,11.3079,11.3057,11.3032 ,11.3,11.2967,11.2937,11.292,11.2916, 11.6221,11.8811,12.326,12.732,13.034, 13.0508,13.0568,13.0476,13.043,13.0359, 13.0311,13.0263,13.0214,13.0165,13.009, 13.0039,12.9988,12.9911,12.9832,12.9779 ,12.9725,12.9671,12.9588,12.9533, 12.9477,12.9421,12.9363,12.9275,12.9215 ,12.9154,12.9093,12.903,12.8934,12.8836 ,12.8735,12.8666,12.8598,12.8527, 12.8456,12.8346,12.8272,12.8197,12.8124 ,12.7993,12.7823,12.7719,12.7614, 12.7578,12.7583)
ORBIT_NUMBER = 16880
ORBITAL_ECCENTRICITY = 0.578
ORBITAL_INCLINATION = 86.95
ORBITAL_SEMIMAJOR_AXIS = 8801.45
PERIAPSIS_ALTITUDE = 328.24
PERIAPSIS_ARGUMENT_ANGLE = 309.63
PERIAPSIS_TIME = 2017-04-30T19:25:55.000Z
SPACECRAFT_ORIENTATION = (0.0,1.0,0.0)
^MEX_ORIENTATION_DESC = "MEX_ORIENTATION_DESC.TXT"
SPACECRAFT_POINTING_MODE = ACROSSTRACK
^MEX_POINTING_DESC = "MEX_POINTING_DESC.TXT"
RIGHT_ASCENSION = -1e+32
DECLINATION = -1e+32
OFFSET_ANGLE = 0.7
SPACECRAFT_SOLAR_DISTANCE = 2.32118e+08
TARGET_NAME = MARS
/* CAMERA DATA ELEMENTS */
DETECTOR_TEMPERATURE = 18.3705
FOCAL_PLANE_TEMPERATURE = 7.5638
INST_CMPRS_NAME = "DISCRETE COSINE TRANSFORMATION (DCT)"
INST_CMPRS_RATIO = 8.00137
INST_CMPRS_QUALITY = 0
INST_CMPRS_QUANTZ_TBL_ID = 0
INSTRUMENT_TEMPERATURE = 11.0301
LENS_TEMPERATURE = 8.1755
MACROPIXEL_SIZE = 2
MISSING_FRAMES = 0
PIXEL_SUBSAMPLING_FLAG = N
SIGNAL_CHAIN_ID = 3
/* RADIOMETRIC DATA ELEMENTS */
BANDWIDTH = 177.0
CENTER_FILTER_WAVELENGTH = 676.5
RADIANCE_OFFSET = 3.71143
RADIANCE_SCALING_FACTOR = 0.014368
REFLECTANCE_SCALING_FACTOR = 0.000410461
MEX:REFLECTANCE_OFFSET = 0.106027
/* IMAGE OBJECT DEFINITIONS */
OBJECT = IMAGE
  INTERCHANGE_FORMAT = BINARY
  LINES = 31763
  LINE_SAMPLES = 4010
  SAMPLE_TYPE = UNSIGNED_INTEGER
  SAMPLE_BITS = 8
  BANDS = 1
  BAND_STORAGE_TYPE = BAND_SEQUENTIAL
  MAXIMUM = 255
  MEAN = 121.105
  MINIMUM = 1
  STANDARD_DEVIATION = 29.8786
END_OBJECT = IMAGE
/* MAP OBJECT DEFINITIONS */
OBJECT = IMAGE_MAP_PROJECTION
  ^DATA_SET_MAP_PROJECTION_CATALOG= "DSMAP.CAT"
  A_AXIS_RADIUS = 3396.0
  B_AXIS_RADIUS = 3396.0
  C_AXIS_RADIUS = 3396.0
  CENTER_LATITUDE = 0.0
  CENTER_LONGITUDE = 12.0
  COORDINATE_SYSTEM_NAME = PLANETOGRAPHIC
  COORDINATE_SYSTEM_TYPE = "BODY-FIXED ROTATING"
  EASTERNMOST_LONGITUDE = 13.0568
  FIRST_STANDARD_PARALLEL = "N/A"
  LINE_FIRST_PIXEL = 1
  LINE_LAST_PIXEL = 31763
  LINE_PROJECTION_OFFSET = -53913.25
  MAP_PROJECTION_ROTATION = 0.0
  MAP_PROJECTION_TYPE = SINUSOIDAL
  MAP_RESOLUTION = 2370.85521546667
  MAP_SCALE = 0.025
  MAXIMUM_LATITUDE = -22.7182
  MINIMUM_LATITUDE = -36.1831
  POSITIVE_LONGITUDE_DIRECTION = EAST
  REFERENCE_LATITUDE = "N/A"
  REFERENCE_LONGITUDE = "N/A"
  SAMPLE_FIRST_PIXEL = 1
  SAMPLE_LAST_PIXEL = 4010
  SAMPLE_PROJECTION_OFFSET = 1618.75
  SECOND_STANDARD_PARALLEL = "N/A"
  WESTERNMOST_LONGITUDE = 11.1875
END_OBJECT = IMAGE_MAP_PROJECTION
END
