PDS_VERSION_ID = PDS3
/* FILE DATA ELEMENTS */
RECORD_TYPE = UNDEFINED
/* POINTERS TO DATA OBJECTS */
^IMAGE = ("HG883_0000_RE4.TIF")
/* IDENTIFICATION DATA ELEMENTS */
DATA_SET_ID = "MEX-M-HRSC-4-REFDR-MAPPROJECT-EXT6-V4.0"
DATA_SET_NAME = "MARS EXPRESS HRSC MAP PROJECTED REFDR EXTENSION6 V4.0"
DETECTOR_ID = MEX_HRSC_RED
EVENT_TYPE = "MARS-REGIONAL-MAPPING-Im-Fl-Gl"
INSTRUMENT_HOST_ID = MEX
INSTRUMENT_HOST_NAME = "MARS EXPRESS"
INSTRUMENT_ID = HRSC
INSTRUMENT_NAME = "HIGH RESOLUTION STEREO CAMERA"
MISSION_NAME = "MARS EXPRESS"
MISSION_PHASE_NAME = ME_Phase_36
PROCESSING_LEVEL_ID = 4
PRODUCT_CREATION_TIME = 2023-01-26T14:39:22.000Z
PRODUCT_ID = "HG883_0000_RE4.TIF"
RELEASE_ID = 0001
REVISION_ID = 0000
/* QUALITY DATA ELEMENTS */
DATA_QUALITY_ID = 1
DATA_QUALITY_DESC = "Data calculated based on original SPICE kernels"
/* TIME DATA ELEMENTS */
SPACECRAFT_CLOCK_START_COUNT = "1/0441735833.07323"
SPACECRAFT_CLOCK_STOP_COUNT = "1/0441736056.47842"
START_TIME = 2017-05-01T16:24:06.752Z
STOP_TIME = 2017-05-01T16:26:46.288Z
/* ORBITAL DATA ELEMENTS */
ASCENDING_NODE_LONGITUDE = 256.83
MAXIMUM_RESOLUTION = 0.0556
FOOTPRINT_POINT_LATITUDE = (-52.7425,-52.7081,-52.67,-52.6136, -52.6121,-52.5121,-52.1,-51.894,-51.688 ,-51.2763,-50.9674,-50.761,-50.4517, -50.1404,-49.9327,-49.6213,-49.4142, -49.2079,-48.9996,-48.6883,-48.3784, -48.068,-47.7565,-47.5487,-47.3422, -47.031,-46.8219,-46.6101,-46.4005, -46.0883,-45.8798,-45.6716,-45.462, -45.2528,-45.0442,-44.8354,-44.627, -44.3138,-44.1044,-43.7907,-43.4777, -43.2684,-43.0597,-42.85,-42.6403, -42.4322,-42.2227,-42.1177,-42.0652, -42.0921,-42.1139,-42.1471,-42.1664, -42.1672,-42.1683,-42.3784,-42.5888, -42.9044,-43.1149,-43.3242,-43.5342, -43.7453,-43.9548,-44.2698,-44.4806, -44.6904,-44.8993,-45.1086,-45.4205, -45.7341,-45.9432,-46.2566,-46.4671, -46.6769,-46.8844,-47.0928,-47.4065, -47.6154,-47.9278,-48.2414,-48.4506, -48.6593,-48.9692,-49.1784,-49.4902, -49.6984,-49.9066,-50.2187,-50.4259, -50.6332,-50.944,-51.1513,-51.3587, -51.5655,-51.7727,-51.9793,-52.2895, -52.4962,-52.5996,-52.7425)
FOOTPRINT_POINT_LONGITUDE = (64.9224,64.3768,63.8215,63.077,63.059, 62.9428,62.9979,63.0251,63.052,63.1054, 63.1445,63.1699,63.2075,63.2426,63.2655 ,63.2995,63.3223,63.3458,63.367,63.3993 ,63.4327,63.4652,63.4957,63.5158, 63.5369,63.5667,63.5845,63.5993,63.6162 ,63.6434,63.6609,63.6784,63.6943, 63.7104,63.7269,63.743,63.7593,63.7827, 63.7974,63.8195,63.8419,63.8558,63.8702 ,63.8834,63.8963,63.9107,63.9235, 63.9295,63.9324,64.3234,64.6632,65.1965 ,65.5558,65.5707,65.5756,65.566,65.5562 ,65.5414,65.5314,65.5212,65.5109, 65.5006,65.49,65.474,65.4632,65.4522, 65.441,65.4297,65.4123,65.3947,65.3829, 65.3648,65.3528,65.3405,65.3279,65.3152 ,65.296,65.283,65.2631,65.243,65.2294, 65.2156,65.1942,65.1801,65.1583,65.1436 ,65.1288,65.1062,65.0908,65.0752, 65.0515,65.0355,65.0193,65.0028,64.9862 ,64.9694,64.9437,64.9264,64.9176, 64.9224)
ORBIT_NUMBER = 16883
ORBITAL_ECCENTRICITY = 0.578
ORBITAL_INCLINATION = 86.97
ORBITAL_SEMIMAJOR_AXIS = 8801.22
PERIAPSIS_ALTITUDE = 327.34
PERIAPSIS_ARGUMENT_ANGLE = 309.13
PERIAPSIS_TIME = 2017-05-01T16:25:01.000Z
SPACECRAFT_ORIENTATION = (0.0,1.0,0.0)
^MEX_ORIENTATION_DESC = "MEX_ORIENTATION_DESC.TXT"
SPACECRAFT_POINTING_MODE = ACROSSTRACK
^MEX_POINTING_DESC = "MEX_POINTING_DESC.TXT"
RIGHT_ASCENSION = -1e+32
DECLINATION = -1e+32
OFFSET_ANGLE = 0.74
SPACECRAFT_SOLAR_DISTANCE = 2.32281e+08
TARGET_NAME = MARS
/* CAMERA DATA ELEMENTS */
DETECTOR_TEMPERATURE = 18.7783
FOCAL_PLANE_TEMPERATURE = 8.7872
INST_CMPRS_NAME = "DISCRETE COSINE TRANSFORMATION (DCT)"
INST_CMPRS_RATIO = 29.4079
INST_CMPRS_QUALITY = 0
INST_CMPRS_QUANTZ_TBL_ID = 0
INSTRUMENT_TEMPERATURE = 11.4379
LENS_TEMPERATURE = 8.9911
MACROPIXEL_SIZE = 4
MISSING_FRAMES = 0
PIXEL_SUBSAMPLING_FLAG = N
SIGNAL_CHAIN_ID = 2
/* RADIOMETRIC DATA ELEMENTS */
BANDWIDTH = 48.0
CENTER_FILTER_WAVELENGTH = 748.0
RADIANCE_OFFSET = 1.41654
RADIANCE_SCALING_FACTOR = 0.00242002
REFLECTANCE_SCALING_FACTOR = 0.00029797
MEX:REFLECTANCE_OFFSET = 0.174414
/* IMAGE OBJECT DEFINITIONS */
OBJECT = IMAGE
  INTERCHANGE_FORMAT = BINARY
  LINES = 12482
  LINE_SAMPLES = 2156
  SAMPLE_TYPE = UNSIGNED_INTEGER
  SAMPLE_BITS = 8
  BANDS = 1
  BAND_STORAGE_TYPE = BAND_SEQUENTIAL
  MAXIMUM = 255
  MEAN = 130.658
  MINIMUM = 1
  STANDARD_DEVIATION = 39.0411
END_OBJECT = IMAGE
/* MAP OBJECT DEFINITIONS */
OBJECT = IMAGE_MAP_PROJECTION
  ^DATA_SET_MAP_PROJECTION_CATALOG= "DSMAP.CAT"
  A_AXIS_RADIUS = 3396.0
  B_AXIS_RADIUS = 3396.0
  C_AXIS_RADIUS = 3396.0
  CENTER_LATITUDE = 0.0
  CENTER_LONGITUDE = 64.0
  COORDINATE_SYSTEM_NAME = PLANETOGRAPHIC
  COORDINATE_SYSTEM_TYPE = "BODY-FIXED ROTATING"
  EASTERNMOST_LONGITUDE = 65.57559999999999
  FIRST_STANDARD_PARALLEL = "N/A"
  LINE_FIRST_PIXEL = 1
  LINE_LAST_PIXEL = 12482
  LINE_PROJECTION_OFFSET = -49934.375
  MAP_PROJECTION_ROTATION = 0.0
  MAP_PROJECTION_TYPE = SINUSOIDAL
  MAP_RESOLUTION = 1185.42760773333
  MAP_SCALE = 0.05
  MAXIMUM_LATITUDE = -42.0652
  MINIMUM_LATITUDE = -52.7425
  POSITIVE_LONGITUDE_DIRECTION = EAST
  REFERENCE_LATITUDE = "N/A"
  REFERENCE_LONGITUDE = "N/A"
  SAMPLE_FIRST_PIXEL = 1
  SAMPLE_LAST_PIXEL = 2156
  SAMPLE_PROJECTION_OFFSET = 759.875
  SECOND_STANDARD_PARALLEL = "N/A"
  WESTERNMOST_LONGITUDE = 62.9428
END_OBJECT = IMAGE_MAP_PROJECTION
END
