PDS_VERSION_ID = PDS3
/* FILE DATA ELEMENTS */
RECORD_TYPE = UNDEFINED
/* POINTERS TO DATA OBJECTS */
^IMAGE = ("HG884_0000_IR4.TIF")
/* IDENTIFICATION DATA ELEMENTS */
DATA_SET_ID = "MEX-M-HRSC-4-REFDR-MAPPROJECT-EXT6-V4.0"
DATA_SET_NAME = "MARS EXPRESS HRSC MAP PROJECTED REFDR EXTENSION6 V4.0"
DETECTOR_ID = MEX_HRSC_IR
EVENT_TYPE = "MARS-REGIONAL-MAPPING-Te-Gl-Pf"
INSTRUMENT_HOST_ID = MEX
INSTRUMENT_HOST_NAME = "MARS EXPRESS"
INSTRUMENT_ID = HRSC
INSTRUMENT_NAME = "HIGH RESOLUTION STEREO CAMERA"
MISSION_NAME = "MARS EXPRESS"
MISSION_PHASE_NAME = ME_Phase_36
PROCESSING_LEVEL_ID = 4
PRODUCT_CREATION_TIME = 2023-01-26T14:39:22.000Z
PRODUCT_ID = "HG884_0000_IR4.TIF"
RELEASE_ID = 0001
REVISION_ID = 0000
/* QUALITY DATA ELEMENTS */
DATA_QUALITY_ID = 1
DATA_QUALITY_DESC = "Data calculated based on original SPICE kernels"
/* TIME DATA ELEMENTS */
SPACECRAFT_CLOCK_START_COUNT = "1/0441761013.07285"
SPACECRAFT_CLOCK_STOP_COUNT = "1/0441761217.40453"
START_TIME = 2017-05-01T23:24:35.364Z
STOP_TIME = 2017-05-01T23:26:58.579Z
/* ORBITAL DATA ELEMENTS */
ASCENDING_NODE_LONGITUDE = 256.82
MAXIMUM_RESOLUTION = 0.055
FOOTPRINT_POINT_LATITUDE = (-52.7995,-52.7817,-52.7724,-52.7469, -52.7463,-52.817,-52.5447,-52.3624, -52.0892,-51.8168,-51.5441,-51.3639, -51.1828,-51.001,-50.8213,-50.5444, -50.2722,-50.0903,-49.8127,-49.5319, -49.3449,-49.1581,-48.9708,-48.6905, -48.5044,-48.3175,-48.1311,-47.9458, -47.7595,-47.4804,-47.2953,-47.1094, -46.8307,-46.6449,-46.4599,-46.2754, -46.0902,-45.9052,-45.7198,-45.443, -45.2584,-44.9818,-44.7966,-44.611, -44.4228,-44.2375,-44.0462,-43.8606, -43.6679,-43.5721,-43.5191,-43.5281, -43.5401,-43.5418,-43.548,-43.5482, -43.5491,-43.8377,-44.0293,-44.2191, -44.4064,-44.5897,-44.9529,-45.2356, -45.426,-45.7044,-45.9829,-46.1686, -46.4472,-46.7261,-46.9121,-47.1913, -47.3776,-47.6571,-47.8434,-48.0298, -48.216,-48.495,-48.683,-48.8698, -49.1498,-49.3391,-49.5265,-49.8061, -50.0851,-50.2668,-50.4489,-50.6302, -50.9083,-51.0887,-51.2703,-51.4527, -51.7259,-51.9112,-52.1846,-52.3673, -52.5488,-52.731,-52.8217,-52.7995)
FOOTPRINT_POINT_LONGITUDE = (323.855,323.159,322.836,322.055, 322.038,321.982,322.011,322.03,322.058, 322.085,322.112,322.129,322.145,322.162 ,322.178,322.202,322.226,322.242, 322.265,322.288,322.303,322.318,322.332 ,322.354,322.367,322.381,322.394, 322.407,322.42,322.439,322.45,322.463, 322.48,322.492,322.503,322.514,322.524, 322.535,322.546,322.561,322.571,322.585 ,322.595,322.605,322.617,322.624, 322.634,322.64,322.65,322.655,322.658, 323.028,323.617,323.895,324.298,324.313 ,324.318,324.31,324.304,324.297,324.289 ,324.282,324.265,324.258,324.254, 324.243,324.233,324.225,324.214,324.203 ,324.196,324.184,324.176,324.164, 324.156,324.148,324.139,324.126,324.118 ,324.109,324.095,324.087,324.078, 324.064,324.049,324.04,324.031,324.022, 324.006,323.996,323.986,323.976,323.961 ,323.952,323.937,323.926,323.915, 323.904,323.898,323.855)
ORBIT_NUMBER = 16884
ORBITAL_ECCENTRICITY = 0.578
ORBITAL_INCLINATION = 86.96
ORBITAL_SEMIMAJOR_AXIS = 8796.93
PERIAPSIS_ALTITUDE = 327.91
PERIAPSIS_ARGUMENT_ANGLE = 308.96
PERIAPSIS_TIME = 2017-05-01T23:24:41.000Z
SPACECRAFT_ORIENTATION = (0.0,1.0,0.0)
^MEX_ORIENTATION_DESC = "MEX_ORIENTATION_DESC.TXT"
SPACECRAFT_POINTING_MODE = NADIR
^MEX_POINTING_DESC = "MEX_POINTING_DESC.TXT"
RIGHT_ASCENSION = -1e+32
DECLINATION = -1e+32
OFFSET_ANGLE = -1e+32
SPACECRAFT_SOLAR_DISTANCE = 2.32336e+08
TARGET_NAME = MARS
/* CAMERA DATA ELEMENTS */
DETECTOR_TEMPERATURE = 17.1471
FOCAL_PLANE_TEMPERATURE = 6.9521
INST_CMPRS_NAME = "DISCRETE COSINE TRANSFORMATION (DCT)"
INST_CMPRS_RATIO = 12.1126
INST_CMPRS_QUALITY = 0
INST_CMPRS_QUANTZ_TBL_ID = 0
INSTRUMENT_TEMPERATURE = 10.8262
LENS_TEMPERATURE = 7.3599
MACROPIXEL_SIZE = 4
MISSING_FRAMES = 1
PIXEL_SUBSAMPLING_FLAG = N
SIGNAL_CHAIN_ID = 2
/* RADIOMETRIC DATA ELEMENTS */
BANDWIDTH = 81.0
CENTER_FILTER_WAVELENGTH = 955.5
RADIANCE_OFFSET = 0.872963
RADIANCE_SCALING_FACTOR = 0.00337448
REFLECTANCE_SCALING_FACTOR = 0.000392975
MEX:REFLECTANCE_OFFSET = 0.101661
/* IMAGE OBJECT DEFINITIONS */
OBJECT = IMAGE
  INTERCHANGE_FORMAT = BINARY
  LINES = 11089
  LINE_SAMPLES = 1853
  SAMPLE_TYPE = UNSIGNED_INTEGER
  SAMPLE_BITS = 8
  BANDS = 1
  BAND_STORAGE_TYPE = BAND_SEQUENTIAL
  MAXIMUM = 255
  MEAN = 133.416
  MINIMUM = 2
  STANDARD_DEVIATION = 45.1141
END_OBJECT = IMAGE
/* MAP OBJECT DEFINITIONS */
OBJECT = IMAGE_MAP_PROJECTION
  ^DATA_SET_MAP_PROJECTION_CATALOG= "DSMAP.CAT"
  A_AXIS_RADIUS = 3396.0
  B_AXIS_RADIUS = 3396.0
  C_AXIS_RADIUS = 3396.0
  CENTER_LATITUDE = 0.0
  CENTER_LONGITUDE = 323.0
  COORDINATE_SYSTEM_NAME = PLANETOGRAPHIC
  COORDINATE_SYSTEM_TYPE = "BODY-FIXED ROTATING"
  EASTERNMOST_LONGITUDE = 324.318
  FIRST_STANDARD_PARALLEL = "N/A"
  LINE_FIRST_PIXEL = 1
  LINE_LAST_PIXEL = 11089
  LINE_PROJECTION_OFFSET = -51579.125
  MAP_PROJECTION_ROTATION = 0.0
  MAP_PROJECTION_TYPE = SINUSOIDAL
  MAP_RESOLUTION = 1185.42760773333
  MAP_SCALE = 0.05
  MAXIMUM_LATITUDE = -43.5191
  MINIMUM_LATITUDE = -52.8217
  POSITIVE_LONGITUDE_DIRECTION = EAST
  REFERENCE_LATITUDE = "N/A"
  REFERENCE_LONGITUDE = "N/A"
  SAMPLE_FIRST_PIXEL = 1
  SAMPLE_LAST_PIXEL = 1853
  SAMPLE_PROJECTION_OFFSET = 735.625
  SECOND_STANDARD_PARALLEL = "N/A"
  WESTERNMOST_LONGITUDE = 321.982
END_OBJECT = IMAGE_MAP_PROJECTION
END
