PDS_VERSION_ID = PDS3
/* FILE DATA ELEMENTS */
RECORD_TYPE = UNDEFINED
/* POINTERS TO DATA OBJECTS */
^IMAGE = ("HG890_0000_IR4.TIF")
/* IDENTIFICATION DATA ELEMENTS */
DATA_SET_ID = "MEX-M-HRSC-4-REFDR-MAPPROJECT-EXT6-V4.0"
DATA_SET_NAME = "MARS EXPRESS HRSC MAP PROJECTED REFDR EXTENSION6 V4.0"
DETECTOR_ID = MEX_HRSC_IR
EVENT_TYPE = "MARS-REGIONAL-MAPPING-Im-Gl-La"
INSTRUMENT_HOST_ID = MEX
INSTRUMENT_HOST_NAME = "MARS EXPRESS"
INSTRUMENT_ID = HRSC
INSTRUMENT_NAME = "HIGH RESOLUTION STEREO CAMERA"
MISSION_NAME = "MARS EXPRESS"
MISSION_PHASE_NAME = ME_Phase_36
PROCESSING_LEVEL_ID = 4
PRODUCT_CREATION_TIME = 2023-01-26T14:39:22.000Z
PRODUCT_ID = "HG890_0000_IR4.TIF"
RELEASE_ID = 0001
REVISION_ID = 0000
/* QUALITY DATA ELEMENTS */
DATA_QUALITY_ID = 1
DATA_QUALITY_DESC = "Data calculated based on original SPICE kernels"
/* TIME DATA ELEMENTS */
SPACECRAFT_CLOCK_START_COUNT = "1/0441912452.08274"
SPACECRAFT_CLOCK_STOP_COUNT = "1/0441912750.48985"
START_TIME = 2017-05-03T17:28:51.056Z
STOP_TIME = 2017-05-03T17:32:25.302Z
/* ORBITAL DATA ELEMENTS */
ASCENDING_NODE_LONGITUDE = 256.71
MAXIMUM_RESOLUTION = 0.0737
FOOTPRINT_POINT_LATITUDE = (-30.7425,-30.742,-30.741,-30.7399, -30.7373,-30.7372,-30.795,-30.3684, -29.937,-29.3924,-29.1694,-28.7207, -28.3856,-28.1573,-27.8205,-27.5971, -27.3672,-27.1401,-26.9127,-26.6815, -26.3337,-26.1015,-25.8669,-25.6336, -25.3982,-25.1606,-24.9188,-24.683, -24.4435,-24.2012,-23.9622,-23.7192, -23.4738,-23.2295,-22.9818,-22.7303, -22.3529,-21.9735,-21.5926,-21.3377, -21.0786,-20.8244,-20.4347,-20.0403, -19.7749,-19.3707,-18.9775,-18.8423, -18.804,-18.7906,-18.788,-18.7839, -18.7771,-18.7736,-18.7699,-18.7696, -18.7709,-19.0436,-19.3119,-19.5817, -19.8458,-20.2444,-20.5061,-20.762, -21.024,-21.417,-21.673,-21.9289, -22.1802,-22.4326,-22.6867,-22.9366, -23.1865,-23.4323,-23.6786,-23.9236, -24.1656,-24.4071,-24.6493,-24.8879, -25.1267,-25.4776,-25.7144,-26.0701, -26.3022,-26.6487,-26.8802,-27.1091, -27.4508,-27.7897,-28.0179,-28.2439, -28.6905,-28.9168,-29.4744,-29.9104, -30.3439,-30.6644,-30.7715,-30.7425)
FOOTPRINT_POINT_LONGITUDE = (70.8447,70.2097,69.8679,69.6076, 69.1189,69.1026,69.0724,69.0704,69.0678 ,69.0648,69.0647,69.0635,69.062,69.0609 ,69.057,69.054,69.0519,69.0482,69.0448, 69.0422,69.0368,69.0333,69.0298,69.0248 ,69.0207,69.0168,69.0133,69.0075, 69.0024,68.9972,68.9908,68.9849,68.9792 ,68.9731,68.9667,68.9616,68.9526, 68.9431,68.9318,68.9246,68.9172,68.9079 ,68.8952,68.8831,68.8747,68.8631, 68.8457,68.8407,68.8394,69.2327,69.6439 ,69.9527,70.4263,70.6938,71.0237, 71.0443,71.0512,71.0474,71.0434,71.0398 ,71.0354,71.0302,71.0261,71.0197, 71.0172,71.0137,71.01,71.0061,71.0019, 70.9979,70.9957,70.9922,70.9885,70.9849 ,70.9813,70.9775,70.9737,70.9694, 70.9661,70.9623,70.9583,70.951,70.9478, 70.9435,70.9399,70.9334,70.9302,70.9268 ,70.9205,70.9149,70.9125,70.909,70.9023 ,70.9007,70.8941,70.8868,70.879,70.8732 ,70.8713,70.8447)
ORBIT_NUMBER = 16890
ORBITAL_ECCENTRICITY = 0.578
ORBITAL_INCLINATION = 86.97
ORBITAL_SEMIMAJOR_AXIS = 8799.28
PERIAPSIS_ALTITUDE = 327.16
PERIAPSIS_ARGUMENT_ANGLE = 307.93
PERIAPSIS_TIME = 2017-05-03T17:22:50.000Z
SPACECRAFT_ORIENTATION = (0.0,1.0,0.0)
^MEX_ORIENTATION_DESC = "MEX_ORIENTATION_DESC.TXT"
SPACECRAFT_POINTING_MODE = NADIR
^MEX_POINTING_DESC = "MEX_POINTING_DESC.TXT"
RIGHT_ASCENSION = -1e+32
DECLINATION = -1e+32
OFFSET_ANGLE = -1e+32
SPACECRAFT_SOLAR_DISTANCE = 2.32662e+08
TARGET_NAME = MARS
/* CAMERA DATA ELEMENTS */
DETECTOR_TEMPERATURE = 18.3705
FOCAL_PLANE_TEMPERATURE = 9.195
INST_CMPRS_NAME = "DISCRETE COSINE TRANSFORMATION (DCT)"
INST_CMPRS_RATIO = 17.2117
INST_CMPRS_QUALITY = 0
INST_CMPRS_QUANTZ_TBL_ID = 0
INSTRUMENT_TEMPERATURE = 12.2535
LENS_TEMPERATURE = 9.3989
MACROPIXEL_SIZE = 4
MISSING_FRAMES = 0
PIXEL_SUBSAMPLING_FLAG = N
SIGNAL_CHAIN_ID = 2
/* RADIOMETRIC DATA ELEMENTS */
BANDWIDTH = 81.0
CENTER_FILTER_WAVELENGTH = 955.5
RADIANCE_OFFSET = 0.960714
RADIANCE_SCALING_FACTOR = 0.00376751
REFLECTANCE_SCALING_FACTOR = 0.000439984
MEX:REFLECTANCE_OFFSET = 0.112196
/* IMAGE OBJECT DEFINITIONS */
OBJECT = IMAGE
  INTERCHANGE_FORMAT = BINARY
  LINES = 14235
  LINE_SAMPLES = 2293
  SAMPLE_TYPE = UNSIGNED_INTEGER
  SAMPLE_BITS = 8
  BANDS = 1
  BAND_STORAGE_TYPE = BAND_SEQUENTIAL
  MAXIMUM = 255
  MEAN = 91.3544
  MINIMUM = 1
  STANDARD_DEVIATION = 23.7979
END_OBJECT = IMAGE
/* MAP OBJECT DEFINITIONS */
OBJECT = IMAGE_MAP_PROJECTION
  ^DATA_SET_MAP_PROJECTION_CATALOG= "DSMAP.CAT"
  A_AXIS_RADIUS = 3396.0
  B_AXIS_RADIUS = 3396.0
  C_AXIS_RADIUS = 3396.0
  CENTER_LATITUDE = 0.0
  CENTER_LONGITUDE = 70.0
  COORDINATE_SYSTEM_NAME = PLANETOGRAPHIC
  COORDINATE_SYSTEM_TYPE = "BODY-FIXED ROTATING"
  EASTERNMOST_LONGITUDE = 71.05119999999999
  FIRST_STANDARD_PARALLEL = "N/A"
  LINE_FIRST_PIXEL = 1
  LINE_LAST_PIXEL = 14235
  LINE_PROJECTION_OFFSET = -22252.125
  MAP_PROJECTION_ROTATION = 0.0
  MAP_PROJECTION_TYPE = SINUSOIDAL
  MAP_RESOLUTION = 1185.42760773333
  MAP_SCALE = 0.05
  MAXIMUM_LATITUDE = -18.7696
  MINIMUM_LATITUDE = -30.795
  POSITIVE_LONGITUDE_DIRECTION = EAST
  REFERENCE_LATITUDE = "N/A"
  REFERENCE_LONGITUDE = "N/A"
  SAMPLE_FIRST_PIXEL = 1
  SAMPLE_LAST_PIXEL = 2293
  SAMPLE_PROJECTION_OFFSET = 1217.375
  SECOND_STANDARD_PARALLEL = "N/A"
  WESTERNMOST_LONGITUDE = 68.8394
END_OBJECT = IMAGE_MAP_PROJECTION
END
