PDS_VERSION_ID = PDS3
/* FILE DATA ELEMENTS */
RECORD_TYPE = UNDEFINED
/* POINTERS TO DATA OBJECTS */
^IMAGE = ("HG890_0000_ND4.TIF")
/* IDENTIFICATION DATA ELEMENTS */
DATA_SET_ID = "MEX-M-HRSC-4-REFDR-MAPPROJECT-EXT6-V4.0"
DATA_SET_NAME = "MARS EXPRESS HRSC MAP PROJECTED REFDR EXTENSION6 V4.0"
DETECTOR_ID = MEX_HRSC_NADIR
EVENT_TYPE = "MARS-REGIONAL-MAPPING-Im-Gl-La"
INSTRUMENT_HOST_ID = MEX
INSTRUMENT_HOST_NAME = "MARS EXPRESS"
INSTRUMENT_ID = HRSC
INSTRUMENT_NAME = "HIGH RESOLUTION STEREO CAMERA"
MISSION_NAME = "MARS EXPRESS"
MISSION_PHASE_NAME = ME_Phase_36
PROCESSING_LEVEL_ID = 4
PRODUCT_CREATION_TIME = 2023-01-26T14:39:22.000Z
PRODUCT_ID = "HG890_0000_ND4.TIF"
RELEASE_ID = 0001
REVISION_ID = 0000
/* QUALITY DATA ELEMENTS */
DATA_QUALITY_ID = 1
DATA_QUALITY_DESC = "Data calculated based on original SPICE kernels"
/* TIME DATA ELEMENTS */
SPACECRAFT_CLOCK_START_COUNT = "1/0441912452.08274"
SPACECRAFT_CLOCK_STOP_COUNT = "1/0441912750.48985"
START_TIME = 2017-05-03T17:28:17.196Z
STOP_TIME = 2017-05-03T17:31:35.205Z
/* ORBITAL DATA ELEMENTS */
ASCENDING_NODE_LONGITUDE = 256.71
MAXIMUM_RESOLUTION = 0.0168
FOOTPRINT_POINT_LATITUDE = (-30.78,-30.7795,-30.7767,-30.7716, -30.7714,-30.7693,-30.131,-29.5871, -29.1528,-28.489,-28.0461,-27.8194, -27.5931,-27.367,-27.1412,-26.9116, -26.6809,-26.4504,-26.2203,-25.9867, -25.7517,-25.517,-25.2826,-25.0435, -24.6849,-24.4462,-24.2028,-23.9594, -23.7165,-23.3469,-23.0995,-22.8525, -22.6013,-22.3497,-22.0986,-21.843, -21.5874,-21.202,-20.9422,-20.6828, -20.288,-20.0246,-19.6243,-19.357, -18.9428,-18.8072,-18.7897,-18.7887, -18.7869,-18.7834,-18.7804,-18.7761, -18.7711,-18.7708,-18.771,-19.051, -19.3225,-19.5905,-19.9923,-20.3885, -20.6526,-20.9125,-21.1728,-21.4315, -21.6875,-21.9439,-22.324,-22.5761, -22.8283,-23.0759,-23.3238,-23.6947, -23.9382,-24.182,-24.4263,-24.6655, -24.905,-25.1448,-25.4999,-25.7351, -25.9706,-26.205,-26.4357,-26.6667, -26.8979,-27.1282,-27.3546,-27.5812, -27.808,-28.1462,-28.3682,-28.5904, -28.8128,-29.1448,-29.58,-30.0161, -30.3383,-30.6582,-30.7649,-30.78)
FOOTPRINT_POINT_LONGITUDE = (70.7973,70.2558,69.6982,69.1564,69.14, 69.1072,69.1053,69.1038,69.1039,69.1035 ,69.1014,69.0991,69.0969,69.0952, 69.0925,69.0898,69.0878,69.0851,69.082, 69.0797,69.0761,69.072,69.0689,69.0659, 69.0599,69.055,69.0504,69.0451,69.0401, 69.0328,69.0273,69.0221,69.0195,69.0127 ,69.0076,69.002,68.9951,68.9851,68.9784 ,68.9701,68.9596,68.9526,68.942,68.9352 ,68.9197,68.9156,68.9151,69.1792, 69.4602,69.902,70.2034,70.5651,70.9271, 70.9473,70.9571,70.9546,70.9518,70.9498 ,70.9451,70.9421,70.938,70.936,70.9342, 70.9322,70.9297,70.927,70.9224,70.9199, 70.9186,70.9155,70.9134,70.9091,70.9067 ,70.9038,70.9,70.8979,70.8951,70.8921, 70.8874,70.8836,70.881,70.8791,70.8758, 70.8727,70.8701,70.8674,70.864,70.8607, 70.858,70.8548,70.8521,70.8491,70.8467, 70.8452,70.8403,70.8343,70.8293,70.8245 ,70.8228,70.7973)
ORBIT_NUMBER = 16890
ORBITAL_ECCENTRICITY = 0.578
ORBITAL_INCLINATION = 86.97
ORBITAL_SEMIMAJOR_AXIS = 8799.28
PERIAPSIS_ALTITUDE = 327.16
PERIAPSIS_ARGUMENT_ANGLE = 307.93
PERIAPSIS_TIME = 2017-05-03T17:22:50.000Z
SPACECRAFT_ORIENTATION = (0.0,1.0,0.0)
^MEX_ORIENTATION_DESC = "MEX_ORIENTATION_DESC.TXT"
SPACECRAFT_POINTING_MODE = NADIR
^MEX_POINTING_DESC = "MEX_POINTING_DESC.TXT"
RIGHT_ASCENSION = -1e+32
DECLINATION = -1e+32
OFFSET_ANGLE = -1e+32
SPACECRAFT_SOLAR_DISTANCE = 2.32662e+08
TARGET_NAME = MARS
/* CAMERA DATA ELEMENTS */
DETECTOR_TEMPERATURE = 18.5744
FOCAL_PLANE_TEMPERATURE = 9.195
INST_CMPRS_NAME = "DISCRETE COSINE TRANSFORMATION (DCT)"
INST_CMPRS_RATIO = 6.19718
INST_CMPRS_QUALITY = 0
INST_CMPRS_QUANTZ_TBL_ID = 0
INSTRUMENT_TEMPERATURE = 12.2535
LENS_TEMPERATURE = 9.3989
MACROPIXEL_SIZE = 1
MISSING_FRAMES = 3
PIXEL_SUBSAMPLING_FLAG = N
SIGNAL_CHAIN_ID = 0
/* RADIOMETRIC DATA ELEMENTS */
BANDWIDTH = 177.0
CENTER_FILTER_WAVELENGTH = 677.5
RADIANCE_OFFSET = 3.8478
RADIANCE_SCALING_FACTOR = 0.01481
REFLECTANCE_SCALING_FACTOR = 0.000425887
MEX:REFLECTANCE_OFFSET = 0.11065
/* IMAGE OBJECT DEFINITIONS */
OBJECT = IMAGE
  INTERCHANGE_FORMAT = BINARY
  LINES = 56938
  LINE_SAMPLES = 9170
  SAMPLE_TYPE = UNSIGNED_INTEGER
  SAMPLE_BITS = 8
  BANDS = 1
  BAND_STORAGE_TYPE = BAND_SEQUENTIAL
  MAXIMUM = 255
  MEAN = 103.944
  MINIMUM = 1
  STANDARD_DEVIATION = 19.6478
END_OBJECT = IMAGE
/* MAP OBJECT DEFINITIONS */
OBJECT = IMAGE_MAP_PROJECTION
  ^DATA_SET_MAP_PROJECTION_CATALOG= "DSMAP.CAT"
  A_AXIS_RADIUS = 3396.0
  B_AXIS_RADIUS = 3396.0
  C_AXIS_RADIUS = 3396.0
  CENTER_LATITUDE = 0.0
  CENTER_LONGITUDE = 70.0
  COORDINATE_SYSTEM_NAME = PLANETOGRAPHIC
  COORDINATE_SYSTEM_TYPE = "BODY-FIXED ROTATING"
  EASTERNMOST_LONGITUDE = 70.9571
  FIRST_STANDARD_PARALLEL = "N/A"
  LINE_FIRST_PIXEL = 1
  LINE_LAST_PIXEL = 56938
  LINE_PROJECTION_OFFSET = -89007.0
  MAP_PROJECTION_ROTATION = 0.0
  MAP_PROJECTION_TYPE = SINUSOIDAL
  MAP_RESOLUTION = 4741.71043093333
  MAP_SCALE = 0.0125
  MAXIMUM_LATITUDE = -18.7708
  MINIMUM_LATITUDE = -30.78
  POSITIVE_LONGITUDE_DIRECTION = EAST
  REFERENCE_LATITUDE = "N/A"
  REFERENCE_LONGITUDE = "N/A"
  SAMPLE_FIRST_PIXEL = 1
  SAMPLE_LAST_PIXEL = 9170
  SAMPLE_PROJECTION_OFFSET = 4871.0
  SECOND_STANDARD_PARALLEL = "N/A"
  WESTERNMOST_LONGITUDE = 68.9151
END_OBJECT = IMAGE_MAP_PROJECTION
END
