PDS_VERSION_ID = PDS3
/* FILE DATA ELEMENTS */
RECORD_TYPE = UNDEFINED
/* POINTERS TO DATA OBJECTS */
^IMAGE = ("HG895_0000_BL4.TIF")
/* IDENTIFICATION DATA ELEMENTS */
DATA_SET_ID = "MEX-M-HRSC-4-REFDR-MAPPROJECT-EXT6-V4.0"
DATA_SET_NAME = "MARS EXPRESS HRSC MAP PROJECTED REFDR EXTENSION6 V4.0"
DETECTOR_ID = MEX_HRSC_BLUE
EVENT_TYPE = "MARS-REGIONAL-MAPPING-Im-Gl-Pf"
INSTRUMENT_HOST_ID = MEX
INSTRUMENT_HOST_NAME = "MARS EXPRESS"
INSTRUMENT_ID = HRSC
INSTRUMENT_NAME = "HIGH RESOLUTION STEREO CAMERA"
MISSION_NAME = "MARS EXPRESS"
MISSION_PHASE_NAME = ME_Phase_36
PROCESSING_LEVEL_ID = 4
PRODUCT_CREATION_TIME = 2023-01-26T14:39:22.000Z
PRODUCT_ID = "HG895_0000_BL4.TIF"
RELEASE_ID = 0001
REVISION_ID = 0000
/* QUALITY DATA ELEMENTS */
DATA_QUALITY_ID = 1
DATA_QUALITY_DESC = "Data calculated based on original SPICE kernels"
/* TIME DATA ELEMENTS */
SPACECRAFT_CLOCK_START_COUNT = "1/0442037982.09056"
SPACECRAFT_CLOCK_STOP_COUNT = "1/0442038187.25670"
START_TIME = 2017-05-05T04:20:15.525Z
STOP_TIME = 2017-05-05T04:22:38.533Z
/* ORBITAL DATA ELEMENTS */
ASCENDING_NODE_LONGITUDE = 256.62
MAXIMUM_RESOLUTION = 0.052
FOOTPRINT_POINT_LATITUDE = (-56.8303,-56.8206,-56.805,-56.7923, -56.7597,-56.7589,-56.743,-56.366, -56.0832,-55.8947,-55.7058,-55.517, -55.2338,-54.9504,-54.7615,-54.5725, -54.3834,-54.1942,-53.9105,-53.7215, -53.5334,-53.3501,-53.1671,-52.983, -52.7989,-52.5238,-52.3403,-52.157, -51.791,-51.6078,-51.4247,-51.2415, -50.8765,-50.5107,-50.3272,-50.0526, -49.8689,-49.5938,-49.3093,-49.0248, -48.7403,-48.5506,-48.361,-48.0767, -47.887,-47.6977,-47.5083,-47.4135, -47.3849,-47.3944,-47.4086,-47.4164, -47.4276,-47.4278,-47.4288,-47.6188, -47.9039,-48.189,-48.3791,-48.5693, -48.7593,-48.9495,-49.1398,-49.3299, -49.5205,-49.8004,-49.9841,-50.1681, -50.4431,-50.7172,-50.993,-51.1773, -51.5436,-51.7275,-51.9111,-52.0948, -52.2782,-52.4621,-52.646,-52.8303, -53.0145,-53.198,-53.3824,-53.567, -53.7559,-53.9458,-54.1355,-54.4201, -54.6098,-54.7995,-54.989,-55.1785, -55.4629,-55.6524,-55.9366,-56.1261, -56.4101,-56.6941,-56.7887,-56.8303)
FOOTPRINT_POINT_LONGITUDE = (278.239,277.9,277.41,277.052,276.243, 276.225,276.184,276.24,276.281,276.308, 276.334,276.36,276.398,276.435,276.459, 276.483,276.507,276.53,276.564,276.587, 276.61,276.63,276.65,276.668,276.686, 276.714,276.732,276.751,276.789,276.807 ,276.825,276.843,276.88,276.915,276.931 ,276.955,276.97,276.992,277.015,277.037 ,277.059,277.073,277.087,277.108, 277.121,277.135,277.148,277.155,277.157 ,277.469,277.972,278.286,278.82,278.836 ,278.841,278.833,278.821,278.808,278.8, 278.791,278.783,278.773,278.764,278.755 ,278.745,278.73,278.721,278.711,278.699 ,278.689,278.675,278.663,278.647, 278.636,278.626,278.616,278.606,278.595 ,278.583,278.57,278.557,278.546,278.533 ,278.518,278.504,278.491,278.479,278.46 ,278.447,278.434,278.421,278.408, 278.387,278.373,278.352,278.337,278.315 ,278.292,278.284,278.239)
ORBIT_NUMBER = 16895
ORBITAL_ECCENTRICITY = 0.578
ORBITAL_INCLINATION = 86.95
ORBITAL_SEMIMAJOR_AXIS = 8797.02
PERIAPSIS_ALTITUDE = 327.61
PERIAPSIS_ARGUMENT_ANGLE = 307.08
PERIAPSIS_TIME = 2017-05-05T04:21:22.000Z
SPACECRAFT_ORIENTATION = (0.0,1.0,0.0)
^MEX_ORIENTATION_DESC = "MEX_ORIENTATION_DESC.TXT"
SPACECRAFT_POINTING_MODE = NADIR
^MEX_POINTING_DESC = "MEX_POINTING_DESC.TXT"
RIGHT_ASCENSION = -1e+32
DECLINATION = -1e+32
OFFSET_ANGLE = -1e+32
SPACECRAFT_SOLAR_DISTANCE = 2.32933e+08
TARGET_NAME = MARS
/* CAMERA DATA ELEMENTS */
DETECTOR_TEMPERATURE = 18.1666
FOCAL_PLANE_TEMPERATURE = 7.9716
INST_CMPRS_NAME = "DISCRETE COSINE TRANSFORMATION (DCT)"
INST_CMPRS_RATIO = 5.69561
INST_CMPRS_QUALITY = 0
INST_CMPRS_QUANTZ_TBL_ID = 0
INSTRUMENT_TEMPERATURE = 11.4379
LENS_TEMPERATURE = 8.7872
MACROPIXEL_SIZE = 4
MISSING_FRAMES = 0
PIXEL_SUBSAMPLING_FLAG = N
SIGNAL_CHAIN_ID = 2
/* RADIOMETRIC DATA ELEMENTS */
BANDWIDTH = 76.0
CENTER_FILTER_WAVELENGTH = 444.0
RADIANCE_OFFSET = 0.452596
RADIANCE_SCALING_FACTOR = 0.00121015
REFLECTANCE_SCALING_FACTOR = 6.74617e-05
MEX:REFLECTANCE_OFFSET = 0.0252307
/* IMAGE OBJECT DEFINITIONS */
OBJECT = IMAGE
  INTERCHANGE_FORMAT = BINARY
  LINES = 11184
  LINE_SAMPLES = 1865
  SAMPLE_TYPE = UNSIGNED_INTEGER
  SAMPLE_BITS = 8
  BANDS = 1
  BAND_STORAGE_TYPE = BAND_SEQUENTIAL
  MAXIMUM = 254
  MEAN = 141.338
  MINIMUM = 1
  STANDARD_DEVIATION = 23.0774
END_OBJECT = IMAGE
/* MAP OBJECT DEFINITIONS */
OBJECT = IMAGE_MAP_PROJECTION
  ^DATA_SET_MAP_PROJECTION_CATALOG= "DSMAP.CAT"
  A_AXIS_RADIUS = 3396.0
  B_AXIS_RADIUS = 3396.0
  C_AXIS_RADIUS = 3396.0
  CENTER_LATITUDE = 0.0
  CENTER_LONGITUDE = 278.0
  COORDINATE_SYSTEM_NAME = PLANETOGRAPHIC
  COORDINATE_SYSTEM_TYPE = "BODY-FIXED ROTATING"
  EASTERNMOST_LONGITUDE = 278.841
  FIRST_STANDARD_PARALLEL = "N/A"
  LINE_FIRST_PIXEL = 1
  LINE_LAST_PIXEL = 11184
  LINE_PROJECTION_OFFSET = -56172.875
  MAP_PROJECTION_ROTATION = 0.0
  MAP_PROJECTION_TYPE = SINUSOIDAL
  MAP_RESOLUTION = 1185.42760773333
  MAP_SCALE = 0.05
  MAXIMUM_LATITUDE = -47.3849
  MINIMUM_LATITUDE = -56.8303
  POSITIVE_LONGITUDE_DIRECTION = EAST
  REFERENCE_LATITUDE = "N/A"
  REFERENCE_LONGITUDE = "N/A"
  SAMPLE_FIRST_PIXEL = 1
  SAMPLE_LAST_PIXEL = 1865
  SAMPLE_PROJECTION_OFFSET = 1187.625
  SECOND_STANDARD_PARALLEL = "N/A"
  WESTERNMOST_LONGITUDE = 276.184
END_OBJECT = IMAGE_MAP_PROJECTION
END
