PDS_VERSION_ID = PDS3
/* FILE DATA ELEMENTS */
RECORD_TYPE = UNDEFINED
/* POINTERS TO DATA OBJECTS */
^IMAGE = ("HG895_0000_RE4.TIF")
/* IDENTIFICATION DATA ELEMENTS */
DATA_SET_ID = "MEX-M-HRSC-4-REFDR-MAPPROJECT-EXT6-V4.0"
DATA_SET_NAME = "MARS EXPRESS HRSC MAP PROJECTED REFDR EXTENSION6 V4.0"
DETECTOR_ID = MEX_HRSC_RED
EVENT_TYPE = "MARS-REGIONAL-MAPPING-Im-Gl-Pf"
INSTRUMENT_HOST_ID = MEX
INSTRUMENT_HOST_NAME = "MARS EXPRESS"
INSTRUMENT_ID = HRSC
INSTRUMENT_NAME = "HIGH RESOLUTION STEREO CAMERA"
MISSION_NAME = "MARS EXPRESS"
MISSION_PHASE_NAME = ME_Phase_36
PROCESSING_LEVEL_ID = 4
PRODUCT_CREATION_TIME = 2023-01-26T14:39:22.000Z
PRODUCT_ID = "HG895_0000_RE4.TIF"
RELEASE_ID = 0001
REVISION_ID = 0000
/* QUALITY DATA ELEMENTS */
DATA_QUALITY_ID = 1
DATA_QUALITY_DESC = "Data calculated based on original SPICE kernels"
/* TIME DATA ELEMENTS */
SPACECRAFT_CLOCK_START_COUNT = "1/0442037982.09056"
SPACECRAFT_CLOCK_STOP_COUNT = "1/0442038187.25670"
START_TIME = 2017-05-05T04:19:55.453Z
STOP_TIME = 2017-05-05T04:22:19.281Z
/* ORBITAL DATA ELEMENTS */
ASCENDING_NODE_LONGITUDE = 256.62
MAXIMUM_RESOLUTION = 0.0542
FOOTPRINT_POINT_LATITUDE = (-56.9049,-56.8898,-56.8648,-56.8305, -56.8296,-56.7676,-56.3915,-56.1095, -55.9215,-55.7331,-55.4498,-55.167, -54.9781,-54.6946,-54.5055,-54.3163, -54.1268,-53.9376,-53.7482,-53.4652, -53.2754,-53.0825,-52.7925,-52.5038, -52.3118,-52.1271,-51.8524,-51.5764, -51.3926,-51.2086,-51.0259,-50.7553, -50.5721,-50.3876,-50.2026,-50.019, -49.8325,-49.5542,-49.3687,-49.1832, -48.9982,-48.72,-48.5347,-48.3494, -48.1585,-47.9664,-47.7755,-47.5841, -47.4882,-47.3945,-47.4067,-47.4158, -47.4236,-47.438,-47.4382,-47.4392, -47.7279,-48.0163,-48.2086,-48.4934, -48.6785,-48.9575,-49.1437,-49.3293, -49.517,-49.703,-49.8894,-50.0747, -50.3498,-50.6202,-50.8042,-50.9893, -51.1766,-51.3555,-51.5405,-51.8178, -52.0022,-52.1853,-52.3704,-52.5621, -52.8509,-53.0443,-53.2347,-53.5267, -53.7215,-53.9111,-54.1011,-54.386, -54.5749,-54.7647,-54.9539,-55.1425, -55.4263,-55.6156,-55.899,-56.0882, -56.3715,-56.6546,-56.7488,-56.9049)
FOOTPRINT_POINT_LONGITUDE = (278.247,277.728,277.019,276.214, 276.195,276.161,276.218,276.259,276.287 ,276.313,276.352,276.391,276.416, 276.453,276.477,276.501,276.524,276.547 ,276.57,276.604,276.626,276.646,276.676 ,276.705,276.724,276.744,276.773, 276.801,276.819,276.837,276.855,276.884 ,276.902,276.918,276.935,276.951, 276.966,276.989,277.004,277.019,277.034 ,277.056,277.07,277.084,277.098,277.112 ,277.126,277.14,277.147,277.153,277.592 ,277.89,278.173,278.818,278.834,278.839 ,278.827,278.815,278.807,278.794, 278.787,278.774,278.765,278.756,278.746 ,278.737,278.728,278.719,278.707, 278.697,278.688,278.679,278.668,278.661 ,278.651,278.636,278.626,278.617, 278.606,278.595,278.576,278.563,278.551 ,278.529,278.514,278.503,278.49,278.472 ,278.46,278.447,278.434,278.422,278.402 ,278.388,278.367,278.353,278.332,278.31 ,278.302,278.247)
ORBIT_NUMBER = 16895
ORBITAL_ECCENTRICITY = 0.578
ORBITAL_INCLINATION = 86.95
ORBITAL_SEMIMAJOR_AXIS = 8797.02
PERIAPSIS_ALTITUDE = 327.61
PERIAPSIS_ARGUMENT_ANGLE = 307.08
PERIAPSIS_TIME = 2017-05-05T04:21:22.000Z
SPACECRAFT_ORIENTATION = (0.0,1.0,0.0)
^MEX_ORIENTATION_DESC = "MEX_ORIENTATION_DESC.TXT"
SPACECRAFT_POINTING_MODE = NADIR
^MEX_POINTING_DESC = "MEX_POINTING_DESC.TXT"
RIGHT_ASCENSION = -1e+32
DECLINATION = -1e+32
OFFSET_ANGLE = -1e+32
SPACECRAFT_SOLAR_DISTANCE = 2.32933e+08
TARGET_NAME = MARS
/* CAMERA DATA ELEMENTS */
DETECTOR_TEMPERATURE = 16.7393
FOCAL_PLANE_TEMPERATURE = 7.9716
INST_CMPRS_NAME = "DISCRETE COSINE TRANSFORMATION (DCT)"
INST_CMPRS_RATIO = 21.3696
INST_CMPRS_QUALITY = 0
INST_CMPRS_QUANTZ_TBL_ID = 0
INSTRUMENT_TEMPERATURE = 11.4379
LENS_TEMPERATURE = 8.7872
MACROPIXEL_SIZE = 4
MISSING_FRAMES = 0
PIXEL_SUBSAMPLING_FLAG = N
SIGNAL_CHAIN_ID = 2
/* RADIOMETRIC DATA ELEMENTS */
BANDWIDTH = 48.0
CENTER_FILTER_WAVELENGTH = 748.0
RADIANCE_OFFSET = 0.74333
RADIANCE_SCALING_FACTOR = 0.00291502
REFLECTANCE_SCALING_FACTOR = 0.000360934
MEX:REFLECTANCE_OFFSET = 0.0920382
/* IMAGE OBJECT DEFINITIONS */
OBJECT = IMAGE
  INTERCHANGE_FORMAT = BINARY
  LINES = 11184
  LINE_SAMPLES = 1865
  SAMPLE_TYPE = UNSIGNED_INTEGER
  SAMPLE_BITS = 8
  BANDS = 1
  BAND_STORAGE_TYPE = BAND_SEQUENTIAL
  MAXIMUM = 255
  MEAN = 122.637
  MINIMUM = 1
  STANDARD_DEVIATION = 29.3024
END_OBJECT = IMAGE
/* MAP OBJECT DEFINITIONS */
OBJECT = IMAGE_MAP_PROJECTION
  ^DATA_SET_MAP_PROJECTION_CATALOG= "DSMAP.CAT"
  A_AXIS_RADIUS = 3396.0
  B_AXIS_RADIUS = 3396.0
  C_AXIS_RADIUS = 3396.0
  CENTER_LATITUDE = 0.0
  CENTER_LONGITUDE = 278.0
  COORDINATE_SYSTEM_NAME = PLANETOGRAPHIC
  COORDINATE_SYSTEM_TYPE = "BODY-FIXED ROTATING"
  EASTERNMOST_LONGITUDE = 278.839
  FIRST_STANDARD_PARALLEL = "N/A"
  LINE_FIRST_PIXEL = 1
  LINE_LAST_PIXEL = 11184
  LINE_PROJECTION_OFFSET = -56172.875
  MAP_PROJECTION_ROTATION = 0.0
  MAP_PROJECTION_TYPE = SINUSOIDAL
  MAP_RESOLUTION = 1185.42760773333
  MAP_SCALE = 0.05
  MAXIMUM_LATITUDE = -47.3945
  MINIMUM_LATITUDE = -56.9049
  POSITIVE_LONGITUDE_DIRECTION = EAST
  REFERENCE_LATITUDE = "N/A"
  REFERENCE_LONGITUDE = "N/A"
  SAMPLE_FIRST_PIXEL = 1
  SAMPLE_LAST_PIXEL = 1865
  SAMPLE_PROJECTION_OFFSET = 1187.625
  SECOND_STANDARD_PARALLEL = "N/A"
  WESTERNMOST_LONGITUDE = 276.161
END_OBJECT = IMAGE_MAP_PROJECTION
END
