PDS_VERSION_ID = PDS3
/* FILE DATA ELEMENTS */
RECORD_TYPE = UNDEFINED
/* POINTERS TO DATA OBJECTS */
^IMAGE = ("HG896_0000_ND4.TIF")
/* IDENTIFICATION DATA ELEMENTS */
DATA_SET_ID = "MEX-M-HRSC-4-REFDR-MAPPROJECT-EXT6-V4.0"
DATA_SET_NAME = "MARS EXPRESS HRSC MAP PROJECTED REFDR EXTENSION6 V4.0"
DETECTOR_ID = MEX_HRSC_NADIR
EVENT_TYPE = "MARS-REGIONAL-MAPPING-Te-Fl-Lc"
INSTRUMENT_HOST_ID = MEX
INSTRUMENT_HOST_NAME = "MARS EXPRESS"
INSTRUMENT_ID = HRSC
INSTRUMENT_NAME = "HIGH RESOLUTION STEREO CAMERA"
MISSION_NAME = "MARS EXPRESS"
MISSION_PHASE_NAME = ME_Phase_36
PROCESSING_LEVEL_ID = 4
PRODUCT_CREATION_TIME = 2023-01-26T14:39:22.000Z
PRODUCT_ID = "HG896_0000_ND4.TIF"
RELEASE_ID = 0001
REVISION_ID = 0000
/* QUALITY DATA ELEMENTS */
DATA_QUALITY_ID = 1
DATA_QUALITY_DESC = "Data calculated based on original SPICE kernels"
/* TIME DATA ELEMENTS */
SPACECRAFT_CLOCK_START_COUNT = "1/0442063366.09047"
SPACECRAFT_CLOCK_STOP_COUNT = "1/0442063630.23935"
START_TIME = 2017-05-05T11:23:24.711Z
STOP_TIME = 2017-05-05T11:26:34.716Z
/* ORBITAL DATA ELEMENTS */
ASCENDING_NODE_LONGITUDE = 256.59
MAXIMUM_RESOLUTION = 0.0136
FOOTPRINT_POINT_LATITUDE = (-43.5595,-43.547,-43.532,-43.512, -43.5114,-43.5085,-43.2858,-43.0631, -42.8406,-42.6182,-42.3959,-42.1737, -41.9516,-41.7296,-41.2858,-40.8424, -40.3998,-39.8471,-39.2952,-38.8543, -38.414,-38.0387,-37.7764,-37.5145, -37.2527,-36.9912,-36.73,-36.469, -36.2082,-35.9477,-35.6874,-35.4274, -35.1676,-34.9081,-34.6489,-34.39, -34.1313,-33.8729,-33.6147,-33.3569, -33.0993,-32.842,-32.585,-32.3222, -32.0589,-31.7959,-31.5332,-31.4019, -31.3869,-31.3933,-31.3984,-31.4048, -31.4092,-31.4093,-31.4096,-31.8048, -32.0683,-32.3323,-32.596,-32.8536, -33.1114,-33.3696,-33.628,-33.8868, -34.1457,-34.405,-34.6645,-34.9242, -35.1843,-35.4446,-35.7052,-35.966, -36.2271,-36.4884,-36.7499,-37.0117, -37.2738,-37.5361,-37.7986,-38.0613, -38.4399,-38.8811,-39.323,-39.7653, -40.2083,-40.6518,-40.8737,-41.0958, -41.3179,-41.5402,-41.7627,-41.9852, -42.2079,-42.4306,-42.6535,-42.8765, -43.0996,-43.4344,-43.546,-43.5595)
FOOTPRINT_POINT_LONGITUDE = (175.745,175.239,174.724,174.133, 174.116,174.069,174.082,174.095,174.108 ,174.121,174.134,174.146,174.158,174.17 ,174.191,174.209,174.231,174.254, 174.277,174.292,174.309,174.323,174.33, 174.338,174.345,174.353,174.36,174.367, 174.374,174.38,174.387,174.393,174.399, 174.405,174.411,174.417,174.422,174.427 ,174.432,174.436,174.44,174.444,174.448 ,174.452,174.455,174.458,174.461, 174.462,174.462,174.81,175.138,175.649, 176.17,176.187,176.195,176.185,176.178, 176.17,176.163,176.156,176.148,176.141, 176.133,176.125,176.117,176.109,176.101 ,176.093,176.084,176.076,176.067, 176.059,176.05,176.041,176.032,176.022, 176.013,176.003,175.994,175.984,175.969 ,175.952,175.934,175.916,175.898, 175.879,175.869,175.859,175.849,175.839 ,175.829,175.818,175.808,175.797, 175.787,175.776,175.765,175.748,175.742 ,175.745)
ORBIT_NUMBER = 16896
ORBITAL_ECCENTRICITY = 0.578
ORBITAL_INCLINATION = 86.96
ORBITAL_SEMIMAJOR_AXIS = 8794.95
PERIAPSIS_ALTITUDE = 328.11
PERIAPSIS_ARGUMENT_ANGLE = 306.92
PERIAPSIS_TIME = 2017-05-05T11:21:02.000Z
SPACECRAFT_ORIENTATION = (0.0,1.0,0.0)
^MEX_ORIENTATION_DESC = "MEX_ORIENTATION_DESC.TXT"
SPACECRAFT_POINTING_MODE = ACROSSTRACK
^MEX_POINTING_DESC = "MEX_POINTING_DESC.TXT"
RIGHT_ASCENSION = -1e+32
DECLINATION = -1e+32
OFFSET_ANGLE = 0.686
SPACECRAFT_SOLAR_DISTANCE = 2.32987e+08
TARGET_NAME = MARS
/* CAMERA DATA ELEMENTS */
DETECTOR_TEMPERATURE = 18.3705
FOCAL_PLANE_TEMPERATURE = 8.1755
INST_CMPRS_NAME = "DISCRETE COSINE TRANSFORMATION (DCT)"
INST_CMPRS_RATIO = 6.27071
INST_CMPRS_QUALITY = 0
INST_CMPRS_QUANTZ_TBL_ID = 0
INSTRUMENT_TEMPERATURE = 11.0301
LENS_TEMPERATURE = 8.3794
MACROPIXEL_SIZE = 1
MISSING_FRAMES = 0
PIXEL_SUBSAMPLING_FLAG = N
SIGNAL_CHAIN_ID = 0
/* RADIOMETRIC DATA ELEMENTS */
BANDWIDTH = 177.0
CENTER_FILTER_WAVELENGTH = 677.5
RADIANCE_OFFSET = 2.75737
RADIANCE_SCALING_FACTOR = 0.0156446
REFLECTANCE_SCALING_FACTOR = 0.000451144
MEX:REFLECTANCE_OFFSET = 0.0795141
/* IMAGE OBJECT DEFINITIONS */
OBJECT = IMAGE
  INTERCHANGE_FORMAT = BINARY
  LINES = 57714
  LINE_SAMPLES = 8043
  SAMPLE_TYPE = UNSIGNED_INTEGER
  SAMPLE_BITS = 8
  BANDS = 1
  BAND_STORAGE_TYPE = BAND_SEQUENTIAL
  MAXIMUM = 255
  MEAN = 122.73
  MINIMUM = 1
  STANDARD_DEVIATION = 22.4189
END_OBJECT = IMAGE
/* MAP OBJECT DEFINITIONS */
OBJECT = IMAGE_MAP_PROJECTION
  ^DATA_SET_MAP_PROJECTION_CATALOG= "DSMAP.CAT"
  A_AXIS_RADIUS = 3396.0
  B_AXIS_RADIUS = 3396.0
  C_AXIS_RADIUS = 3396.0
  CENTER_LATITUDE = 0.0
  CENTER_LONGITUDE = 175.0
  COORDINATE_SYSTEM_NAME = PLANETOGRAPHIC
  COORDINATE_SYSTEM_TYPE = "BODY-FIXED ROTATING"
  EASTERNMOST_LONGITUDE = 176.195
  FIRST_STANDARD_PARALLEL = "N/A"
  LINE_FIRST_PIXEL = 1
  LINE_LAST_PIXEL = 57714
  LINE_PROJECTION_OFFSET = -148829.0
  MAP_PROJECTION_ROTATION = 0.0
  MAP_PROJECTION_TYPE = SINUSOIDAL
  MAP_RESOLUTION = 4741.71043093333
  MAP_SCALE = 0.0125
  MAXIMUM_LATITUDE = -31.3869
  MINIMUM_LATITUDE = -43.5595
  POSITIVE_LONGITUDE_DIRECTION = EAST
  REFERENCE_LATITUDE = "N/A"
  REFERENCE_LONGITUDE = "N/A"
  SAMPLE_FIRST_PIXEL = 1
  SAMPLE_LAST_PIXEL = 8043
  SAMPLE_PROJECTION_OFFSET = 3204.0
  SECOND_STANDARD_PARALLEL = "N/A"
  WESTERNMOST_LONGITUDE = 174.069
END_OBJECT = IMAGE_MAP_PROJECTION
END
