PDS_VERSION_ID = PDS3
/* FILE DATA ELEMENTS */
RECORD_TYPE = UNDEFINED
/* POINTERS TO DATA OBJECTS */
^IMAGE = ("HG896_0000_P14.TIF")
/* IDENTIFICATION DATA ELEMENTS */
DATA_SET_ID = "MEX-M-HRSC-4-REFDR-MAPPROJECT-EXT6-V4.0"
DATA_SET_NAME = "MARS EXPRESS HRSC MAP PROJECTED REFDR EXTENSION6 V4.0"
DETECTOR_ID = MEX_HRSC_P1
EVENT_TYPE = "MARS-REGIONAL-MAPPING-Te-Fl-Lc"
INSTRUMENT_HOST_ID = MEX
INSTRUMENT_HOST_NAME = "MARS EXPRESS"
INSTRUMENT_ID = HRSC
INSTRUMENT_NAME = "HIGH RESOLUTION STEREO CAMERA"
MISSION_NAME = "MARS EXPRESS"
MISSION_PHASE_NAME = ME_Phase_36
PROCESSING_LEVEL_ID = 4
PRODUCT_CREATION_TIME = 2023-01-26T14:39:22.000Z
PRODUCT_ID = "HG896_0000_P14.TIF"
RELEASE_ID = 0001
REVISION_ID = 0000
/* QUALITY DATA ELEMENTS */
DATA_QUALITY_ID = 1
DATA_QUALITY_DESC = "Data calculated based on original SPICE kernels"
/* TIME DATA ELEMENTS */
SPACECRAFT_CLOCK_START_COUNT = "1/0442063366.09047"
SPACECRAFT_CLOCK_STOP_COUNT = "1/0442063630.23935"
START_TIME = 2017-05-05T11:23:45.608Z
STOP_TIME = 2017-05-05T11:27:01.600Z
/* ORBITAL DATA ELEMENTS */
ASCENDING_NODE_LONGITUDE = 256.59
MAXIMUM_RESOLUTION = 0.0285
FOOTPRINT_POINT_LATITUDE = (-43.4929,-43.4918,-43.4888,-43.4828, -43.4826,-43.5092,-43.2906,-43.0721, -42.8534,-42.6352,-42.4169,-42.09, -41.8718,-41.3294,-40.8994,-40.5741, -40.0369,-39.8187,-39.4458,-39.0608, -38.6784,-38.4237,-38.1673,-37.9137, -37.66,-37.4062,-37.1529,-36.8998, -36.6471,-36.3948,-36.1427,-35.891, -35.6394,-35.3884,-35.1376,-34.8872, -34.6369,-34.3862,-34.1362,-33.8813, -33.6258,-33.3708,-33.1163,-32.8574, -32.5972,-32.3373,-32.078,-31.8157, -31.5509,-31.4189,-31.4077,-31.4058, -31.4025,-31.3996,-31.3938,-31.3893, -31.3891,-31.3896,-31.6546,-32.0508, -32.3107,-32.5707,-32.831,-33.0903, -33.3447,-33.6001,-33.8549,-34.1115, -34.3632,-34.6137,-34.8654,-35.1176, -35.3677,-35.6198,-35.9993,-36.3784, -36.6313,-37.0119,-37.3927,-37.6466, -37.9018,-38.2847,-38.5403,-38.7965, -39.053,-39.3098,-39.567,-39.8137, -40.2455,-40.6786,-41.1126,-41.6558, -41.9822,-42.4184,-42.7462,-42.9648, -43.1837,-43.4032,-43.5126,-43.4929)
FOOTPRINT_POINT_LONGITUDE = (175.763,175.257,174.742,174.119, 174.102,174.056,174.068,174.081,174.094 ,174.106,174.118,174.135,174.148, 174.174,174.189,174.205,174.225,174.237 ,174.253,174.268,174.28,174.288,174.298 ,174.305,174.312,174.319,174.326, 174.333,174.339,174.346,174.352,174.357 ,174.363,174.369,174.374,174.379, 174.384,174.39,174.395,174.399,174.403, 174.407,174.411,174.415,174.418,174.421 ,174.424,174.426,174.428,174.429, 174.429,174.749,175.136,175.433,175.917 ,176.208,176.225,176.231,176.223, 176.212,176.204,176.196,176.188,176.18, 176.172,176.164,176.156,176.148,176.14, 176.132,176.123,176.115,176.106,176.097 ,176.084,176.07,176.061,176.047,176.033 ,176.023,176.013,175.998,175.988, 175.977,175.967,175.956,175.945,175.935 ,175.916,175.897,175.877,175.852, 175.836,175.815,175.798,175.787,175.776 ,175.765,175.759,175.763)
ORBIT_NUMBER = 16896
ORBITAL_ECCENTRICITY = 0.578
ORBITAL_INCLINATION = 86.96
ORBITAL_SEMIMAJOR_AXIS = 8794.95
PERIAPSIS_ALTITUDE = 328.11
PERIAPSIS_ARGUMENT_ANGLE = 306.92
PERIAPSIS_TIME = 2017-05-05T11:21:02.000Z
SPACECRAFT_ORIENTATION = (0.0,1.0,0.0)
^MEX_ORIENTATION_DESC = "MEX_ORIENTATION_DESC.TXT"
SPACECRAFT_POINTING_MODE = ACROSSTRACK
^MEX_POINTING_DESC = "MEX_POINTING_DESC.TXT"
RIGHT_ASCENSION = -1e+32
DECLINATION = -1e+32
OFFSET_ANGLE = 0.686
SPACECRAFT_SOLAR_DISTANCE = 2.32987e+08
TARGET_NAME = MARS
/* CAMERA DATA ELEMENTS */
DETECTOR_TEMPERATURE = 17.351
FOCAL_PLANE_TEMPERATURE = 8.1755
INST_CMPRS_NAME = "DISCRETE COSINE TRANSFORMATION (DCT)"
INST_CMPRS_RATIO = 10.1657
INST_CMPRS_QUALITY = 0
INST_CMPRS_QUANTZ_TBL_ID = 0
INSTRUMENT_TEMPERATURE = 11.0301
LENS_TEMPERATURE = 8.3794
MACROPIXEL_SIZE = 2
MISSING_FRAMES = 0
PIXEL_SUBSAMPLING_FLAG = N
SIGNAL_CHAIN_ID = 3
/* RADIOMETRIC DATA ELEMENTS */
BANDWIDTH = 174.0
CENTER_FILTER_WAVELENGTH = 675.0
RADIANCE_OFFSET = 3.10408
RADIANCE_SCALING_FACTOR = 0.0152161
REFLECTANCE_SCALING_FACTOR = 0.000444276
MEX:REFLECTANCE_OFFSET = 0.0906323
/* IMAGE OBJECT DEFINITIONS */
OBJECT = IMAGE
  INTERCHANGE_FORMAT = BINARY
  LINES = 28857
  LINE_SAMPLES = 4022
  SAMPLE_TYPE = UNSIGNED_INTEGER
  SAMPLE_BITS = 8
  BANDS = 1
  BAND_STORAGE_TYPE = BAND_SEQUENTIAL
  MAXIMUM = 255
  MEAN = 131.212
  MINIMUM = 1
  STANDARD_DEVIATION = 23.414
END_OBJECT = IMAGE
/* MAP OBJECT DEFINITIONS */
OBJECT = IMAGE_MAP_PROJECTION
  ^DATA_SET_MAP_PROJECTION_CATALOG= "DSMAP.CAT"
  A_AXIS_RADIUS = 3396.0
  B_AXIS_RADIUS = 3396.0
  C_AXIS_RADIUS = 3396.0
  CENTER_LATITUDE = 0.0
  CENTER_LONGITUDE = 175.0
  COORDINATE_SYSTEM_NAME = PLANETOGRAPHIC
  COORDINATE_SYSTEM_TYPE = "BODY-FIXED ROTATING"
  EASTERNMOST_LONGITUDE = 176.231
  FIRST_STANDARD_PARALLEL = "N/A"
  LINE_FIRST_PIXEL = 1
  LINE_LAST_PIXEL = 28857
  LINE_PROJECTION_OFFSET = -74414.75
  MAP_PROJECTION_ROTATION = 0.0
  MAP_PROJECTION_TYPE = SINUSOIDAL
  MAP_RESOLUTION = 2370.85521546667
  MAP_SCALE = 0.025
  MAXIMUM_LATITUDE = -31.3891
  MINIMUM_LATITUDE = -43.5126
  POSITIVE_LONGITUDE_DIRECTION = EAST
  REFERENCE_LATITUDE = "N/A"
  REFERENCE_LONGITUDE = "N/A"
  SAMPLE_FIRST_PIXEL = 1
  SAMPLE_LAST_PIXEL = 4022
  SAMPLE_PROJECTION_OFFSET = 1601.75
  SECOND_STANDARD_PARALLEL = "N/A"
  WESTERNMOST_LONGITUDE = 174.056
END_OBJECT = IMAGE_MAP_PROJECTION
END
