PDS_VERSION_ID = PDS3
/* FILE DATA ELEMENTS */
RECORD_TYPE = UNDEFINED
/* POINTERS TO DATA OBJECTS */
^IMAGE = ("HG896_0000_P24.TIF")
/* IDENTIFICATION DATA ELEMENTS */
DATA_SET_ID = "MEX-M-HRSC-4-REFDR-MAPPROJECT-EXT6-V4.0"
DATA_SET_NAME = "MARS EXPRESS HRSC MAP PROJECTED REFDR EXTENSION6 V4.0"
DETECTOR_ID = MEX_HRSC_P2
EVENT_TYPE = "MARS-REGIONAL-MAPPING-Te-Fl-Lc"
INSTRUMENT_HOST_ID = MEX
INSTRUMENT_HOST_NAME = "MARS EXPRESS"
INSTRUMENT_ID = HRSC
INSTRUMENT_NAME = "HIGH RESOLUTION STEREO CAMERA"
MISSION_NAME = "MARS EXPRESS"
MISSION_PHASE_NAME = ME_Phase_36
PROCESSING_LEVEL_ID = 4
PRODUCT_CREATION_TIME = 2023-01-26T14:39:22.000Z
PRODUCT_ID = "HG896_0000_P24.TIF"
RELEASE_ID = 0001
REVISION_ID = 0000
/* QUALITY DATA ELEMENTS */
DATA_QUALITY_ID = 1
DATA_QUALITY_DESC = "Data calculated based on original SPICE kernels"
/* TIME DATA ELEMENTS */
SPACECRAFT_CLOCK_START_COUNT = "1/0442063366.09047"
SPACECRAFT_CLOCK_STOP_COUNT = "1/0442063630.23935"
START_TIME = 2017-05-05T11:23:04.709Z
STOP_TIME = 2017-05-05T11:26:09.744Z
/* ORBITAL DATA ELEMENTS */
ASCENDING_NODE_LONGITUDE = 256.59
MAXIMUM_RESOLUTION = 0.0277
FOOTPRINT_POINT_LATITUDE = (-43.6077,-43.5845,-43.558,-43.5223, -43.5213,-43.4888,-43.1498,-42.8119, -42.5864,-42.3611,-42.0232,-41.6851, -41.4596,-41.2326,-40.8918,-40.6668, -40.3282,-40.1001,-39.6534,-39.0917, -38.6396,-38.1914,-37.9654,-37.739, -37.4014,-37.1765,-36.9515,-36.697, -36.4289,-36.1609,-35.8932,-35.6259, -35.2249,-34.9578,-34.6912,-34.4255, -34.1593,-33.8922,-33.4934,-33.2275, -32.9619,-32.6966,-32.2982,-32.0333, -31.7678,-31.5026,-31.3702,-31.3692, -31.3889,-31.4056,-31.4161,-31.4319, -31.4324,-31.433,-31.6987,-32.097, -32.3628,-32.6291,-32.8954,-33.1619, -33.4294,-33.8301,-34.0966,-34.4959, -34.7629,-35.0286,-35.2961,-35.5653, -35.8319,-36.0995,-36.3675,-36.6359, -37.0253,-37.2507,-37.5889,-37.8145, -38.1522,-38.3779,-38.6035,-38.8292, -39.0546,-39.2803,-39.506,-39.7312, -39.9575,-40.1834,-40.4093,-40.6351, -40.8609,-41.0869,-41.3129,-41.6524, -41.992,-42.2185,-42.5579,-42.8971, -43.1234,-43.4625,-43.5758,-43.6077)
FOOTPRINT_POINT_LONGITUDE = (175.733,175.241,174.741,174.135, 174.119,174.076,174.096,174.117,174.13, 174.143,174.162,174.18,174.192,174.202, 174.215,174.227,174.242,174.249,174.273 ,174.297,174.313,174.331,174.338, 174.344,174.355,174.361,174.368,174.376 ,174.383,174.39,174.397,174.405,174.415 ,174.421,174.427,174.434,174.44,174.445 ,174.453,174.458,174.463,174.467, 174.473,174.477,174.48,174.483,174.484, 174.485,174.932,175.358,175.65,176.147, 176.163,176.169,176.162,176.152,176.145 ,176.138,176.13,176.123,176.116,176.104 ,176.097,176.085,176.077,176.069,176.06 ,176.052,176.043,176.035,176.026, 176.017,176.003,175.996,175.984,175.976 ,175.963,175.955,175.947,175.938,175.93 ,175.921,175.912,175.903,175.894, 175.884,175.875,175.866,175.856,175.846 ,175.836,175.821,175.806,175.796,175.78 ,175.764,175.753,175.736,175.73, 175.733)
ORBIT_NUMBER = 16896
ORBITAL_ECCENTRICITY = 0.578
ORBITAL_INCLINATION = 86.96
ORBITAL_SEMIMAJOR_AXIS = 8794.95
PERIAPSIS_ALTITUDE = 328.11
PERIAPSIS_ARGUMENT_ANGLE = 306.92
PERIAPSIS_TIME = 2017-05-05T11:21:02.000Z
SPACECRAFT_ORIENTATION = (0.0,1.0,0.0)
^MEX_ORIENTATION_DESC = "MEX_ORIENTATION_DESC.TXT"
SPACECRAFT_POINTING_MODE = ACROSSTRACK
^MEX_POINTING_DESC = "MEX_POINTING_DESC.TXT"
RIGHT_ASCENSION = -1e+32
DECLINATION = -1e+32
OFFSET_ANGLE = 0.686
SPACECRAFT_SOLAR_DISTANCE = 2.32987e+08
TARGET_NAME = MARS
/* CAMERA DATA ELEMENTS */
DETECTOR_TEMPERATURE = 18.3705
FOCAL_PLANE_TEMPERATURE = 8.1755
INST_CMPRS_NAME = "DISCRETE COSINE TRANSFORMATION (DCT)"
INST_CMPRS_RATIO = 7.3122
INST_CMPRS_QUALITY = 0
INST_CMPRS_QUANTZ_TBL_ID = 0
INSTRUMENT_TEMPERATURE = 11.0301
LENS_TEMPERATURE = 8.3794
MACROPIXEL_SIZE = 2
MISSING_FRAMES = 0
PIXEL_SUBSAMPLING_FLAG = N
SIGNAL_CHAIN_ID = 3
/* RADIOMETRIC DATA ELEMENTS */
BANDWIDTH = 177.0
CENTER_FILTER_WAVELENGTH = 676.5
RADIANCE_OFFSET = 2.95011
RADIANCE_SCALING_FACTOR = 0.0156742
REFLECTANCE_SCALING_FACTOR = 0.000451136
MEX:REFLECTANCE_OFFSET = 0.0849102
/* IMAGE OBJECT DEFINITIONS */
OBJECT = IMAGE
  INTERCHANGE_FORMAT = BINARY
  LINES = 28857
  LINE_SAMPLES = 4022
  SAMPLE_TYPE = UNSIGNED_INTEGER
  SAMPLE_BITS = 8
  BANDS = 1
  BAND_STORAGE_TYPE = BAND_SEQUENTIAL
  MAXIMUM = 255
  MEAN = 121.751
  MINIMUM = 1
  STANDARD_DEVIATION = 22.2347
END_OBJECT = IMAGE
/* MAP OBJECT DEFINITIONS */
OBJECT = IMAGE_MAP_PROJECTION
  ^DATA_SET_MAP_PROJECTION_CATALOG= "DSMAP.CAT"
  A_AXIS_RADIUS = 3396.0
  B_AXIS_RADIUS = 3396.0
  C_AXIS_RADIUS = 3396.0
  CENTER_LATITUDE = 0.0
  CENTER_LONGITUDE = 175.0
  COORDINATE_SYSTEM_NAME = PLANETOGRAPHIC
  COORDINATE_SYSTEM_TYPE = "BODY-FIXED ROTATING"
  EASTERNMOST_LONGITUDE = 176.169
  FIRST_STANDARD_PARALLEL = "N/A"
  LINE_FIRST_PIXEL = 1
  LINE_LAST_PIXEL = 28857
  LINE_PROJECTION_OFFSET = -74414.75
  MAP_PROJECTION_ROTATION = 0.0
  MAP_PROJECTION_TYPE = SINUSOIDAL
  MAP_RESOLUTION = 2370.85521546667
  MAP_SCALE = 0.025
  MAXIMUM_LATITUDE = -31.3692
  MINIMUM_LATITUDE = -43.6077
  POSITIVE_LONGITUDE_DIRECTION = EAST
  REFERENCE_LATITUDE = "N/A"
  REFERENCE_LONGITUDE = "N/A"
  SAMPLE_FIRST_PIXEL = 1
  SAMPLE_LAST_PIXEL = 4022
  SAMPLE_PROJECTION_OFFSET = 1601.75
  SECOND_STANDARD_PARALLEL = "N/A"
  WESTERNMOST_LONGITUDE = 174.076
END_OBJECT = IMAGE_MAP_PROJECTION
END
