PDS_VERSION_ID = PDS3
/* FILE DATA ELEMENTS */
RECORD_TYPE = UNDEFINED
/* POINTERS TO DATA OBJECTS */
^IMAGE = ("HG896_0000_S14.TIF")
/* IDENTIFICATION DATA ELEMENTS */
DATA_SET_ID = "MEX-M-HRSC-4-REFDR-MAPPROJECT-EXT6-V4.0"
DATA_SET_NAME = "MARS EXPRESS HRSC MAP PROJECTED REFDR EXTENSION6 V4.0"
DETECTOR_ID = MEX_HRSC_S1
EVENT_TYPE = "MARS-REGIONAL-MAPPING-Te-Fl-Lc"
INSTRUMENT_HOST_ID = MEX
INSTRUMENT_HOST_NAME = "MARS EXPRESS"
INSTRUMENT_ID = HRSC
INSTRUMENT_NAME = "HIGH RESOLUTION STEREO CAMERA"
MISSION_NAME = "MARS EXPRESS"
MISSION_PHASE_NAME = ME_Phase_36
PROCESSING_LEVEL_ID = 4
PRODUCT_CREATION_TIME = 2023-01-26T14:39:22.000Z
PRODUCT_ID = "HG896_0000_S14.TIF"
RELEASE_ID = 0001
REVISION_ID = 0000
/* QUALITY DATA ELEMENTS */
DATA_QUALITY_ID = 1
DATA_QUALITY_DESC = "Data calculated based on original SPICE kernels"
/* TIME DATA ELEMENTS */
SPACECRAFT_CLOCK_START_COUNT = "1/0442063366.09047"
SPACECRAFT_CLOCK_STOP_COUNT = "1/0442063630.23935"
START_TIME = 2017-05-05T11:23:56.614Z
STOP_TIME = 2017-05-05T11:27:16.607Z
/* ORBITAL DATA ELEMENTS */
ASCENDING_NODE_LONGITUDE = 256.59
MAXIMUM_RESOLUTION = 0.0297
FOOTPRINT_POINT_LATITUDE = (-43.4704,-43.475,-43.4781,-43.4798, -43.4798,-43.5219,-43.3062,-43.0907, -42.8746,-42.6591,-42.4437,-42.2288, -42.0136,-41.4745,-41.0526,-40.6256, -40.3945,-40.1482,-39.889,-39.5099, -39.1311,-38.7562,-38.5063,-38.2543, -37.881,-37.6323,-37.3838,-37.1357, -36.888,-36.5167,-36.2702,-36.0238, -35.7776,-35.4091,-35.0415,-34.7911, -34.5397,-34.1632,-33.9148,-33.6594, -33.404,-33.1493,-32.8949,-32.5061, -32.2465,-31.9878,-31.5942,-31.4626, -31.4191,-31.4107,-31.4039,-31.3938, -31.3862,-31.379,-31.3786,-31.3789, -31.6431,-31.9061,-32.2954,-32.5554, -32.8149,-33.0694,-33.4513,-33.7071, -34.0849,-34.3379,-34.589,-34.8418, -35.0925,-35.3362,-35.5829,-35.8308, -36.2019,-36.45,-36.6973,-36.9459, -37.3191,-37.5675,-37.8179,-38.1932, -38.4439,-38.6952,-38.9473,-39.1993, -39.4519,-39.7057,-39.9583,-40.212, -40.5758,-41.11,-41.6449,-41.9663, -42.292,-42.5072,-42.723,-42.9385, -43.1546,-43.3713,-43.4794,-43.4704)
FOOTPRINT_POINT_LONGITUDE = (175.772,175.26,174.74,174.109,174.092, 174.044,174.056,174.068,174.081,174.093 ,174.105,174.116,174.127,174.154, 174.169,174.189,174.201,174.205,174.22, 174.236,174.25,174.262,174.269,174.279, 174.29,174.296,174.303,174.31,174.316, 174.325,174.331,174.337,174.342,174.35, 174.357,174.363,174.368,174.375,174.378 ,174.382,174.386,174.389,174.393, 174.397,174.4,174.402,174.405,174.406, 174.406,174.86,175.185,175.631,175.948, 176.229,176.246,176.253,176.245,176.237 ,176.225,176.216,176.208,176.2,176.188, 176.179,176.167,176.158,176.15,176.141, 176.132,176.124,176.115,176.106,176.092 ,176.083,176.074,176.064,176.05,176.04, 176.03,176.015,176.005,175.995,175.984, 175.973,175.963,175.951,175.94,175.929, 175.913,175.888,175.862,175.847,175.831 ,175.82,175.809,175.798,175.787,175.775 ,175.77,175.772)
ORBIT_NUMBER = 16896
ORBITAL_ECCENTRICITY = 0.578
ORBITAL_INCLINATION = 86.96
ORBITAL_SEMIMAJOR_AXIS = 8794.95
PERIAPSIS_ALTITUDE = 328.11
PERIAPSIS_ARGUMENT_ANGLE = 306.92
PERIAPSIS_TIME = 2017-05-05T11:21:02.000Z
SPACECRAFT_ORIENTATION = (0.0,1.0,0.0)
^MEX_ORIENTATION_DESC = "MEX_ORIENTATION_DESC.TXT"
SPACECRAFT_POINTING_MODE = ACROSSTRACK
^MEX_POINTING_DESC = "MEX_POINTING_DESC.TXT"
RIGHT_ASCENSION = -1e+32
DECLINATION = -1e+32
OFFSET_ANGLE = 0.686
SPACECRAFT_SOLAR_DISTANCE = 2.32987e+08
TARGET_NAME = MARS
/* CAMERA DATA ELEMENTS */
DETECTOR_TEMPERATURE = 17.351
FOCAL_PLANE_TEMPERATURE = 8.1755
INST_CMPRS_NAME = "DISCRETE COSINE TRANSFORMATION (DCT)"
INST_CMPRS_RATIO = 10.4246
INST_CMPRS_QUALITY = 0
INST_CMPRS_QUANTZ_TBL_ID = 0
INSTRUMENT_TEMPERATURE = 11.0301
LENS_TEMPERATURE = 8.3794
MACROPIXEL_SIZE = 2
MISSING_FRAMES = 1
PIXEL_SUBSAMPLING_FLAG = N
SIGNAL_CHAIN_ID = 1
/* RADIOMETRIC DATA ELEMENTS */
BANDWIDTH = 180.0
CENTER_FILTER_WAVELENGTH = 677.0
RADIANCE_OFFSET = 3.46548
RADIANCE_SCALING_FACTOR = 0.0157821
REFLECTANCE_SCALING_FACTOR = 0.000446965
MEX:REFLECTANCE_OFFSET = 0.098146
/* IMAGE OBJECT DEFINITIONS */
OBJECT = IMAGE
  INTERCHANGE_FORMAT = BINARY
  LINES = 28857
  LINE_SAMPLES = 4022
  SAMPLE_TYPE = UNSIGNED_INTEGER
  SAMPLE_BITS = 8
  BANDS = 1
  BAND_STORAGE_TYPE = BAND_SEQUENTIAL
  MAXIMUM = 255
  MEAN = 132.35
  MINIMUM = 1
  STANDARD_DEVIATION = 25.0109
END_OBJECT = IMAGE
/* MAP OBJECT DEFINITIONS */
OBJECT = IMAGE_MAP_PROJECTION
  ^DATA_SET_MAP_PROJECTION_CATALOG= "DSMAP.CAT"
  A_AXIS_RADIUS = 3396.0
  B_AXIS_RADIUS = 3396.0
  C_AXIS_RADIUS = 3396.0
  CENTER_LATITUDE = 0.0
  CENTER_LONGITUDE = 175.0
  COORDINATE_SYSTEM_NAME = PLANETOGRAPHIC
  COORDINATE_SYSTEM_TYPE = "BODY-FIXED ROTATING"
  EASTERNMOST_LONGITUDE = 176.253
  FIRST_STANDARD_PARALLEL = "N/A"
  LINE_FIRST_PIXEL = 1
  LINE_LAST_PIXEL = 28857
  LINE_PROJECTION_OFFSET = -74414.75
  MAP_PROJECTION_ROTATION = 0.0
  MAP_PROJECTION_TYPE = SINUSOIDAL
  MAP_RESOLUTION = 2370.85521546667
  MAP_SCALE = 0.025
  MAXIMUM_LATITUDE = -31.3786
  MINIMUM_LATITUDE = -43.5219
  POSITIVE_LONGITUDE_DIRECTION = EAST
  REFERENCE_LATITUDE = "N/A"
  REFERENCE_LONGITUDE = "N/A"
  SAMPLE_FIRST_PIXEL = 1
  SAMPLE_LAST_PIXEL = 4022
  SAMPLE_PROJECTION_OFFSET = 1601.75
  SECOND_STANDARD_PARALLEL = "N/A"
  WESTERNMOST_LONGITUDE = 174.044
END_OBJECT = IMAGE_MAP_PROJECTION
END
