PDS_VERSION_ID = PDS3
/* FILE DATA ELEMENTS */
RECORD_TYPE = UNDEFINED
/* POINTERS TO DATA OBJECTS */
^IMAGE = ("HG903_0000_ND4.TIF")
/* IDENTIFICATION DATA ELEMENTS */
DATA_SET_ID = "MEX-M-HRSC-4-REFDR-MAPPROJECT-EXT6-V4.0"
DATA_SET_NAME = "MARS EXPRESS HRSC MAP PROJECTED REFDR EXTENSION6 V4.0"
DETECTOR_ID = MEX_HRSC_NADIR
EVENT_TYPE = "MARS-REGIONAL-MAPPING-Te-Im-Fl"
INSTRUMENT_HOST_ID = MEX
INSTRUMENT_HOST_NAME = "MARS EXPRESS"
INSTRUMENT_ID = HRSC
INSTRUMENT_NAME = "HIGH RESOLUTION STEREO CAMERA"
MISSION_NAME = "MARS EXPRESS"
MISSION_PHASE_NAME = ME_Phase_36
PROCESSING_LEVEL_ID = 4
PRODUCT_CREATION_TIME = 2023-01-26T14:39:22.000Z
PRODUCT_ID = "HG903_0000_ND4.TIF"
RELEASE_ID = 0001
REVISION_ID = 0000
/* QUALITY DATA ELEMENTS */
DATA_QUALITY_ID = 1
DATA_QUALITY_DESC = "Data calculated based on original SPICE kernels"
/* TIME DATA ELEMENTS */
SPACECRAFT_CLOCK_START_COUNT = "1/0442239590.09041"
SPACECRAFT_CLOCK_STOP_COUNT = "1/0442239806.30716"
START_TIME = 2017-05-07T12:20:27.979Z
STOP_TIME = 2017-05-07T12:22:56.985Z
/* ORBITAL DATA ELEMENTS */
ASCENDING_NODE_LONGITUDE = 256.47
MAXIMUM_RESOLUTION = 0.0132
FOOTPRINT_POINT_LATITUDE = (-48.0113,-48.0023,-47.9907,-47.9743, -47.9738,-47.9721,-47.6922,-47.3191, -46.9462,-46.5735,-46.201,-46.0111, -45.8188,-45.5304,-45.3382,-45.1462, -44.9542,-44.7622,-44.5703,-44.3785, -44.1867,-43.9951,-43.8035,-43.612, -43.4206,-43.2292,-43.0379,-42.8468, -42.6557,-42.4647,-42.2738,-42.0831, -41.8923,-41.7017,-41.5112,-41.3207, -41.1304,-40.9401,-40.75,-40.5599, -40.37,-39.9905,-39.6114,-39.2327, -38.8987,-38.6732,-38.4478,-38.3352, -38.3196,-38.3242,-38.3295,-38.3339, -38.3366,-38.3387,-38.3387,-38.339, -38.5647,-38.7906,-39.0166,-39.2406, -39.62,-39.8098,-39.9997,-40.1898, -40.38,-40.5703,-40.7606,-40.9511, -41.1417,-41.3324,-41.5232,-41.7141, -41.9051,-42.0962,-42.2873,-42.4786, -42.67,-42.8614,-43.053,-43.2446, -43.4363,-43.6281,-43.916,-44.108, -44.3001,-44.4922,-44.6845,-44.8768, -45.0691,-45.2616,-45.4541,-45.7431, -45.9357,-46.2229,-46.5962,-47.0631, -47.4369,-47.9044,-47.9979,-48.0113)
FOOTPRINT_POINT_LONGITUDE = (180.78,180.26,179.728,179.116,179.1, 179.078,179.095,179.116,179.137,179.157 ,179.176,179.186,179.196,179.209, 179.218,179.226,179.235,179.244,179.252 ,179.259,179.267,179.274,179.281, 179.289,179.296,179.302,179.309,179.315 ,179.322,179.329,179.335,179.341, 179.347,179.352,179.358,179.363,179.368 ,179.372,179.377,179.381,179.386, 179.394,179.402,179.41,179.416,179.419, 179.423,179.425,179.425,179.687,180.048 ,180.427,180.725,181.073,181.09,181.098 ,181.092,181.086,181.08,181.078,181.067 ,181.063,181.059,181.055,181.05,181.045 ,181.043,181.038,181.033,181.027, 181.022,181.017,181.012,181.007,181.002 ,180.996,180.991,180.986,180.981, 180.976,180.97,180.965,180.954,180.947, 180.942,180.936,180.93,180.924,180.918, 180.912,180.906,180.893,180.886,180.875 ,180.861,180.85,180.835,180.817,180.813 ,180.78)
ORBIT_NUMBER = 16903
ORBITAL_ECCENTRICITY = 0.578
ORBITAL_INCLINATION = 86.96
ORBITAL_SEMIMAJOR_AXIS = 8792.84
PERIAPSIS_ALTITUDE = 327.86
PERIAPSIS_ARGUMENT_ANGLE = 305.72
PERIAPSIS_TIME = 2017-05-07T12:18:54.000Z
SPACECRAFT_ORIENTATION = (0.0,1.0,0.0)
^MEX_ORIENTATION_DESC = "MEX_ORIENTATION_DESC.TXT"
SPACECRAFT_POINTING_MODE = ACROSSTRACK
^MEX_POINTING_DESC = "MEX_POINTING_DESC.TXT"
RIGHT_ASCENSION = -1e+32
DECLINATION = -1e+32
OFFSET_ANGLE = -0.229
SPACECRAFT_SOLAR_DISTANCE = 2.33364e+08
TARGET_NAME = MARS
/* CAMERA DATA ELEMENTS */
DETECTOR_TEMPERATURE = 18.3705
FOCAL_PLANE_TEMPERATURE = 8.3794
INST_CMPRS_NAME = "DISCRETE COSINE TRANSFORMATION (DCT)"
INST_CMPRS_RATIO = 5.99495
INST_CMPRS_QUALITY = 0
INST_CMPRS_QUANTZ_TBL_ID = 0
INSTRUMENT_TEMPERATURE = 11.6418
LENS_TEMPERATURE = 8.7872
MACROPIXEL_SIZE = 1
MISSING_FRAMES = 0
PIXEL_SUBSAMPLING_FLAG = N
SIGNAL_CHAIN_ID = 0
/* RADIOMETRIC DATA ELEMENTS */
BANDWIDTH = 177.0
CENTER_FILTER_WAVELENGTH = 677.5
RADIANCE_OFFSET = 2.99778
RADIANCE_SCALING_FACTOR = 0.0132729
REFLECTANCE_SCALING_FACTOR = 0.00038399
MEX:REFLECTANCE_OFFSET = 0.0867268
/* IMAGE OBJECT DEFINITIONS */
OBJECT = IMAGE
  INTERCHANGE_FORMAT = BINARY
  LINES = 45953
  LINE_SAMPLES = 7011
  SAMPLE_TYPE = UNSIGNED_INTEGER
  SAMPLE_BITS = 8
  BANDS = 1
  BAND_STORAGE_TYPE = BAND_SEQUENTIAL
  MAXIMUM = 255
  MEAN = 116.208
  MINIMUM = 1
  STANDARD_DEVIATION = 21.9006
END_OBJECT = IMAGE
/* MAP OBJECT DEFINITIONS */
OBJECT = IMAGE_MAP_PROJECTION
  ^DATA_SET_MAP_PROJECTION_CATALOG= "DSMAP.CAT"
  A_AXIS_RADIUS = 3396.0
  B_AXIS_RADIUS = 3396.0
  C_AXIS_RADIUS = 3396.0
  CENTER_LATITUDE = 0.0
  CENTER_LONGITUDE = 180.0
  COORDINATE_SYSTEM_NAME = PLANETOGRAPHIC
  COORDINATE_SYSTEM_TYPE = "BODY-FIXED ROTATING"
  EASTERNMOST_LONGITUDE = 181.098
  FIRST_STANDARD_PARALLEL = "N/A"
  LINE_FIRST_PIXEL = 1
  LINE_LAST_PIXEL = 45953
  LINE_PROJECTION_OFFSET = -181702.0
  MAP_PROJECTION_ROTATION = 0.0
  MAP_PROJECTION_TYPE = SINUSOIDAL
  MAP_RESOLUTION = 4741.71043093333
  MAP_SCALE = 0.0125
  MAXIMUM_LATITUDE = -38.3196
  MINIMUM_LATITUDE = -48.0113
  POSITIVE_LONGITUDE_DIRECTION = EAST
  REFERENCE_LATITUDE = "N/A"
  REFERENCE_LONGITUDE = "N/A"
  SAMPLE_FIRST_PIXEL = 1
  SAMPLE_LAST_PIXEL = 7011
  SAMPLE_PROJECTION_OFFSET = 2926.0
  SECOND_STANDARD_PARALLEL = "N/A"
  WESTERNMOST_LONGITUDE = 179.078
END_OBJECT = IMAGE_MAP_PROJECTION
END
