PDS_VERSION_ID = PDS3
/* FILE DATA ELEMENTS */
RECORD_TYPE = UNDEFINED
/* POINTERS TO DATA OBJECTS */
^IMAGE = ("HG903_0000_S24.TIF")
/* IDENTIFICATION DATA ELEMENTS */
DATA_SET_ID = "MEX-M-HRSC-4-REFDR-MAPPROJECT-EXT6-V4.0"
DATA_SET_NAME = "MARS EXPRESS HRSC MAP PROJECTED REFDR EXTENSION6 V4.0"
DETECTOR_ID = MEX_HRSC_S2
EVENT_TYPE = "MARS-REGIONAL-MAPPING-Te-Im-Fl"
INSTRUMENT_HOST_ID = MEX
INSTRUMENT_HOST_NAME = "MARS EXPRESS"
INSTRUMENT_ID = HRSC
INSTRUMENT_NAME = "HIGH RESOLUTION STEREO CAMERA"
MISSION_NAME = "MARS EXPRESS"
MISSION_PHASE_NAME = ME_Phase_36
PROCESSING_LEVEL_ID = 4
PRODUCT_CREATION_TIME = 2023-01-26T14:39:22.000Z
PRODUCT_ID = "HG903_0000_S24.TIF"
RELEASE_ID = 0001
REVISION_ID = 0000
/* QUALITY DATA ELEMENTS */
DATA_QUALITY_ID = 1
DATA_QUALITY_DESC = "Data calculated based on original SPICE kernels"
/* TIME DATA ELEMENTS */
SPACECRAFT_CLOCK_START_COUNT = "1/0442239590.09041"
SPACECRAFT_CLOCK_STOP_COUNT = "1/0442239806.30716"
START_TIME = 2017-05-07T12:19:58.357Z
STOP_TIME = 2017-05-07T12:22:23.987Z
/* ORBITAL DATA ELEMENTS */
ASCENDING_NODE_LONGITUDE = 256.47
MAXIMUM_RESOLUTION = 0.0279
FOOTPRINT_POINT_LATITUDE = (-48.0847,-48.083,-48.0777,-48.0691, -48.0622,-48.0619,-48.008,-47.3467, -46.9689,-46.7798,-46.4029,-46.0273, -45.8367,-45.6456,-45.456,-45.2667, -44.889,-44.6998,-44.4141,-44.2236, -44.0292,-43.8325,-43.6362,-43.4401, -43.2439,-42.9495,-42.753,-42.5586, -42.3633,-42.0704,-41.7764,-41.5802, -41.3828,-41.1859,-40.988,-40.7911, -40.5945,-40.3981,-40.202,-39.9076, -39.7112,-39.5146,-39.2196,-39.0225, -38.8261,-38.6295,-38.4329,-38.3346, -38.3302,-38.3357,-38.3371,-38.3375, -38.3361,-38.336,-38.3364,-38.5339, -38.7332,-39.0314,-39.2217,-39.4203, -39.715,-39.911,-40.2059,-40.4027, -40.5991,-40.7921,-40.9886,-41.1858, -41.3855,-41.5814,-41.778,-42.0726, -42.2693,-42.466,-42.6621,-42.859, -43.1516,-43.3476,-43.544,-43.7404, -43.9415,-44.1384,-44.3299,-44.5196, -44.7095,-44.8995,-45.0892,-45.3731, -45.6607,-45.8523,-46.0426,-46.2337, -46.423,-46.8024,-47.1732,-47.3624, -47.5545,-47.9324,-48.0269,-48.0847)
FOOTPRINT_POINT_LONGITUDE = (180.777,180.482,179.959,179.441, 179.118,179.101,179.086,179.126,179.148 ,179.159,179.179,179.2,179.209,179.218, 179.227,179.236,179.254,179.263,179.275 ,179.283,179.291,179.298,179.306, 179.314,179.321,179.332,179.339,179.346 ,179.353,179.363,179.372,179.378, 179.384,179.389,179.394,179.4,179.405, 179.41,179.415,179.422,179.426,179.431, 179.437,179.441,179.445,179.448,179.452 ,179.453,179.454,179.985,180.284, 180.631,181.059,181.075,181.08,181.076, 181.071,181.063,181.062,181.057,181.051 ,181.047,181.04,181.036,181.031,181.029 ,181.025,181.02,181.013,181.009,181.004 ,180.997,180.992,180.987,180.982, 180.976,180.97,180.965,180.96,180.954, 180.946,180.94,180.934,180.929,180.923, 180.918,180.912,180.904,180.893,180.886 ,180.879,180.872,180.866,180.853, 180.845,180.839,180.83,180.817,180.813, 180.777)
ORBIT_NUMBER = 16903
ORBITAL_ECCENTRICITY = 0.578
ORBITAL_INCLINATION = 86.96
ORBITAL_SEMIMAJOR_AXIS = 8792.84
PERIAPSIS_ALTITUDE = 327.86
PERIAPSIS_ARGUMENT_ANGLE = 305.72
PERIAPSIS_TIME = 2017-05-07T12:18:54.000Z
SPACECRAFT_ORIENTATION = (0.0,1.0,0.0)
^MEX_ORIENTATION_DESC = "MEX_ORIENTATION_DESC.TXT"
SPACECRAFT_POINTING_MODE = ACROSSTRACK
^MEX_POINTING_DESC = "MEX_POINTING_DESC.TXT"
RIGHT_ASCENSION = -1e+32
DECLINATION = -1e+32
OFFSET_ANGLE = -0.229
SPACECRAFT_SOLAR_DISTANCE = 2.33364e+08
TARGET_NAME = MARS
/* CAMERA DATA ELEMENTS */
DETECTOR_TEMPERATURE = 18.9822
FOCAL_PLANE_TEMPERATURE = 8.3794
INST_CMPRS_NAME = "DISCRETE COSINE TRANSFORMATION (DCT)"
INST_CMPRS_RATIO = 10.1859
INST_CMPRS_QUALITY = 0
INST_CMPRS_QUANTZ_TBL_ID = 0
INSTRUMENT_TEMPERATURE = 11.6418
LENS_TEMPERATURE = 8.7872
MACROPIXEL_SIZE = 2
MISSING_FRAMES = 0
PIXEL_SUBSAMPLING_FLAG = N
SIGNAL_CHAIN_ID = 1
/* RADIOMETRIC DATA ELEMENTS */
BANDWIDTH = 178.0
CENTER_FILTER_WAVELENGTH = 679.0
RADIANCE_OFFSET = 3.44736
RADIANCE_SCALING_FACTOR = 0.0137094
REFLECTANCE_SCALING_FACTOR = 0.000395384
MEX:REFLECTANCE_OFFSET = 0.0994227
/* IMAGE OBJECT DEFINITIONS */
OBJECT = IMAGE
  INTERCHANGE_FORMAT = BINARY
  LINES = 22977
  LINE_SAMPLES = 3506
  SAMPLE_TYPE = UNSIGNED_INTEGER
  SAMPLE_BITS = 8
  BANDS = 1
  BAND_STORAGE_TYPE = BAND_SEQUENTIAL
  MAXIMUM = 255
  MEAN = 111.98
  MINIMUM = 1
  STANDARD_DEVIATION = 22.5152
END_OBJECT = IMAGE
/* MAP OBJECT DEFINITIONS */
OBJECT = IMAGE_MAP_PROJECTION
  ^DATA_SET_MAP_PROJECTION_CATALOG= "DSMAP.CAT"
  A_AXIS_RADIUS = 3396.0
  B_AXIS_RADIUS = 3396.0
  C_AXIS_RADIUS = 3396.0
  CENTER_LATITUDE = 0.0
  CENTER_LONGITUDE = 180.0
  COORDINATE_SYSTEM_NAME = PLANETOGRAPHIC
  COORDINATE_SYSTEM_TYPE = "BODY-FIXED ROTATING"
  EASTERNMOST_LONGITUDE = 181.08
  FIRST_STANDARD_PARALLEL = "N/A"
  LINE_FIRST_PIXEL = 1
  LINE_LAST_PIXEL = 22977
  LINE_PROJECTION_OFFSET = -90851.25
  MAP_PROJECTION_ROTATION = 0.0
  MAP_PROJECTION_TYPE = SINUSOIDAL
  MAP_RESOLUTION = 2370.85521546667
  MAP_SCALE = 0.025
  MAXIMUM_LATITUDE = -38.3302
  MINIMUM_LATITUDE = -48.0847
  POSITIVE_LONGITUDE_DIRECTION = EAST
  REFERENCE_LATITUDE = "N/A"
  REFERENCE_LONGITUDE = "N/A"
  SAMPLE_FIRST_PIXEL = 1
  SAMPLE_LAST_PIXEL = 3506
  SAMPLE_PROJECTION_OFFSET = 1462.75
  SECOND_STANDARD_PARALLEL = "N/A"
  WESTERNMOST_LONGITUDE = 179.086
END_OBJECT = IMAGE_MAP_PROJECTION
END
