PDS_VERSION_ID = PDS3
/* FILE DATA ELEMENTS */
RECORD_TYPE = UNDEFINED
/* POINTERS TO DATA OBJECTS */
^IMAGE = ("HG904_0000_IR4.TIF")
/* IDENTIFICATION DATA ELEMENTS */
DATA_SET_ID = "MEX-M-HRSC-4-REFDR-MAPPROJECT-EXT6-V4.0"
DATA_SET_NAME = "MARS EXPRESS HRSC MAP PROJECTED REFDR EXTENSION6 V4.0"
DETECTOR_ID = MEX_HRSC_IR
EVENT_TYPE = "MARS-REGIONAL-MAPPING-Im-Gl-La"
INSTRUMENT_HOST_ID = MEX
INSTRUMENT_HOST_NAME = "MARS EXPRESS"
INSTRUMENT_ID = HRSC
INSTRUMENT_NAME = "HIGH RESOLUTION STEREO CAMERA"
MISSION_NAME = "MARS EXPRESS"
MISSION_PHASE_NAME = ME_Phase_36
PROCESSING_LEVEL_ID = 4
PRODUCT_CREATION_TIME = 2023-01-26T14:39:22.000Z
PRODUCT_ID = "HG904_0000_IR4.TIF"
RELEASE_ID = 0001
REVISION_ID = 0000
/* QUALITY DATA ELEMENTS */
DATA_QUALITY_ID = 1
DATA_QUALITY_DESC = "Data calculated based on original SPICE kernels"
/* TIME DATA ELEMENTS */
SPACECRAFT_CLOCK_START_COUNT = "1/0442264973.07324"
SPACECRAFT_CLOCK_STOP_COUNT = "1/0442265217.15740"
START_TIME = 2017-05-07T19:24:09.657Z
STOP_TIME = 2017-05-07T19:26:50.502Z
/* ORBITAL DATA ELEMENTS */
ASCENDING_NODE_LONGITUDE = 256.45
MAXIMUM_RESOLUTION = 0.071
FOOTPRINT_POINT_LATITUDE = (-34.7129,-34.7027,-34.696,-34.689, -34.6818,-34.6743,-34.6665,-34.666, -34.7293,-34.3872,-34.0464,-33.7906, -33.5272,-33.1772,-32.9159,-32.7378, -32.4747,-32.1213,-31.9442,-31.7608, -31.4911,-31.3115,-31.0425,-30.8614, -30.6777,-30.4938,-30.3108,-30.1319, -29.9447,-29.6647,-29.4773,-29.1965, -29.0077,-28.8187,-28.5362,-28.3454, -28.1575,-27.9666,-27.7763,-27.5825, -27.2933,-27.0004,-26.8018,-26.6037, -26.404,-26.2015,-26.0026,-25.8018, -25.6025,-25.5007,-25.4452,-25.4524, -25.4554,-25.4608,-25.4622,-25.4676, -25.4718,-25.472,-25.4732,-25.7773, -25.9773,-26.1787,-26.3799,-26.5775, -26.8733,-27.0707,-27.3627,-27.5571, -27.8491,-28.0399,-28.2318,-28.4229, -28.7071,-28.9889,-29.1812,-29.3698, -29.5553,-29.746,-29.9328,-30.1172, -30.2968,-30.4808,-30.6659,-30.9387, -31.1221,-31.3002,-31.571,-31.8433, -32.0252,-32.2035,-32.3813,-32.5598, -32.8267,-33.2626,-33.6115,-33.8728, -34.3015,-34.6441,-34.7301,-34.7129)
FOOTPRINT_POINT_LONGITUDE = (79.4864,79.0478,78.7806,78.5154, 78.2524,77.9912,77.7316,77.7154,77.7096 ,77.7073,77.7047,77.7026,77.7004,77.697 ,77.6943,77.6925,77.6893,77.6849, 77.6826,77.6804,77.6766,77.6739,77.6698 ,77.6669,77.6639,77.6609,77.6578, 77.6544,77.6512,77.646,77.6426,77.6372, 77.6334,77.6295,77.6235,77.6193,77.6147 ,77.6104,77.6059,77.6012,77.594,77.5868 ,77.5819,77.5769,77.572,77.567,77.5615, 77.5561,77.5503,77.5475,77.546,77.8673, 78.2108,78.6143,78.9037,79.2355,79.5887 ,79.6084,79.615,79.6125,79.6108,79.6099 ,79.6085,79.6073,79.6044,79.6022,79.6, 79.5981,79.5957,79.5936,79.592,79.5895, 79.5861,79.5824,79.5832,79.5816,79.5797 ,79.5819,79.5807,79.5772,79.5726, 79.5719,79.5718,79.5672,79.5676,79.5645 ,79.5624,79.561,79.563,79.5625,79.5614, 79.5606,79.5586,79.5555,79.5523,79.5505 ,79.5476,79.5441,79.5433,79.4864)
ORBIT_NUMBER = 16904
ORBITAL_ECCENTRICITY = 0.578
ORBITAL_INCLINATION = 86.96
ORBITAL_SEMIMAJOR_AXIS = 8795.53
PERIAPSIS_ALTITUDE = 326.68
PERIAPSIS_ARGUMENT_ANGLE = 305.53
PERIAPSIS_TIME = 2017-05-07T19:18:35.000Z
SPACECRAFT_ORIENTATION = (0.0,1.0,0.0)
^MEX_ORIENTATION_DESC = "MEX_ORIENTATION_DESC.TXT"
SPACECRAFT_POINTING_MODE = ACROSSTRACK
^MEX_POINTING_DESC = "MEX_POINTING_DESC.TXT"
RIGHT_ASCENSION = -1e+32
DECLINATION = -1e+32
OFFSET_ANGLE = -0.687
SPACECRAFT_SOLAR_DISTANCE = 2.33418e+08
TARGET_NAME = MARS
/* CAMERA DATA ELEMENTS */
DETECTOR_TEMPERATURE = 16.7393
FOCAL_PLANE_TEMPERATURE = 8.1755
INST_CMPRS_NAME = "DISCRETE COSINE TRANSFORMATION (DCT)"
INST_CMPRS_RATIO = 11.5374
INST_CMPRS_QUALITY = 0
INST_CMPRS_QUANTZ_TBL_ID = 0
INSTRUMENT_TEMPERATURE = 11.0301
LENS_TEMPERATURE = 7.9716
MACROPIXEL_SIZE = 4
MISSING_FRAMES = 0
PIXEL_SUBSAMPLING_FLAG = N
SIGNAL_CHAIN_ID = 2
/* RADIOMETRIC DATA ELEMENTS */
BANDWIDTH = 81.0
CENTER_FILTER_WAVELENGTH = 955.5
RADIANCE_OFFSET = 1.01219
RADIANCE_SCALING_FACTOR = 0.0031363
REFLECTANCE_SCALING_FACTOR = 0.000368653
MEX:REFLECTANCE_OFFSET = 0.118977
/* IMAGE OBJECT DEFINITIONS */
OBJECT = IMAGE
  INTERCHANGE_FORMAT = BINARY
  LINES = 11193
  LINE_SAMPLES = 2079
  SAMPLE_TYPE = UNSIGNED_INTEGER
  SAMPLE_BITS = 8
  BANDS = 1
  BAND_STORAGE_TYPE = BAND_SEQUENTIAL
  MAXIMUM = 255
  MEAN = 100.811
  MINIMUM = 1
  STANDARD_DEVIATION = 23.5421
END_OBJECT = IMAGE
/* MAP OBJECT DEFINITIONS */
OBJECT = IMAGE_MAP_PROJECTION
  ^DATA_SET_MAP_PROJECTION_CATALOG= "DSMAP.CAT"
  A_AXIS_RADIUS = 3396.0
  B_AXIS_RADIUS = 3396.0
  C_AXIS_RADIUS = 3396.0
  CENTER_LATITUDE = 0.0
  CENTER_LONGITUDE = 79.0
  COORDINATE_SYSTEM_NAME = PLANETOGRAPHIC
  COORDINATE_SYSTEM_TYPE = "BODY-FIXED ROTATING"
  EASTERNMOST_LONGITUDE = 79.61499999999999
  FIRST_STANDARD_PARALLEL = "N/A"
  LINE_FIRST_PIXEL = 1
  LINE_LAST_PIXEL = 11193
  LINE_PROJECTION_OFFSET = -29982.375
  MAP_PROJECTION_ROTATION = 0.0
  MAP_PROJECTION_TYPE = SINUSOIDAL
  MAP_RESOLUTION = 1185.42760773333
  MAP_SCALE = 0.05
  MAXIMUM_LATITUDE = -25.4452
  MINIMUM_LATITUDE = -34.7301
  POSITIVE_LONGITUDE_DIRECTION = EAST
  REFERENCE_LATITUDE = "N/A"
  REFERENCE_LONGITUDE = "N/A"
  SAMPLE_FIRST_PIXEL = 1
  SAMPLE_LAST_PIXEL = 2079
  SAMPLE_PROJECTION_OFFSET = 1504.125
  SECOND_STANDARD_PARALLEL = "N/A"
  WESTERNMOST_LONGITUDE = 77.54600000000001
END_OBJECT = IMAGE_MAP_PROJECTION
END
