PDS_VERSION_ID = PDS3
/* FILE DATA ELEMENTS */
RECORD_TYPE = UNDEFINED
/* POINTERS TO DATA OBJECTS */
^IMAGE = ("HG904_0000_S24.TIF")
/* IDENTIFICATION DATA ELEMENTS */
DATA_SET_ID = "MEX-M-HRSC-4-REFDR-MAPPROJECT-EXT6-V4.0"
DATA_SET_NAME = "MARS EXPRESS HRSC MAP PROJECTED REFDR EXTENSION6 V4.0"
DETECTOR_ID = MEX_HRSC_S2
EVENT_TYPE = "MARS-REGIONAL-MAPPING-Im-Gl-La"
INSTRUMENT_HOST_ID = MEX
INSTRUMENT_HOST_NAME = "MARS EXPRESS"
INSTRUMENT_ID = HRSC
INSTRUMENT_NAME = "HIGH RESOLUTION STEREO CAMERA"
MISSION_NAME = "MARS EXPRESS"
MISSION_PHASE_NAME = ME_Phase_36
PROCESSING_LEVEL_ID = 4
PRODUCT_CREATION_TIME = 2023-01-26T14:39:22.000Z
PRODUCT_ID = "HG904_0000_S24.TIF"
RELEASE_ID = 0001
REVISION_ID = 0000
/* QUALITY DATA ELEMENTS */
DATA_QUALITY_ID = 1
DATA_QUALITY_DESC = "Data calculated based on original SPICE kernels"
/* TIME DATA ELEMENTS */
SPACECRAFT_CLOCK_START_COUNT = "1/0442264973.07324"
SPACECRAFT_CLOCK_STOP_COUNT = "1/0442265217.15740"
START_TIME = 2017-05-07T19:23:01.349Z
STOP_TIME = 2017-05-07T19:25:24.870Z
/* ORBITAL DATA ELEMENTS */
ASCENDING_NODE_LONGITUDE = 256.45
MAXIMUM_RESOLUTION = 0.0332
FOOTPRINT_POINT_LATITUDE = (-34.7588,-34.7723,-34.7811,-34.7889, -34.7958,-34.8018,-34.807,-34.8074, -34.7263,-34.5469,-34.3662,-34.1861, -33.8275,-33.473,-33.0268,-32.5843, -32.4027,-32.0425,-31.6916,-31.4202, -31.145,-30.9602,-30.7766,-30.5949, -30.4136,-30.2258,-30.037,-29.8505, -29.6631,-29.4777,-29.2908,-29.1012, -28.9108,-28.7188,-28.4319,-28.2336, -28.0401,-27.8441,-27.6459,-27.4492, -27.2518,-26.9552,-26.7558,-26.5577, -26.3622,-26.1639,-25.8575,-25.6531, -25.4498,-25.3471,-25.334,-25.3233, -25.3171,-25.3041,-25.2979,-25.2783, -25.2687,-25.268,-25.2683,-25.4729, -25.6786,-25.8844,-26.0877,-26.2873, -26.486,-26.6867,-26.9879,-27.1855, -27.4804,-27.6766,-27.8732,-28.0754, -28.2641,-28.4577,-28.6518,-28.8432, -29.0414,-29.2242,-29.5048,-29.692, -29.8746,-30.0649,-30.3505,-30.5323, -30.7166,-30.8988,-31.1757,-31.3591, -31.5413,-31.8957,-32.3387,-32.6933, -32.8746,-33.2325,-33.5913,-34.0388, -34.2182,-34.5774,-34.6675,-34.7588)
FOOTPRINT_POINT_LONGITUDE = (79.4164,79.06,78.8034,78.5489,78.2967, 78.0462,77.7974,77.7819,77.7797,77.7794 ,77.779,77.7785,77.7772,77.7755,77.773, 77.77,77.7688,77.766,77.7629,77.7603, 77.7576,77.7557,77.7537,77.7516,77.7495 ,77.7472,77.7449,77.7425,77.74,77.7374, 77.7348,77.732,77.7292,77.7263,77.7217, 77.7185,77.7152,77.7119,77.7084,77.7048 ,77.7012,77.6956,77.6918,77.6879, 77.6841,77.68,77.6736,77.6692,77.6648, 77.6625,77.6622,77.9578,78.2029,78.6257 ,78.9085,79.2687,79.4675,79.4855,79.492 ,79.492,79.4912,79.4905,79.4904,79.4906 ,79.4916,79.4913,79.4909,79.49,79.4893, 79.4891,79.4888,79.4843,79.486,79.4847, 79.4831,79.4832,79.4791,79.4831,79.4831 ,79.4831,79.4861,79.4841,79.4798, 79.4803,79.4793,79.4796,79.4778,79.4774 ,79.4768,79.4781,79.48,79.4814,79.4794, 79.4788,79.4776,79.4769,79.4764,79.4751 ,79.4746,79.4164)
ORBIT_NUMBER = 16904
ORBITAL_ECCENTRICITY = 0.578
ORBITAL_INCLINATION = 86.96
ORBITAL_SEMIMAJOR_AXIS = 8795.53
PERIAPSIS_ALTITUDE = 326.68
PERIAPSIS_ARGUMENT_ANGLE = 305.53
PERIAPSIS_TIME = 2017-05-07T19:18:35.000Z
SPACECRAFT_ORIENTATION = (0.0,1.0,0.0)
^MEX_ORIENTATION_DESC = "MEX_ORIENTATION_DESC.TXT"
SPACECRAFT_POINTING_MODE = ACROSSTRACK
^MEX_POINTING_DESC = "MEX_POINTING_DESC.TXT"
RIGHT_ASCENSION = -1e+32
DECLINATION = -1e+32
OFFSET_ANGLE = -0.687
SPACECRAFT_SOLAR_DISTANCE = 2.33418e+08
TARGET_NAME = MARS
/* CAMERA DATA ELEMENTS */
DETECTOR_TEMPERATURE = 18.7783
FOCAL_PLANE_TEMPERATURE = 8.1755
INST_CMPRS_NAME = "DISCRETE COSINE TRANSFORMATION (DCT)"
INST_CMPRS_RATIO = 10.8605
INST_CMPRS_QUALITY = 0
INST_CMPRS_QUANTZ_TBL_ID = 0
INSTRUMENT_TEMPERATURE = 11.0301
LENS_TEMPERATURE = 7.9716
MACROPIXEL_SIZE = 2
MISSING_FRAMES = 0
PIXEL_SUBSAMPLING_FLAG = N
SIGNAL_CHAIN_ID = 1
/* RADIOMETRIC DATA ELEMENTS */
BANDWIDTH = 178.0
CENTER_FILTER_WAVELENGTH = 679.0
RADIANCE_OFFSET = 4.11319
RADIANCE_SCALING_FACTOR = 0.0136037
REFLECTANCE_SCALING_FACTOR = 0.000392516
MEX:REFLECTANCE_OFFSET = 0.11868
/* IMAGE OBJECT DEFINITIONS */
OBJECT = IMAGE
  INTERCHANGE_FORMAT = BINARY
  LINES = 22386
  LINE_SAMPLES = 4158
  SAMPLE_TYPE = UNSIGNED_INTEGER
  SAMPLE_BITS = 8
  BANDS = 1
  BAND_STORAGE_TYPE = BAND_SEQUENTIAL
  MAXIMUM = 255
  MEAN = 126.882
  MINIMUM = 1
  STANDARD_DEVIATION = 21.8125
END_OBJECT = IMAGE
/* MAP OBJECT DEFINITIONS */
OBJECT = IMAGE_MAP_PROJECTION
  ^DATA_SET_MAP_PROJECTION_CATALOG= "DSMAP.CAT"
  A_AXIS_RADIUS = 3396.0
  B_AXIS_RADIUS = 3396.0
  C_AXIS_RADIUS = 3396.0
  CENTER_LATITUDE = 0.0
  CENTER_LONGITUDE = 79.0
  COORDINATE_SYSTEM_NAME = PLANETOGRAPHIC
  COORDINATE_SYSTEM_TYPE = "BODY-FIXED ROTATING"
  EASTERNMOST_LONGITUDE = 79.492
  FIRST_STANDARD_PARALLEL = "N/A"
  LINE_FIRST_PIXEL = 1
  LINE_LAST_PIXEL = 22386
  LINE_PROJECTION_OFFSET = -59964.25
  MAP_PROJECTION_ROTATION = 0.0
  MAP_PROJECTION_TYPE = SINUSOIDAL
  MAP_RESOLUTION = 2370.85521546667
  MAP_SCALE = 0.025
  MAXIMUM_LATITUDE = -25.268
  MINIMUM_LATITUDE = -34.8074
  POSITIVE_LONGITUDE_DIRECTION = EAST
  REFERENCE_LATITUDE = "N/A"
  REFERENCE_LONGITUDE = "N/A"
  SAMPLE_FIRST_PIXEL = 1
  SAMPLE_LAST_PIXEL = 4158
  SAMPLE_PROJECTION_OFFSET = 3008.75
  SECOND_STANDARD_PARALLEL = "N/A"
  WESTERNMOST_LONGITUDE = 77.6622
END_OBJECT = IMAGE_MAP_PROJECTION
END
