PDS_VERSION_ID = PDS3
/* FILE DATA ELEMENTS */
RECORD_TYPE = UNDEFINED
/* POINTERS TO DATA OBJECTS */
^IMAGE = ("HG905_0000_P24.TIF")
/* IDENTIFICATION DATA ELEMENTS */
DATA_SET_ID = "MEX-M-HRSC-4-REFDR-MAPPROJECT-EXT6-V4.0"
DATA_SET_NAME = "MARS EXPRESS HRSC MAP PROJECTED REFDR EXTENSION6 V4.0"
DETECTOR_ID = MEX_HRSC_P2
EVENT_TYPE = "MARS-LOCAL-STEREO-Fl-Gl-Tc"
INSTRUMENT_HOST_ID = MEX
INSTRUMENT_HOST_NAME = "MARS EXPRESS"
INSTRUMENT_ID = HRSC
INSTRUMENT_NAME = "HIGH RESOLUTION STEREO CAMERA"
MISSION_NAME = "MARS EXPRESS"
MISSION_PHASE_NAME = ME_Phase_36
PROCESSING_LEVEL_ID = 4
PRODUCT_CREATION_TIME = 2023-01-26T14:39:22.000Z
PRODUCT_ID = "HG905_0000_P24.TIF"
RELEASE_ID = 0001
REVISION_ID = 0000
/* QUALITY DATA ELEMENTS */
DATA_QUALITY_ID = 1
DATA_QUALITY_DESC = "Data calculated based on original SPICE kernels"
/* TIME DATA ELEMENTS */
SPACECRAFT_CLOCK_START_COUNT = "1/0442289913.07304"
SPACECRAFT_CLOCK_STOP_COUNT = "1/0442290049.33078"
START_TIME = 2017-05-08T02:18:51.221Z
STOP_TIME = 2017-05-08T02:20:04.829Z
/* ORBITAL DATA ELEMENTS */
ASCENDING_NODE_LONGITUDE = 256.44
MAXIMUM_RESOLUTION = 0.0269
FOOTPRINT_POINT_LATITUDE = (-50.8914,-50.8873,-50.8795,-50.8741, -50.866,-50.8578,-50.8401,-50.8394, -50.791,-50.604,-50.3709,-50.2293, -50.0381,-49.9411,-49.7959,-49.6983, -49.5534,-49.4569,-49.3592,-49.2592, -49.1598,-49.0124,-48.9153,-48.7699, -48.6244,-48.5276,-48.4307,-48.3337, -48.1882,-48.0914,-47.9944,-47.8488, -47.7519,-47.6552,-47.5106,-47.3213, -47.1782,-47.0816,-46.9849,-46.8875, -46.79,-46.693,-46.5955,-46.4976, -46.4004,-46.3032,-46.1576,-46.0118, -45.9634,-45.9457,-45.9504,-45.9587, -45.9654,-45.975,-45.9812,-45.9847, -45.9886,-45.9888,-45.9894,-46.0867, -46.184,-46.2811,-46.4262,-46.523, -46.6696,-46.7676,-46.9132,-47.0104, -47.1563,-47.3498,-47.4953,-47.5925, -47.7381,-47.8848,-47.9834,-48.0814, -48.1787,-48.2754,-48.3726,-48.4701, -48.5676,-48.6652,-48.7625,-48.8596, -48.9569,-49.0537,-49.1986,-49.3906, -49.4884,-49.5872,-49.6851,-49.7821, -49.9748,-50.1196,-50.217,-50.3619, -50.5495,-50.7838,-50.8306,-50.8914)
FOOTPRINT_POINT_LONGITUDE = (335.708,335.521,335.199,334.996, 334.725,334.471,333.979,333.962,333.928 ,333.945,333.966,333.978,333.996, 334.004,334.016,334.023,334.035,334.043 ,334.05,334.056,334.062,334.072,334.079 ,334.09,334.1,334.107,334.115,334.121, 334.132,334.139,334.145,334.155,334.162 ,334.169,334.179,334.194,334.205, 334.211,334.218,334.224,334.229,334.235 ,334.241,334.246,334.252,334.258, 334.266,334.274,334.277,334.278,334.425 ,334.686,334.899,335.225,335.519, 335.699,335.944,335.961,335.966,335.963 ,335.959,335.955,335.95,335.946,335.94, 335.935,335.929,335.925,335.919,335.911 ,335.905,335.901,335.895,335.888, 335.883,335.878,335.873,335.869,335.865 ,335.86,335.855,335.85,335.846,335.841, 335.837,335.832,335.826,335.818,335.813 ,335.807,335.801,335.796,335.788, 335.781,335.776,335.768,335.758,335.745 ,335.743,335.708)
ORBIT_NUMBER = 16905
ORBITAL_ECCENTRICITY = 0.578
ORBITAL_INCLINATION = 86.96
ORBITAL_SEMIMAJOR_AXIS = 8791.43
PERIAPSIS_ALTITUDE = 327.47
PERIAPSIS_ARGUMENT_ANGLE = 305.37
PERIAPSIS_TIME = 2017-05-08T02:18:15.000Z
SPACECRAFT_ORIENTATION = (0.0,1.0,0.0)
^MEX_ORIENTATION_DESC = "MEX_ORIENTATION_DESC.TXT"
SPACECRAFT_POINTING_MODE = NADIR
^MEX_POINTING_DESC = "MEX_POINTING_DESC.TXT"
RIGHT_ASCENSION = -1e+32
DECLINATION = -1e+32
OFFSET_ANGLE = -1e+32
SPACECRAFT_SOLAR_DISTANCE = 2.33471e+08
TARGET_NAME = MARS
/* CAMERA DATA ELEMENTS */
DETECTOR_TEMPERATURE = 18.5744
FOCAL_PLANE_TEMPERATURE = 8.3794
INST_CMPRS_NAME = "DISCRETE COSINE TRANSFORMATION (DCT)"
INST_CMPRS_RATIO = 7.48715
INST_CMPRS_QUALITY = 0
INST_CMPRS_QUANTZ_TBL_ID = 0
INSTRUMENT_TEMPERATURE = 11.234
LENS_TEMPERATURE = 8.9911
MACROPIXEL_SIZE = 2
MISSING_FRAMES = 0
PIXEL_SUBSAMPLING_FLAG = N
SIGNAL_CHAIN_ID = 3
/* RADIOMETRIC DATA ELEMENTS */
BANDWIDTH = 177.0
CENTER_FILTER_WAVELENGTH = 676.5
RADIANCE_OFFSET = 3.51648
RADIANCE_SCALING_FACTOR = 0.0128167
REFLECTANCE_SCALING_FACTOR = 0.000370426
MEX:REFLECTANCE_OFFSET = 0.101633
/* IMAGE OBJECT DEFINITIONS */
OBJECT = IMAGE
  INTERCHANGE_FORMAT = BINARY
  LINES = 11588
  LINE_SAMPLES = 3212
  SAMPLE_TYPE = UNSIGNED_INTEGER
  SAMPLE_BITS = 8
  BANDS = 1
  BAND_STORAGE_TYPE = BAND_SEQUENTIAL
  MAXIMUM = 255
  MEAN = 115.615
  MINIMUM = 1
  STANDARD_DEVIATION = 34.8522
END_OBJECT = IMAGE
/* MAP OBJECT DEFINITIONS */
OBJECT = IMAGE_MAP_PROJECTION
  ^DATA_SET_MAP_PROJECTION_CATALOG= "DSMAP.CAT"
  A_AXIS_RADIUS = 3396.0
  B_AXIS_RADIUS = 3396.0
  C_AXIS_RADIUS = 3396.0
  CENTER_LATITUDE = 0.0
  CENTER_LONGITUDE = 335.0
  COORDINATE_SYSTEM_NAME = PLANETOGRAPHIC
  COORDINATE_SYSTEM_TYPE = "BODY-FIXED ROTATING"
  EASTERNMOST_LONGITUDE = 335.966
  FIRST_STANDARD_PARALLEL = "N/A"
  LINE_FIRST_PIXEL = 1
  LINE_LAST_PIXEL = 11588
  LINE_PROJECTION_OFFSET = -108919.25
  MAP_PROJECTION_ROTATION = 0.0
  MAP_PROJECTION_TYPE = SINUSOIDAL
  MAP_RESOLUTION = 2370.85521546667
  MAP_SCALE = 0.025
  MAXIMUM_LATITUDE = -45.9457
  MINIMUM_LATITUDE = -50.8914
  POSITIVE_LONGITUDE_DIRECTION = EAST
  REFERENCE_LATITUDE = "N/A"
  REFERENCE_LONGITUDE = "N/A"
  SAMPLE_FIRST_PIXEL = 1
  SAMPLE_LAST_PIXEL = 3212
  SAMPLE_PROJECTION_OFFSET = 1607.25
  SECOND_STANDARD_PARALLEL = "N/A"
  WESTERNMOST_LONGITUDE = 333.928
END_OBJECT = IMAGE_MAP_PROJECTION
END
