PDS_VERSION_ID = PDS3
/* FILE DATA ELEMENTS */
RECORD_TYPE = UNDEFINED
/* POINTERS TO DATA OBJECTS */
^IMAGE = ("HG925_0000_S24.TIF")
/* IDENTIFICATION DATA ELEMENTS */
DATA_SET_ID = "MEX-M-HRSC-4-REFDR-MAPPROJECT-EXT6-V4.0"
DATA_SET_NAME = "MARS EXPRESS HRSC MAP PROJECTED REFDR EXTENSION6 V4.0"
DETECTOR_ID = MEX_HRSC_S2
EVENT_TYPE = "MARS-REGIONAL-MAPPING-Im-Fl-Gl"
INSTRUMENT_HOST_ID = MEX
INSTRUMENT_HOST_NAME = "MARS EXPRESS"
INSTRUMENT_ID = HRSC
INSTRUMENT_NAME = "HIGH RESOLUTION STEREO CAMERA"
MISSION_NAME = "MARS EXPRESS"
MISSION_PHASE_NAME = ME_Phase_36
PROCESSING_LEVEL_ID = 4
PRODUCT_CREATION_TIME = 2023-01-26T14:39:22.000Z
PRODUCT_ID = "HG925_0000_S24.TIF"
RELEASE_ID = 0001
REVISION_ID = 0000
/* QUALITY DATA ELEMENTS */
DATA_QUALITY_ID = 1
DATA_QUALITY_DESC = "Data calculated based on original SPICE kernels"
/* TIME DATA ELEMENTS */
SPACECRAFT_CLOCK_START_COUNT = "1/0442793598.09023"
SPACECRAFT_CLOCK_STOP_COUNT = "1/0442793845.23619"
START_TIME = 2017-05-13T22:13:26.394Z
STOP_TIME = 2017-05-13T22:16:21.155Z
/* ORBITAL DATA ELEMENTS */
ASCENDING_NODE_LONGITUDE = 256.06
MAXIMUM_RESOLUTION = 0.0278
FOOTPRINT_POINT_LATITUDE = (-52.5487,-52.5364,-52.5147,-52.5142, -52.4393,-52.0954,-51.8691,-51.6407, -51.4128,-51.0698,-50.8396,-50.6056, -50.3779,-50.1511,-49.9241,-49.472, -49.239,-49.0104,-48.7832,-48.5558, -48.3292,-48.1021,-47.8748,-47.648, -47.4168,-47.0636,-46.7117,-46.4771, -46.2432,-46.0074,-45.7717,-45.537, -45.3029,-45.0674,-44.8322,-44.5972, -44.3629,-44.1279,-43.7751,-43.5415, -43.1918,-42.8388,-42.6046,-42.3701, -42.0194,-41.7805,-41.4312,-41.1961, -40.9619,-40.8452,-40.8055,-40.8129, -40.8165,-40.8137,-40.8149,-40.8153, -41.0515,-41.4032,-41.6383,-41.9908, -42.2257,-42.4613,-42.816,-43.1673, -43.4024,-43.6377,-43.9903,-44.2243, -44.4593,-44.8125,-45.0477,-45.2853, -45.5211,-45.7573,-46.1085,-46.3442, -46.5804,-46.9324,-47.167,-47.4024, -47.6377,-47.8653,-48.0961,-48.3235, -48.5519,-48.8945,-49.2371,-49.4683, -49.7012,-50.1553,-50.4967,-50.731, -50.9588,-51.1861,-51.4143,-51.8639, -52.0914,-52.3185,-52.4308,-52.5487)
FOOTPRINT_POINT_LONGITUDE = (89.933,89.0452,88.1321,88.1147,88.0955 ,88.1247,88.1441,88.1628,88.1813,88.208 ,88.2251,88.2411,88.2579,88.2745, 88.2907,88.3226,88.3367,88.3513,88.3659 ,88.3801,88.3941,88.4078,88.4211, 88.4342,88.4474,88.4664,88.4849,88.4968 ,88.5086,88.5197,88.5306,88.5414,88.552 ,88.562,88.5719,88.5815,88.591,88.6, 88.6131,88.6218,88.6345,88.646,88.6536, 88.6609,88.6716,88.6774,88.6874,88.6934 ,88.6993,88.7023,88.7032,89.2205, 89.8922,90.4174,90.4336,90.4397,90.4334 ,90.4251,90.4192,90.4102,90.4042, 90.3977,90.387,90.3781,90.3715,90.3648, 90.3546,90.3483,90.3414,90.3302,90.3229 ,90.3139,90.3058,90.2974,90.2866, 90.2781,90.2693,90.2571,90.2489,90.24, 90.2303,90.2215,90.2105,90.2014,90.1916 ,90.1765,90.161,90.1484,90.1345,90.1141 ,90.0977,90.0817,90.0701,90.0587, 90.0463,90.026,90.0134,90.0009,89.9955, 89.933)
ORBIT_NUMBER = 16925
ORBITAL_ECCENTRICITY = 0.578
ORBITAL_INCLINATION = 86.96
ORBITAL_SEMIMAJOR_AXIS = 8790.55
PERIAPSIS_ALTITUDE = 326.52
PERIAPSIS_ARGUMENT_ANGLE = 301.96
PERIAPSIS_TIME = 2017-05-13T22:12:33.000Z
SPACECRAFT_ORIENTATION = (0.0,1.0,0.0)
^MEX_ORIENTATION_DESC = "MEX_ORIENTATION_DESC.TXT"
SPACECRAFT_POINTING_MODE = ACROSSTRACK
^MEX_POINTING_DESC = "MEX_POINTING_DESC.TXT"
RIGHT_ASCENSION = -1e+32
DECLINATION = -1e+32
OFFSET_ANGLE = -0.229
SPACECRAFT_SOLAR_DISTANCE = 2.34532e+08
TARGET_NAME = MARS
/* CAMERA DATA ELEMENTS */
DETECTOR_TEMPERATURE = 18.5744
FOCAL_PLANE_TEMPERATURE = 7.3599
INST_CMPRS_NAME = "DISCRETE COSINE TRANSFORMATION (DCT)"
INST_CMPRS_RATIO = 13.2121
INST_CMPRS_QUALITY = 0
INST_CMPRS_QUANTZ_TBL_ID = 0
INSTRUMENT_TEMPERATURE = 11.4379
LENS_TEMPERATURE = 7.9716
MACROPIXEL_SIZE = 2
MISSING_FRAMES = 0
PIXEL_SUBSAMPLING_FLAG = N
SIGNAL_CHAIN_ID = 1
/* RADIOMETRIC DATA ELEMENTS */
BANDWIDTH = 178.0
CENTER_FILTER_WAVELENGTH = 679.0
RADIANCE_OFFSET = 3.9329
RADIANCE_SCALING_FACTOR = 0.0137094
REFLECTANCE_SCALING_FACTOR = 0.000399351
MEX:REFLECTANCE_OFFSET = 0.114564
/* IMAGE OBJECT DEFINITIONS */
OBJECT = IMAGE
  INTERCHANGE_FORMAT = BINARY
  LINES = 27604
  LINE_SAMPLES = 3938
  SAMPLE_TYPE = UNSIGNED_INTEGER
  SAMPLE_BITS = 8
  BANDS = 1
  BAND_STORAGE_TYPE = BAND_SEQUENTIAL
  MAXIMUM = 255
  MEAN = 140.646
  MINIMUM = 1
  STANDARD_DEVIATION = 40.12
END_OBJECT = IMAGE
/* MAP OBJECT DEFINITIONS */
OBJECT = IMAGE_MAP_PROJECTION
  ^DATA_SET_MAP_PROJECTION_CATALOG= "DSMAP.CAT"
  A_AXIS_RADIUS = 3396.0
  B_AXIS_RADIUS = 3396.0
  C_AXIS_RADIUS = 3396.0
  CENTER_LATITUDE = 0.0
  CENTER_LONGITUDE = 89.0
  COORDINATE_SYSTEM_NAME = PLANETOGRAPHIC
  COORDINATE_SYSTEM_TYPE = "BODY-FIXED ROTATING"
  EASTERNMOST_LONGITUDE = 90.4397
  FIRST_STANDARD_PARALLEL = "N/A"
  LINE_FIRST_PIXEL = 1
  LINE_LAST_PIXEL = 27604
  LINE_PROJECTION_OFFSET = -96787.75
  MAP_PROJECTION_ROTATION = 0.0
  MAP_PROJECTION_TYPE = SINUSOIDAL
  MAP_RESOLUTION = 2370.85521546667
  MAP_SCALE = 0.025
  MAXIMUM_LATITUDE = -40.8055
  MINIMUM_LATITUDE = -52.5487
  POSITIVE_LONGITUDE_DIRECTION = EAST
  REFERENCE_LATITUDE = "N/A"
  REFERENCE_LONGITUDE = "N/A"
  SAMPLE_FIRST_PIXEL = 1
  SAMPLE_LAST_PIXEL = 3938
  SAMPLE_PROJECTION_OFFSET = 1319.25
  SECOND_STANDARD_PARALLEL = "N/A"
  WESTERNMOST_LONGITUDE = 88.0955
END_OBJECT = IMAGE_MAP_PROJECTION
END
