PDS_VERSION_ID = PDS3
/* FILE DATA ELEMENTS */
RECORD_TYPE = UNDEFINED
/* POINTERS TO DATA OBJECTS */
^IMAGE = ("HG934_0000_S14.TIF")
/* IDENTIFICATION DATA ELEMENTS */
DATA_SET_ID = "MEX-M-HRSC-4-REFDR-MAPPROJECT-EXT6-V4.0"
DATA_SET_NAME = "MARS EXPRESS HRSC MAP PROJECTED REFDR EXTENSION6 V4.0"
DETECTOR_ID = MEX_HRSC_S1
EVENT_TYPE = "MARS-LOCAL-MAPPING-Im-Eo"
INSTRUMENT_HOST_ID = MEX
INSTRUMENT_HOST_NAME = "MARS EXPRESS"
INSTRUMENT_ID = HRSC
INSTRUMENT_NAME = "HIGH RESOLUTION STEREO CAMERA"
MISSION_NAME = "MARS EXPRESS"
MISSION_PHASE_NAME = ME_Phase_36
PROCESSING_LEVEL_ID = 4
PRODUCT_CREATION_TIME = 2023-01-26T14:39:22.000Z
PRODUCT_ID = "HG934_0000_S14.TIF"
RELEASE_ID = 0001
REVISION_ID = 0000
/* QUALITY DATA ELEMENTS */
DATA_QUALITY_ID = 1
DATA_QUALITY_DESC = "Data calculated based on original SPICE kernels"
/* TIME DATA ELEMENTS */
SPACECRAFT_CLOCK_START_COUNT = "1/0443020147.08389"
SPACECRAFT_CLOCK_STOP_COUNT = "1/0443020255.08234"
START_TIME = 2017-05-16T13:10:14.269Z
STOP_TIME = 2017-05-16T13:11:01.421Z
/* ORBITAL DATA ELEMENTS */
ASCENDING_NODE_LONGITUDE = 255.9
MAXIMUM_RESOLUTION = 0.0276
FOOTPRINT_POINT_LATITUDE = (-60.4783,-60.4728,-60.4654,-60.4578, -60.45,-60.4421,-60.434,-60.4258, -60.4174,-60.4089,-60.4002,-60.3914, -60.3824,-60.3733,-60.3721,-60.4482, -60.3564,-60.234,-60.1726,-60.1114, -59.9893,-59.8984,-59.808,-59.6861, -59.5328,-59.4378,-59.3453,-59.2534, -59.1619,-59.07,-58.9478,-58.8561, -58.7067,-58.5558,-58.4642,-58.3736, -58.2835,-58.1618,-58.0092,-57.9458, -57.8501,-57.7274,-57.6071,-57.5167, -57.426,-57.3956,-57.3681,-57.3766, -57.385,-57.3933,-57.4014,-57.4103, -57.4181,-57.4259,-57.4333,-57.4406, -57.4476,-57.454,-57.4591,-57.4656, -57.4664,-57.4671,-57.5892,-57.6809, -57.8335,-57.9559,-58.0778,-58.2304, -58.3221,-58.4136,-58.5359,-58.5973, -58.6889,-58.7503,-58.812,-58.8733, -58.9346,-58.9959,-59.1177,-59.179, -59.2707,-59.3929,-59.4543,-59.5161, -59.5782,-59.6396,-59.701,-59.7931, -59.8544,-59.9463,-60.0077,-60.0693, -60.1308,-60.1922,-60.2842,-60.3456, -60.4069,-60.4986,-60.5293,-60.4783)
FOOTPRINT_POINT_LONGITUDE = (249.22,249.086,248.909,248.733,248.558 ,248.383,248.209,248.035,247.863, 247.691,247.52,247.35,247.18,247.011, 246.99,246.972,246.986,247.005,247.015, 247.024,247.042,247.056,247.069,247.087 ,247.11,247.123,247.136,247.149,247.162 ,247.175,247.192,247.204,247.224, 247.244,247.256,247.268,247.279,247.295 ,247.314,247.322,247.334,247.348, 247.363,247.374,247.385,247.388,247.391 ,247.553,247.717,247.881,248.045, 248.231,248.397,248.564,248.732,248.9, 249.068,249.217,249.345,249.515,249.536 ,249.544,249.536,249.53,249.519,249.511 ,249.502,249.491,249.485,249.478, 249.469,249.465,249.458,249.453,249.449 ,249.445,249.44,249.436,249.426,249.421 ,249.414,249.403,249.399,249.394,249.39 ,249.386,249.381,249.373,249.368, 249.361,249.355,249.351,249.346,249.34, 249.333,249.327,249.322,249.313,249.311 ,249.22)
ORBIT_NUMBER = 16934
ORBITAL_ECCENTRICITY = 0.578
ORBITAL_INCLINATION = 86.95
ORBITAL_SEMIMAJOR_AXIS = 8785.95
PERIAPSIS_ALTITUDE = 326.76
PERIAPSIS_ARGUMENT_ANGLE = 300.43
PERIAPSIS_TIME = 2017-05-16T13:10:02.000Z
SPACECRAFT_ORIENTATION = (0.0,1.0,0.0)
^MEX_ORIENTATION_DESC = "MEX_ORIENTATION_DESC.TXT"
SPACECRAFT_POINTING_MODE = ACROSSTRACK
^MEX_POINTING_DESC = "MEX_POINTING_DESC.TXT"
RIGHT_ASCENSION = -1e+32
DECLINATION = -1e+32
OFFSET_ANGLE = -0.539
SPACECRAFT_SOLAR_DISTANCE = 2.35003e+08
TARGET_NAME = MARS
/* CAMERA DATA ELEMENTS */
DETECTOR_TEMPERATURE = 18.1666
FOCAL_PLANE_TEMPERATURE = 10.0106
INST_CMPRS_NAME = "DISCRETE COSINE TRANSFORMATION (DCT)"
INST_CMPRS_RATIO = 12.0473
INST_CMPRS_QUALITY = 0
INST_CMPRS_QUANTZ_TBL_ID = 0
INSTRUMENT_TEMPERATURE = 12.4574
LENS_TEMPERATURE = 10.0106
MACROPIXEL_SIZE = 2
MISSING_FRAMES = 0
PIXEL_SUBSAMPLING_FLAG = N
SIGNAL_CHAIN_ID = 1
/* RADIOMETRIC DATA ELEMENTS */
BANDWIDTH = 180.0
CENTER_FILTER_WAVELENGTH = 677.0
RADIANCE_OFFSET = 2.50075
RADIANCE_SCALING_FACTOR = 0.00886649
REFLECTANCE_SCALING_FACTOR = 0.000255469
MEX:REFLECTANCE_OFFSET = 0.072054
/* IMAGE OBJECT DEFINITIONS */
OBJECT = IMAGE
  INTERCHANGE_FORMAT = BINARY
  LINES = 7470
  LINE_SAMPLES = 3160
  SAMPLE_TYPE = UNSIGNED_INTEGER
  SAMPLE_BITS = 8
  BANDS = 1
  BAND_STORAGE_TYPE = BAND_SEQUENTIAL
  MAXIMUM = 255
  MEAN = 119.604
  MINIMUM = 1
  STANDARD_DEVIATION = 32.2612
END_OBJECT = IMAGE
/* MAP OBJECT DEFINITIONS */
OBJECT = IMAGE_MAP_PROJECTION
  ^DATA_SET_MAP_PROJECTION_CATALOG= "DSMAP.CAT"
  A_AXIS_RADIUS = 3396.0
  B_AXIS_RADIUS = 3396.0
  C_AXIS_RADIUS = 3396.0
  CENTER_LATITUDE = 0.0
  CENTER_LONGITUDE = 248.0
  COORDINATE_SYSTEM_NAME = PLANETOGRAPHIC
  COORDINATE_SYSTEM_TYPE = "BODY-FIXED ROTATING"
  EASTERNMOST_LONGITUDE = 249.544
  FIRST_STANDARD_PARALLEL = "N/A"
  LINE_FIRST_PIXEL = 1
  LINE_LAST_PIXEL = 7470
  LINE_PROJECTION_OFFSET = -136102.75
  MAP_PROJECTION_ROTATION = 0.0
  MAP_PROJECTION_TYPE = SINUSOIDAL
  MAP_RESOLUTION = 2370.85521546667
  MAP_SCALE = 0.025
  MAXIMUM_LATITUDE = -57.3681
  MINIMUM_LATITUDE = -60.5293
  POSITIVE_LONGITUDE_DIRECTION = EAST
  REFERENCE_LATITUDE = "N/A"
  REFERENCE_LONGITUDE = "N/A"
  SAMPLE_FIRST_PIXEL = 1
  SAMPLE_LAST_PIXEL = 3160
  SAMPLE_PROJECTION_OFFSET = 1220.75
  SECOND_STANDARD_PARALLEL = "N/A"
  WESTERNMOST_LONGITUDE = 246.972
END_OBJECT = IMAGE_MAP_PROJECTION
END
