PDS_VERSION_ID = PDS3
/* FILE DATA ELEMENTS */
RECORD_TYPE = UNDEFINED
/* POINTERS TO DATA OBJECTS */
^IMAGE = ("HG936_0000_RE4.TIF")
/* IDENTIFICATION DATA ELEMENTS */
DATA_SET_ID = "MEX-M-HRSC-4-REFDR-MAPPROJECT-EXT6-V4.0"
DATA_SET_NAME = "MARS EXPRESS HRSC MAP PROJECTED REFDR EXTENSION6 V4.0"
DETECTOR_ID = MEX_HRSC_RED
EVENT_TYPE = "MARS-REGIONAL-MAPPING-Im-Fl-Eo"
INSTRUMENT_HOST_ID = MEX
INSTRUMENT_HOST_NAME = "MARS EXPRESS"
INSTRUMENT_ID = HRSC
INSTRUMENT_NAME = "HIGH RESOLUTION STEREO CAMERA"
MISSION_NAME = "MARS EXPRESS"
MISSION_PHASE_NAME = ME_Phase_36
PROCESSING_LEVEL_ID = 4
PRODUCT_CREATION_TIME = 2023-01-26T14:39:22.000Z
PRODUCT_ID = "HG936_0000_RE4.TIF"
RELEASE_ID = 0001
REVISION_ID = 0000
/* QUALITY DATA ELEMENTS */
DATA_QUALITY_ID = 1
DATA_QUALITY_DESC = "Data calculated based on original SPICE kernels"
/* TIME DATA ELEMENTS */
SPACECRAFT_CLOCK_START_COUNT = "1/0443070697.07361"
SPACECRAFT_CLOCK_STOP_COUNT = "1/0443070963.48867"
START_TIME = 2017-05-17T03:11:50.746Z
STOP_TIME = 2017-05-17T03:14:54.099Z
/* ORBITAL DATA ELEMENTS */
ASCENDING_NODE_LONGITUDE = 255.86
MAXIMUM_RESOLUTION = 0.0571
FOOTPRINT_POINT_LATITUDE = (-48.8907,-48.8718,-48.8577,-48.8397, -48.8237,-48.8229,-48.7609,-48.4309, -48.1058,-47.6693,-47.4453,-47.112, -46.892,-46.5616,-46.3411,-46.1198, -45.8992,-45.6802,-45.3442,-44.9069, -44.5807,-44.362,-44.1415,-43.8104, -43.4837,-43.265,-43.0445,-42.7794, -42.3838,-41.9901,-41.728,-41.336, -40.9434,-40.6804,-40.2895,-40.0283, -39.7682,-39.5071,-39.1113,-38.8461, -38.5849,-38.3243,-38.0641,-37.8052, -37.4173,-37.16,-36.8986,-36.7639, -36.6979,-36.7072,-36.7164,-36.7251, -36.7387,-36.7389,-36.74,-37.0056, -37.2692,-37.5288,-37.7896,-38.0493, -38.3109,-38.5706,-38.8302,-39.222, -39.4799,-39.7412,-40.0059,-40.3997, -40.6611,-40.9234,-41.1869,-41.4465, -41.7085,-41.9749,-42.2379,-42.4997, -42.7611,-43.1456,-43.5869,-43.8077, -44.0287,-44.2496,-44.4705,-44.691, -45.127,-45.3498,-45.6857,-46.0136, -46.2385,-46.4618,-46.6838,-47.0121, -47.2308,-47.4512,-47.6723,-47.8978, -48.2338,-48.6663,-48.7766,-48.8907)
FOOTPRINT_POINT_LONGITUDE = (44.1063,43.5188,43.142,42.715,42.3683, 42.3517,42.3099,42.3351,42.3626,42.3963 ,42.409,42.4294,42.4438,42.4647,42.478, 42.4907,42.5034,42.5167,42.5318,42.5571 ,42.5764,42.5882,42.5986,42.6134, 42.6303,42.6406,42.6497,42.659,42.6734, 42.6881,42.6976,42.7117,42.7248,42.7323 ,42.7448,42.7524,42.7603,42.7672, 42.7747,42.7785,42.7842,42.7898,42.7953 ,42.8012,42.8096,42.8162,42.8233, 42.8247,42.8255,43.212,43.5489,43.9862, 44.6058,44.6226,44.6281,44.6211,44.6146 ,44.6074,44.5996,44.5921,44.5839, 44.5763,44.5686,44.5561,44.5488,44.5402 ,44.5304,44.5165,44.5075,44.4981, 44.4882,44.4795,44.4698,44.4584,44.4481 ,44.4381,44.4282,44.4121,44.3935,44.384 ,44.3743,44.3645,44.3546,44.3447, 44.3264,44.3153,44.2977,44.2828,44.2704 ,44.2583,44.2466,44.2306,44.2198, 44.2082,44.1962,44.1822,44.1618,44.1403 ,44.1339,44.1063)
ORBIT_NUMBER = 16936
ORBITAL_ECCENTRICITY = 0.578
ORBITAL_INCLINATION = 86.95
ORBITAL_SEMIMAJOR_AXIS = 8787.42
PERIAPSIS_ALTITUDE = 327.53
PERIAPSIS_ARGUMENT_ANGLE = 300.12
PERIAPSIS_TIME = 2017-05-17T03:09:30.000Z
SPACECRAFT_ORIENTATION = (0.0,1.0,0.0)
^MEX_ORIENTATION_DESC = "MEX_ORIENTATION_DESC.TXT"
SPACECRAFT_POINTING_MODE = ACROSSTRACK
^MEX_POINTING_DESC = "MEX_POINTING_DESC.TXT"
RIGHT_ASCENSION = -1e+32
DECLINATION = -1e+32
OFFSET_ANGLE = 0.2
SPACECRAFT_SOLAR_DISTANCE = 2.35107e+08
TARGET_NAME = MARS
/* CAMERA DATA ELEMENTS */
DETECTOR_TEMPERATURE = 18.5744
FOCAL_PLANE_TEMPERATURE = 7.3599
INST_CMPRS_NAME = "DISCRETE COSINE TRANSFORMATION (DCT)"
INST_CMPRS_RATIO = 20.698
INST_CMPRS_QUALITY = 0
INST_CMPRS_QUANTZ_TBL_ID = 0
INSTRUMENT_TEMPERATURE = 10.8262
LENS_TEMPERATURE = 7.9716
MACROPIXEL_SIZE = 4
MISSING_FRAMES = 0
PIXEL_SUBSAMPLING_FLAG = N
SIGNAL_CHAIN_ID = 2
/* RADIOMETRIC DATA ELEMENTS */
BANDWIDTH = 48.0
CENTER_FILTER_WAVELENGTH = 748.0
RADIANCE_OFFSET = 0.745752
RADIANCE_SCALING_FACTOR = 0.00425962
REFLECTANCE_SCALING_FACTOR = 0.000537314
MEX:REFLECTANCE_OFFSET = 0.09407
/* IMAGE OBJECT DEFINITIONS */
OBJECT = IMAGE
  INTERCHANGE_FORMAT = BINARY
  LINES = 14377
  LINE_SAMPLES = 1969
  SAMPLE_TYPE = UNSIGNED_INTEGER
  SAMPLE_BITS = 8
  BANDS = 1
  BAND_STORAGE_TYPE = BAND_SEQUENTIAL
  MAXIMUM = 255
  MEAN = 134.342
  MINIMUM = 1
  STANDARD_DEVIATION = 29.864
END_OBJECT = IMAGE
/* MAP OBJECT DEFINITIONS */
OBJECT = IMAGE_MAP_PROJECTION
  ^DATA_SET_MAP_PROJECTION_CATALOG= "DSMAP.CAT"
  A_AXIS_RADIUS = 3396.0
  B_AXIS_RADIUS = 3396.0
  C_AXIS_RADIUS = 3396.0
  CENTER_LATITUDE = 0.0
  CENTER_LONGITUDE = 44.0
  COORDINATE_SYSTEM_NAME = PLANETOGRAPHIC
  COORDINATE_SYSTEM_TYPE = "BODY-FIXED ROTATING"
  EASTERNMOST_LONGITUDE = 44.6281
  FIRST_STANDARD_PARALLEL = "N/A"
  LINE_FIRST_PIXEL = 1
  LINE_LAST_PIXEL = 14377
  LINE_PROJECTION_OFFSET = -43499.875
  MAP_PROJECTION_ROTATION = 0.0
  MAP_PROJECTION_TYPE = SINUSOIDAL
  MAP_RESOLUTION = 1185.42760773333
  MAP_SCALE = 0.05
  MAXIMUM_LATITUDE = -36.6979
  MINIMUM_LATITUDE = -48.8907
  POSITIVE_LONGITUDE_DIRECTION = EAST
  REFERENCE_LATITUDE = "N/A"
  REFERENCE_LONGITUDE = "N/A"
  SAMPLE_FIRST_PIXEL = 1
  SAMPLE_LAST_PIXEL = 1969
  SAMPLE_PROJECTION_OFFSET = 1335.875
  SECOND_STANDARD_PARALLEL = "N/A"
  WESTERNMOST_LONGITUDE = 42.3099
END_OBJECT = IMAGE_MAP_PROJECTION
END
