PDS_VERSION_ID = PDS3
/* FILE DATA ELEMENTS */
RECORD_TYPE = UNDEFINED
/* POINTERS TO DATA OBJECTS */
^IMAGE = ("HG939_0000_IR4.TIF")
/* IDENTIFICATION DATA ELEMENTS */
DATA_SET_ID = "MEX-M-HRSC-4-REFDR-MAPPROJECT-EXT6-V4.0"
DATA_SET_NAME = "MARS EXPRESS HRSC MAP PROJECTED REFDR EXTENSION6 V4.0"
DETECTOR_ID = MEX_HRSC_IR
EVENT_TYPE = "MARS-REGIONAL-MAPPING-Vo-Im-Fl"
INSTRUMENT_HOST_ID = MEX
INSTRUMENT_HOST_NAME = "MARS EXPRESS"
INSTRUMENT_ID = HRSC
INSTRUMENT_NAME = "HIGH RESOLUTION STEREO CAMERA"
MISSION_NAME = "MARS EXPRESS"
MISSION_PHASE_NAME = ME_Phase_36
PROCESSING_LEVEL_ID = 4
PRODUCT_CREATION_TIME = 2023-01-26T14:39:22.000Z
PRODUCT_ID = "HG939_0000_IR4.TIF"
RELEASE_ID = 0001
REVISION_ID = 0000
/* QUALITY DATA ELEMENTS */
DATA_QUALITY_ID = 1
DATA_QUALITY_DESC = "Data calculated based on original SPICE kernels"
/* TIME DATA ELEMENTS */
SPACECRAFT_CLOCK_START_COUNT = "1/0443146158.09057"
SPACECRAFT_CLOCK_STOP_COUNT = "1/0443146368.14964"
START_TIME = 2017-05-18T00:10:20.661Z
STOP_TIME = 2017-05-18T00:12:48.467Z
/* ORBITAL DATA ELEMENTS */
ASCENDING_NODE_LONGITUDE = 255.81
MAXIMUM_RESOLUTION = 0.0555
FOOTPRINT_POINT_LATITUDE = (-55.1559,-55.1443,-55.1246,-55.1029, -55.0875,-55.0867,-55.1439,-54.9627, -54.6921,-54.2457,-54.0661,-53.885, -53.7027,-53.4308,-53.2485,-53.0639, -52.8763,-52.6038,-52.4223,-52.2391, -51.9587,-51.7723,-51.5875,-51.4036, -51.2164,-51.0324,-50.7554,-50.4001, -50.13,-49.9473,-49.6771,-49.4032, -49.2177,-49.0349,-48.8507,-48.4924, -48.31,-48.1278,-47.9485,-47.6848, -47.4151,-47.2346,-47.0552,-46.7397, -46.5263,-46.3102,-45.9923,-45.8861, -45.7985,-45.808,-45.8203,-45.8287, -45.8383,-45.8445,-45.8447,-45.8458, -46.1658,-46.3799,-46.5937,-46.8053, -47.1163,-47.2966,-47.4791,-47.7503, -48.0218,-48.203,-48.4745,-48.7466, -49.1052,-49.2878,-49.5533,-49.7394, -49.9225,-50.1052,-50.2856,-50.5543, -50.7441,-50.93,-51.1123,-51.2976, -51.4814,-51.6638,-51.8494,-52.0373, -52.2227,-52.4072,-52.5904,-52.8631, -53.0476,-53.2321,-53.5101,-53.7876, -54.058,-54.3278,-54.5075,-54.686, -54.8667,-55.0496,-55.1402,-55.1559)
FOOTPRINT_POINT_LONGITUDE = (97.4756,97.0887,96.5021,95.9194, 95.5384,95.5203,95.485,95.5052,95.5344, 95.5792,95.5972,95.6157,95.6346,95.6591 ,95.6749,95.6916,95.7096,95.7317,95.746 ,95.761,95.7858,95.8018,95.8167,95.8311 ,95.8468,95.8608,95.8819,95.9028, 95.9198,95.9321,95.9485,95.9662,95.9791 ,95.9906,96.0026,96.0217,96.0324,96.043 ,96.0521,96.0632,96.0767,96.0859, 96.0944,96.1091,96.1186,96.1291,96.1419 ,96.1462,96.1497,96.4476,96.9244, 97.2609,97.7052,98.0261,98.0439,98.0498 ,98.0364,98.0275,98.0182,98.0072, 97.9918,97.9839,97.9774,97.9654,97.9531 ,97.9447,97.9316,97.9184,97.897,97.8883 ,97.8688,97.8621,97.8529,97.8432, 97.8317,97.8125,97.8072,97.7988,97.7875 ,97.7782,97.7676,97.7556,97.7458, 97.7375,97.7271,97.7158,97.7032,97.6822 ,97.6699,97.6574,97.6391,97.6226, 97.6048,97.5859,97.573,97.5587,97.546, 97.5348,97.5284,97.4756)
ORBIT_NUMBER = 16939
ORBITAL_ECCENTRICITY = 0.578
ORBITAL_INCLINATION = 86.96
ORBITAL_SEMIMAJOR_AXIS = 8787.06
PERIAPSIS_ALTITUDE = 326.61
PERIAPSIS_ARGUMENT_ANGLE = 299.59
PERIAPSIS_TIME = 2017-05-18T00:08:39.000Z
SPACECRAFT_ORIENTATION = (0.0,1.0,0.0)
^MEX_ORIENTATION_DESC = "MEX_ORIENTATION_DESC.TXT"
SPACECRAFT_POINTING_MODE = ACROSSTRACK
^MEX_POINTING_DESC = "MEX_POINTING_DESC.TXT"
RIGHT_ASCENSION = -1e+32
DECLINATION = -1e+32
OFFSET_ANGLE = -0.2
SPACECRAFT_SOLAR_DISTANCE = 2.35262e+08
TARGET_NAME = MARS
/* CAMERA DATA ELEMENTS */
DETECTOR_TEMPERATURE = 17.9627
FOCAL_PLANE_TEMPERATURE = 8.5833
INST_CMPRS_NAME = "DISCRETE COSINE TRANSFORMATION (DCT)"
INST_CMPRS_RATIO = 10.671
INST_CMPRS_QUALITY = 0
INST_CMPRS_QUANTZ_TBL_ID = 0
INSTRUMENT_TEMPERATURE = 12.0496
LENS_TEMPERATURE = 8.5833
MACROPIXEL_SIZE = 4
MISSING_FRAMES = 0
PIXEL_SUBSAMPLING_FLAG = N
SIGNAL_CHAIN_ID = 2
/* RADIOMETRIC DATA ELEMENTS */
BANDWIDTH = 81.0
CENTER_FILTER_WAVELENGTH = 955.5
RADIANCE_OFFSET = 0.673429
RADIANCE_SCALING_FACTOR = 0.00601537
REFLECTANCE_SCALING_FACTOR = 0.000718277
MEX:REFLECTANCE_OFFSET = 0.0804119
/* IMAGE OBJECT DEFINITIONS */
OBJECT = IMAGE
  INTERCHANGE_FORMAT = BINARY
  LINES = 11165
  LINE_SAMPLES = 1862
  SAMPLE_TYPE = UNSIGNED_INTEGER
  SAMPLE_BITS = 8
  BANDS = 1
  BAND_STORAGE_TYPE = BAND_SEQUENTIAL
  MAXIMUM = 255
  MEAN = 99.4985
  MINIMUM = 1
  STANDARD_DEVIATION = 26.0735
END_OBJECT = IMAGE
/* MAP OBJECT DEFINITIONS */
OBJECT = IMAGE_MAP_PROJECTION
  ^DATA_SET_MAP_PROJECTION_CATALOG= "DSMAP.CAT"
  A_AXIS_RADIUS = 3396.0
  B_AXIS_RADIUS = 3396.0
  C_AXIS_RADIUS = 3396.0
  CENTER_LATITUDE = 0.0
  CENTER_LONGITUDE = 97.0
  COORDINATE_SYSTEM_NAME = PLANETOGRAPHIC
  COORDINATE_SYSTEM_TYPE = "BODY-FIXED ROTATING"
  EASTERNMOST_LONGITUDE = 98.0498
  FIRST_STANDARD_PARALLEL = "N/A"
  LINE_FIRST_PIXEL = 1
  LINE_LAST_PIXEL = 11165
  LINE_PROJECTION_OFFSET = -54308.875
  MAP_PROJECTION_ROTATION = 0.0
  MAP_PROJECTION_TYPE = SINUSOIDAL
  MAP_RESOLUTION = 1185.42760773333
  MAP_SCALE = 0.05
  MAXIMUM_LATITUDE = -45.7985
  MINIMUM_LATITUDE = -55.1559
  POSITIVE_LONGITUDE_DIRECTION = EAST
  REFERENCE_LATITUDE = "N/A"
  REFERENCE_LONGITUDE = "N/A"
  SAMPLE_FIRST_PIXEL = 1
  SAMPLE_LAST_PIXEL = 1862
  SAMPLE_PROJECTION_OFFSET = 1025.625
  SECOND_STANDARD_PARALLEL = "N/A"
  WESTERNMOST_LONGITUDE = 95.485
END_OBJECT = IMAGE_MAP_PROJECTION
END
