PDS_VERSION_ID = PDS3
/* FILE DATA ELEMENTS */
RECORD_TYPE = UNDEFINED
/* POINTERS TO DATA OBJECTS */
^IMAGE = ("HG939_0000_P14.TIF")
/* IDENTIFICATION DATA ELEMENTS */
DATA_SET_ID = "MEX-M-HRSC-4-REFDR-MAPPROJECT-EXT6-V4.0"
DATA_SET_NAME = "MARS EXPRESS HRSC MAP PROJECTED REFDR EXTENSION6 V4.0"
DETECTOR_ID = MEX_HRSC_P1
EVENT_TYPE = "MARS-REGIONAL-MAPPING-Vo-Im-Fl"
INSTRUMENT_HOST_ID = MEX
INSTRUMENT_HOST_NAME = "MARS EXPRESS"
INSTRUMENT_ID = HRSC
INSTRUMENT_NAME = "HIGH RESOLUTION STEREO CAMERA"
MISSION_NAME = "MARS EXPRESS"
MISSION_PHASE_NAME = ME_Phase_36
PROCESSING_LEVEL_ID = 4
PRODUCT_CREATION_TIME = 2023-01-26T14:39:22.000Z
PRODUCT_ID = "HG939_0000_P14.TIF"
RELEASE_ID = 0001
REVISION_ID = 0000
/* QUALITY DATA ELEMENTS */
DATA_QUALITY_ID = 1
DATA_QUALITY_DESC = "Data calculated based on original SPICE kernels"
/* TIME DATA ELEMENTS */
SPACECRAFT_CLOCK_START_COUNT = "1/0443146158.09057"
SPACECRAFT_CLOCK_STOP_COUNT = "1/0443146368.14964"
START_TIME = 2017-05-18T00:10:15.442Z
STOP_TIME = 2017-05-18T00:12:42.291Z
/* ORBITAL DATA ELEMENTS */
ASCENDING_NODE_LONGITUDE = 255.81
MAXIMUM_RESOLUTION = 0.0272
FOOTPRINT_POINT_LATITUDE = (-55.1717,-55.1567,-55.1365,-55.1184, -55.1056,-55.1049,-55.1495,-54.9655, -54.7835,-54.4215,-54.2398,-54.0578, -53.8731,-53.691,-53.3314,-53.1463, -52.9565,-52.6791,-52.4944,-52.3087, -52.1209,-51.9303,-51.7424,-51.5556, -51.369,-51.0872,-50.8059,-50.5349, -50.3509,-50.1675,-49.9822,-49.7068, -49.4288,-49.2406,-49.055,-48.8692, -48.5039,-48.318,-48.0431,-47.6817, -47.4072,-47.2237,-47.0413,-46.8587, -46.6765,-46.4627,-46.2424,-45.9199, -45.8117,-45.8048,-45.8221,-45.8294, -45.8389,-45.8487,-45.849,-45.8496, -46.0668,-46.2844,-46.5022,-46.7158, -46.9884,-47.3548,-47.6315,-47.8154, -47.9994,-48.1836,-48.4597,-48.6442, -48.8281,-49.0101,-49.1943,-49.5588, -49.747,-49.9329,-50.1184,-50.3018, -50.4837,-50.6742,-50.9559,-51.2355, -51.4223,-51.6078,-51.7952,-51.9841, -52.1733,-52.3605,-52.5466,-52.7305, -52.9178,-53.1052,-53.3861,-53.6592, -53.8423,-54.0249,-54.2983,-54.6617, -54.9374,-55.1211,-55.2132,-55.1717)
FOOTPRINT_POINT_LONGITUDE = (97.4694,96.9536,96.3461,95.8555, 95.5357,95.517,95.4816,95.5026,95.5221, 95.5589,95.5773,95.5956,95.6154,95.6333 ,95.6655,95.6821,95.7006,95.7235, 95.7383,95.7534,95.7697,95.7873,95.8032 ,95.8181,95.8327,95.8554,95.8774,95.893 ,95.9051,95.9167,95.9292,95.9462, 95.9643,95.9778,95.9896,96.0015,96.0212 ,96.0327,96.0475,96.0639,96.0778, 96.0872,96.0959,96.1046,96.1129,96.1226 ,96.1338,96.1462,96.1506,96.1509, 96.7688,97.0609,97.5729,98.0153,98.0337 ,98.0403,98.0313,98.0224,98.0133, 98.0026,97.9893,97.9732,97.9622,97.9541 ,97.9458,97.9374,97.9242,97.9155, 97.9061,97.8946,97.8848,97.861,97.8542, 97.8449,97.8352,97.8231,97.8094,97.8035 ,97.7903,97.7746,97.7642,97.7522,97.742 ,97.7327,97.7236,97.7122,97.6995, 97.6844,97.6723,97.66,97.6423,97.6244, 97.6132,97.6012,97.5823,97.5549,97.5368 ,97.5244,97.5183,97.4694)
ORBIT_NUMBER = 16939
ORBITAL_ECCENTRICITY = 0.578
ORBITAL_INCLINATION = 86.96
ORBITAL_SEMIMAJOR_AXIS = 8787.06
PERIAPSIS_ALTITUDE = 326.61
PERIAPSIS_ARGUMENT_ANGLE = 299.59
PERIAPSIS_TIME = 2017-05-18T00:08:39.000Z
SPACECRAFT_ORIENTATION = (0.0,1.0,0.0)
^MEX_ORIENTATION_DESC = "MEX_ORIENTATION_DESC.TXT"
SPACECRAFT_POINTING_MODE = ACROSSTRACK
^MEX_POINTING_DESC = "MEX_POINTING_DESC.TXT"
RIGHT_ASCENSION = -1e+32
DECLINATION = -1e+32
OFFSET_ANGLE = -0.2
SPACECRAFT_SOLAR_DISTANCE = 2.35262e+08
TARGET_NAME = MARS
/* CAMERA DATA ELEMENTS */
DETECTOR_TEMPERATURE = 17.9627
FOCAL_PLANE_TEMPERATURE = 8.5833
INST_CMPRS_NAME = "DISCRETE COSINE TRANSFORMATION (DCT)"
INST_CMPRS_RATIO = 9.44815
INST_CMPRS_QUALITY = 0
INST_CMPRS_QUANTZ_TBL_ID = 0
INSTRUMENT_TEMPERATURE = 12.0496
LENS_TEMPERATURE = 8.5833
MACROPIXEL_SIZE = 2
MISSING_FRAMES = 0
PIXEL_SUBSAMPLING_FLAG = N
SIGNAL_CHAIN_ID = 3
/* RADIOMETRIC DATA ELEMENTS */
BANDWIDTH = 174.0
CENTER_FILTER_WAVELENGTH = 675.0
RADIANCE_OFFSET = 2.57097
RADIANCE_SCALING_FACTOR = 0.0220849
REFLECTANCE_SCALING_FACTOR = 0.000657481
MEX:REFLECTANCE_OFFSET = 0.0765393
/* IMAGE OBJECT DEFINITIONS */
OBJECT = IMAGE
  INTERCHANGE_FORMAT = BINARY
  LINES = 22330
  LINE_SAMPLES = 3723
  SAMPLE_TYPE = UNSIGNED_INTEGER
  SAMPLE_BITS = 8
  BANDS = 1
  BAND_STORAGE_TYPE = BAND_SEQUENTIAL
  MAXIMUM = 255
  MEAN = 114.047
  MINIMUM = 1
  STANDARD_DEVIATION = 23.3871
END_OBJECT = IMAGE
/* MAP OBJECT DEFINITIONS */
OBJECT = IMAGE_MAP_PROJECTION
  ^DATA_SET_MAP_PROJECTION_CATALOG= "DSMAP.CAT"
  A_AXIS_RADIUS = 3396.0
  B_AXIS_RADIUS = 3396.0
  C_AXIS_RADIUS = 3396.0
  CENTER_LATITUDE = 0.0
  CENTER_LONGITUDE = 97.0
  COORDINATE_SYSTEM_NAME = PLANETOGRAPHIC
  COORDINATE_SYSTEM_TYPE = "BODY-FIXED ROTATING"
  EASTERNMOST_LONGITUDE = 98.0403
  FIRST_STANDARD_PARALLEL = "N/A"
  LINE_FIRST_PIXEL = 1
  LINE_LAST_PIXEL = 22330
  LINE_PROJECTION_OFFSET = -108617.25
  MAP_PROJECTION_ROTATION = 0.0
  MAP_PROJECTION_TYPE = SINUSOIDAL
  MAP_RESOLUTION = 2370.85521546667
  MAP_SCALE = 0.025
  MAXIMUM_LATITUDE = -45.8048
  MINIMUM_LATITUDE = -55.2132
  POSITIVE_LONGITUDE_DIRECTION = EAST
  REFERENCE_LATITUDE = "N/A"
  REFERENCE_LONGITUDE = "N/A"
  SAMPLE_FIRST_PIXEL = 1
  SAMPLE_LAST_PIXEL = 3723
  SAMPLE_PROJECTION_OFFSET = 2051.75
  SECOND_STANDARD_PARALLEL = "N/A"
  WESTERNMOST_LONGITUDE = 95.4816
END_OBJECT = IMAGE_MAP_PROJECTION
END
