PDS_VERSION_ID = PDS3
/* FILE DATA ELEMENTS */
RECORD_TYPE = UNDEFINED
/* POINTERS TO DATA OBJECTS */
^IMAGE = ("HG939_0000_S14.TIF")
/* IDENTIFICATION DATA ELEMENTS */
DATA_SET_ID = "MEX-M-HRSC-4-REFDR-MAPPROJECT-EXT6-V4.0"
DATA_SET_NAME = "MARS EXPRESS HRSC MAP PROJECTED REFDR EXTENSION6 V4.0"
DETECTOR_ID = MEX_HRSC_S1
EVENT_TYPE = "MARS-REGIONAL-MAPPING-Vo-Im-Fl"
INSTRUMENT_HOST_ID = MEX
INSTRUMENT_HOST_NAME = "MARS EXPRESS"
INSTRUMENT_ID = HRSC
INSTRUMENT_NAME = "HIGH RESOLUTION STEREO CAMERA"
MISSION_NAME = "MARS EXPRESS"
MISSION_PHASE_NAME = ME_Phase_36
PROCESSING_LEVEL_ID = 4
PRODUCT_CREATION_TIME = 2023-01-26T14:39:22.000Z
PRODUCT_ID = "HG939_0000_S14.TIF"
RELEASE_ID = 0001
REVISION_ID = 0000
/* QUALITY DATA ELEMENTS */
DATA_QUALITY_ID = 1
DATA_QUALITY_DESC = "Data calculated based on original SPICE kernels"
/* TIME DATA ELEMENTS */
SPACECRAFT_CLOCK_START_COUNT = "1/0443146158.09057"
SPACECRAFT_CLOCK_STOP_COUNT = "1/0443146368.14964"
START_TIME = 2017-05-18T00:10:25.938Z
STOP_TIME = 2017-05-18T00:12:54.542Z
/* ORBITAL DATA ELEMENTS */
ASCENDING_NODE_LONGITUDE = 255.81
MAXIMUM_RESOLUTION = 0.0283
FOOTPRINT_POINT_LATITUDE = (-55.1352,-55.1102,-55.0876,-55.0644, -55.0636,-55.1331,-54.7707,-54.4145, -54.2352,-54.0555,-53.869,-53.6828, -53.5008,-53.3185,-53.1348,-52.9465, -52.6748,-52.4941,-52.3116,-52.1266, -51.9367,-51.7502,-51.5662,-51.3825, -51.1953,-51.0124,-50.823,-50.473, -50.1133,-49.931,-49.6626,-49.4792, -49.2933,-49.0197,-48.836,-48.6558, -48.3888,-48.0269,-47.7639,-47.4073, -47.1952,-46.9823,-46.769,-46.5566, -46.2329,-45.9192,-45.8136,-45.801, -45.8155,-45.8259,-45.833,-45.8428, -45.8485,-45.8486,-45.8492,-46.1685, -46.3815,-46.5944,-46.8046,-47.0163, -47.2285,-47.5358,-47.716,-47.8964, -48.0771,-48.2578,-48.4381,-48.6188, -48.7997,-48.9791,-49.2476,-49.4285, -49.6933,-49.88,-50.0626,-50.2431, -50.5096,-50.6977,-50.977,-51.2515, -51.4361,-51.618,-51.803,-51.9899, -52.1768,-52.3614,-52.7234,-52.9078, -53.1839,-53.3701,-53.5546,-53.7429, -53.9289,-54.1125,-54.2923,-54.562, -54.923,-55.1049,-55.1961,-55.1352)
FOOTPRINT_POINT_LONGITUDE = (97.4838,96.7153,96.1053,95.5365, 95.5175,95.4793,95.519,95.5548,95.5728, 95.5908,95.6106,95.6288,95.645,95.661, 95.6774,95.6955,95.7176,95.7319,95.7467 ,95.7624,95.7799,95.7957,95.8103, 95.8245,95.8399,95.8534,95.8693,95.889, 95.912,95.9241,95.9401,95.9523,95.9652, 95.9824,95.9941,96.0043,96.0181,96.0382 ,96.0498,96.067,96.0777,96.0876,96.0974 ,96.1068,96.1225,96.1341,96.1383, 96.1388,96.6006,97.0086,97.2878,97.7356 ,98.0349,98.0535,98.0602,98.0471, 98.0382,98.0289,98.0177,98.0071,97.9965 ,97.9849,97.9768,97.9686,97.9604,97.952 ,97.9431,97.9343,97.9254,97.9153, 97.8995,97.8898,97.8709,97.8641,97.8546 ,97.8436,97.8242,97.8172,97.8047, 97.7886,97.7787,97.7668,97.7566,97.7473 ,97.7378,97.7266,97.699,97.687,97.6681, 97.6565,97.6436,97.6329,97.6205,97.6083 ,97.5956,97.5762,97.5502,97.5377, 97.5315,97.4838)
ORBIT_NUMBER = 16939
ORBITAL_ECCENTRICITY = 0.578
ORBITAL_INCLINATION = 86.96
ORBITAL_SEMIMAJOR_AXIS = 8787.06
PERIAPSIS_ALTITUDE = 326.61
PERIAPSIS_ARGUMENT_ANGLE = 299.59
PERIAPSIS_TIME = 2017-05-18T00:08:39.000Z
SPACECRAFT_ORIENTATION = (0.0,1.0,0.0)
^MEX_ORIENTATION_DESC = "MEX_ORIENTATION_DESC.TXT"
SPACECRAFT_POINTING_MODE = ACROSSTRACK
^MEX_POINTING_DESC = "MEX_POINTING_DESC.TXT"
RIGHT_ASCENSION = -1e+32
DECLINATION = -1e+32
OFFSET_ANGLE = -0.2
SPACECRAFT_SOLAR_DISTANCE = 2.35262e+08
TARGET_NAME = MARS
/* CAMERA DATA ELEMENTS */
DETECTOR_TEMPERATURE = 17.9627
FOCAL_PLANE_TEMPERATURE = 8.5833
INST_CMPRS_NAME = "DISCRETE COSINE TRANSFORMATION (DCT)"
INST_CMPRS_RATIO = 10.7348
INST_CMPRS_QUALITY = 0
INST_CMPRS_QUANTZ_TBL_ID = 0
INSTRUMENT_TEMPERATURE = 12.0496
LENS_TEMPERATURE = 8.5833
MACROPIXEL_SIZE = 2
MISSING_FRAMES = 0
PIXEL_SUBSAMPLING_FLAG = N
SIGNAL_CHAIN_ID = 1
/* RADIOMETRIC DATA ELEMENTS */
BANDWIDTH = 180.0
CENTER_FILTER_WAVELENGTH = 677.0
RADIANCE_OFFSET = 2.92167
RADIANCE_SCALING_FACTOR = 0.0227303
REFLECTANCE_SCALING_FACTOR = 0.000656371
MEX:REFLECTANCE_OFFSET = 0.0843677
/* IMAGE OBJECT DEFINITIONS */
OBJECT = IMAGE
  INTERCHANGE_FORMAT = BINARY
  LINES = 22330
  LINE_SAMPLES = 3723
  SAMPLE_TYPE = UNSIGNED_INTEGER
  SAMPLE_BITS = 8
  BANDS = 1
  BAND_STORAGE_TYPE = BAND_SEQUENTIAL
  MAXIMUM = 255
  MEAN = 117.623
  MINIMUM = 1
  STANDARD_DEVIATION = 23.5797
END_OBJECT = IMAGE
/* MAP OBJECT DEFINITIONS */
OBJECT = IMAGE_MAP_PROJECTION
  ^DATA_SET_MAP_PROJECTION_CATALOG= "DSMAP.CAT"
  A_AXIS_RADIUS = 3396.0
  B_AXIS_RADIUS = 3396.0
  C_AXIS_RADIUS = 3396.0
  CENTER_LATITUDE = 0.0
  CENTER_LONGITUDE = 97.0
  COORDINATE_SYSTEM_NAME = PLANETOGRAPHIC
  COORDINATE_SYSTEM_TYPE = "BODY-FIXED ROTATING"
  EASTERNMOST_LONGITUDE = 98.06019999999999
  FIRST_STANDARD_PARALLEL = "N/A"
  LINE_FIRST_PIXEL = 1
  LINE_LAST_PIXEL = 22330
  LINE_PROJECTION_OFFSET = -108617.25
  MAP_PROJECTION_ROTATION = 0.0
  MAP_PROJECTION_TYPE = SINUSOIDAL
  MAP_RESOLUTION = 2370.85521546667
  MAP_SCALE = 0.025
  MAXIMUM_LATITUDE = -45.801
  MINIMUM_LATITUDE = -55.1961
  POSITIVE_LONGITUDE_DIRECTION = EAST
  REFERENCE_LATITUDE = "N/A"
  REFERENCE_LONGITUDE = "N/A"
  SAMPLE_FIRST_PIXEL = 1
  SAMPLE_LAST_PIXEL = 3723
  SAMPLE_PROJECTION_OFFSET = 2051.75
  SECOND_STANDARD_PARALLEL = "N/A"
  WESTERNMOST_LONGITUDE = 95.47929999999999
END_OBJECT = IMAGE_MAP_PROJECTION
END
