PDS_VERSION_ID = PDS3
/* FILE DATA ELEMENTS */
RECORD_TYPE = UNDEFINED
/* POINTERS TO DATA OBJECTS */
^IMAGE = ("HG957_0000_IR4.TIF")
/* IDENTIFICATION DATA ELEMENTS */
DATA_SET_ID = "MEX-M-HRSC-4-REFDR-MAPPROJECT-EXT6-V4.0"
DATA_SET_NAME = "MARS EXPRESS HRSC MAP PROJECTED REFDR EXTENSION6 V4.0"
DETECTOR_ID = MEX_HRSC_IR
EVENT_TYPE = "MARS-TERMINATOR-CALIBRATION-Tc"
INSTRUMENT_HOST_ID = MEX
INSTRUMENT_HOST_NAME = "MARS EXPRESS"
INSTRUMENT_ID = HRSC
INSTRUMENT_NAME = "HIGH RESOLUTION STEREO CAMERA"
MISSION_NAME = "MARS EXPRESS"
MISSION_PHASE_NAME = ME_Phase_36
PROCESSING_LEVEL_ID = 4
PRODUCT_CREATION_TIME = 2023-01-26T14:39:22.000Z
PRODUCT_ID = "HG957_0000_IR4.TIF"
RELEASE_ID = 0001
REVISION_ID = 0000
/* QUALITY DATA ELEMENTS */
DATA_QUALITY_ID = 1
DATA_QUALITY_DESC = "Data calculated based on original SPICE kernels"
/* TIME DATA ELEMENTS */
SPACECRAFT_CLOCK_START_COUNT = "1/0443604618.09050"
SPACECRAFT_CLOCK_STOP_COUNT = "1/0443605105.64573"
START_TIME = 2017-05-23T07:34:09.470Z
STOP_TIME = 2017-05-23T07:38:12.952Z
/* ORBITAL DATA ELEMENTS */
ASCENDING_NODE_LONGITUDE = 255.47
MAXIMUM_RESOLUTION = 0.5818
FOOTPRINT_POINT_LATITUDE = (5.10516,5.032,5.64207,5.80452,5.8643, 7.26887,6.30947,9.37145,11.6867,15.4098 ,17.8981,22.1932,24.5999,28.6961, 33.3214,37.0091,40.1909,42.6618,45.1408 ,49.1987,52.7194,56.7688,59.2522, 62.7097,66.4881,69.088,73.0241,76.1644, 78.133,79.187,79.6173,78.9025,77.6782, 75.6191,72.2726,69.2707,64.8709,60.4192 ,57.1455,53.0051,50.5547,47.5312, 44.1756,39.3756,36.3387,33.8509,30.9091 ,30.6695,30.8456,31.2212,31.2727, 30.8863,30.9316,31.6147,29.8524,30.9879 ,30.0931,33.7371,37.244,40.1351,44.2572 ,47.383,49.9783,54.2358,57.9101,61.1018 ,64.2802,66.4939,69.1252,70.8459, 73.2807,74.2318,74.8409,74.4171,73.0822 ,71.5961,68.7465,66.274,63.2907,59.5426 ,56.8888,52.8865,48.3374,44.3878, 40.6138,38.1918,34.1017,30.1238,27.7847 ,24.2512,21.4555,17.8274,12.7329, 7.58402,7.1208,5.41569,5.39386,5.7015, 5.10516)
FOOTPRINT_POINT_LONGITUDE = (44.007,43.9921,43.8266,38.8367,35.8167 ,32.8724,29.4313,28.8127,28.9753, 29.1837,29.2781,29.3738,29.3776,29.3185 ,29.1042,28.8129,28.4643,28.1159, 27.6986,26.795,25.7599,24.1697,22.9129, 20.6633,17.2355,13.9632,6.48837,355.98, 343.905,331.435,314.518,295.127,283.48, 272.591,262.635,257.17,251.981,248.582, 246.789,245.09,244.305,243.508,242.788, 242.045,241.719,241.515,240.827,236.657 ,233.218,227.406,226.55,221.302,217.55, 214.421,210.626,205.674,202.991,200.495 ,199.816,199.124,197.903,196.747, 195.598,193.226,190.511,187.419,183.314 ,179.549,173.495,168.012,155.767, 147.102,129.749,118.356,105.873,98.021, 88.5684,83.1639,78.4631,74.2475,72.0014 ,69.392,67.2177,65.8111,64.7706,64.227, 63.4983,62.9688,62.726,62.4584,62.3165, 62.2027,62.1902,62.3365,58.2618,53.9663 ,48.2314,46.8074,44.007)
ORBIT_NUMBER = 16957
ORBITAL_ECCENTRICITY = 0.578
ORBITAL_INCLINATION = 86.96
ORBITAL_SEMIMAJOR_AXIS = 8781.89
PERIAPSIS_ALTITUDE = 327.21
PERIAPSIS_ARGUMENT_ANGLE = 296.56
PERIAPSIS_TIME = 2017-05-23T06:03:26.000Z
SPACECRAFT_ORIENTATION = (0.0,1.0,0.0)
^MEX_ORIENTATION_DESC = "MEX_ORIENTATION_DESC.TXT"
SPACECRAFT_POINTING_MODE = INERT
^MEX_POINTING_DESC = "MEX_POINTING_DESC.TXT"
RIGHT_ASCENSION = 136.418
DECLINATION = -37.147
OFFSET_ANGLE = -1e+32
SPACECRAFT_SOLAR_DISTANCE = 2.36182e+08
TARGET_NAME = MARS
/* CAMERA DATA ELEMENTS */
DETECTOR_TEMPERATURE = 17.351
FOCAL_PLANE_TEMPERATURE = 7.9716
INST_CMPRS_NAME = "DISCRETE COSINE TRANSFORMATION (DCT)"
INST_CMPRS_RATIO = 7.81594
INST_CMPRS_QUALITY = 0
INST_CMPRS_QUANTZ_TBL_ID = 0
INSTRUMENT_TEMPERATURE = 11.234
LENS_TEMPERATURE = 8.5833
MACROPIXEL_SIZE = 2
MISSING_FRAMES = 0
PIXEL_SUBSAMPLING_FLAG = N
SIGNAL_CHAIN_ID = 1
/* RADIOMETRIC DATA ELEMENTS */
BANDWIDTH = 81.0
CENTER_FILTER_WAVELENGTH = 955.5
RADIANCE_OFFSET = 0.0
RADIANCE_SCALING_FACTOR = 0.0081434
REFLECTANCE_SCALING_FACTOR = 0.000980096
MEX:REFLECTANCE_OFFSET = 0.0
/* IMAGE OBJECT DEFINITIONS */
OBJECT = IMAGE
  INTERCHANGE_FORMAT = BINARY
  LINES = 15983
  LINE_SAMPLES = 7147
  SAMPLE_TYPE = UNSIGNED_INTEGER
  SAMPLE_BITS = 8
  BANDS = 1
  BAND_STORAGE_TYPE = BAND_SEQUENTIAL
  MAXIMUM = 255
  MEAN = 112.995
  MINIMUM = 1
  STANDARD_DEVIATION = 105.118
END_OBJECT = IMAGE
/* MAP OBJECT DEFINITIONS */
OBJECT = IMAGE_MAP_PROJECTION
  ^DATA_SET_MAP_PROJECTION_CATALOG= "DSMAP.CAT"
  A_AXIS_RADIUS = 3396.0
  B_AXIS_RADIUS = 3396.0
  C_AXIS_RADIUS = 3396.0
  CENTER_LATITUDE = 75.6506
  CENTER_LONGITUDE = 51.9321
  COORDINATE_SYSTEM_NAME = PLANETOGRAPHIC
  COORDINATE_SYSTEM_TYPE = "BODY-FIXED ROTATING"
  EASTERNMOST_LONGITUDE = 360.0
  FIRST_STANDARD_PARALLEL = "N/A"
  LINE_FIRST_PIXEL = 1
  LINE_LAST_PIXEL = 15983
  LINE_PROJECTION_OFFSET = 7991.75
  MAP_PROJECTION_ROTATION = 0.0
  MAP_PROJECTION_TYPE = ORTHOGRAPHIC
  MAP_RESOLUTION = 148.178450966667
  MAP_SCALE = 0.4
  MAXIMUM_LATITUDE = 90.0
  MINIMUM_LATITUDE = 5.032
  POSITIVE_LONGITUDE_DIRECTION = EAST
  REFERENCE_LATITUDE = "N/A"
  REFERENCE_LONGITUDE = "N/A"
  SAMPLE_FIRST_PIXEL = 1
  SAMPLE_LAST_PIXEL = 7147
  SAMPLE_PROJECTION_OFFSET = 3408.75
  SECOND_STANDARD_PARALLEL = "N/A"
  WESTERNMOST_LONGITUDE = 0.0
END_OBJECT = IMAGE_MAP_PROJECTION
END
