PDS_VERSION_ID = PDS3
/* FILE DATA ELEMENTS */
RECORD_TYPE = UNDEFINED
/* POINTERS TO DATA OBJECTS */
^IMAGE = ("HG957_0000_RE4.TIF")
/* IDENTIFICATION DATA ELEMENTS */
DATA_SET_ID = "MEX-M-HRSC-4-REFDR-MAPPROJECT-EXT6-V4.0"
DATA_SET_NAME = "MARS EXPRESS HRSC MAP PROJECTED REFDR EXTENSION6 V4.0"
DETECTOR_ID = MEX_HRSC_RED
EVENT_TYPE = "MARS-TERMINATOR-CALIBRATION-Tc"
INSTRUMENT_HOST_ID = MEX
INSTRUMENT_HOST_NAME = "MARS EXPRESS"
INSTRUMENT_ID = HRSC
INSTRUMENT_NAME = "HIGH RESOLUTION STEREO CAMERA"
MISSION_NAME = "MARS EXPRESS"
MISSION_PHASE_NAME = ME_Phase_36
PROCESSING_LEVEL_ID = 4
PRODUCT_CREATION_TIME = 2023-01-26T14:39:22.000Z
PRODUCT_ID = "HG957_0000_RE4.TIF"
RELEASE_ID = 0001
REVISION_ID = 0000
/* QUALITY DATA ELEMENTS */
DATA_QUALITY_ID = 1
DATA_QUALITY_DESC = "Data calculated based on original SPICE kernels"
/* TIME DATA ELEMENTS */
SPACECRAFT_CLOCK_START_COUNT = "1/0443604618.09050"
SPACECRAFT_CLOCK_STOP_COUNT = "1/0443605105.64573"
START_TIME = 2017-05-23T07:30:45.465Z
STOP_TIME = 2017-05-23T07:34:54.494Z
/* ORBITAL DATA ELEMENTS */
ASCENDING_NODE_LONGITUDE = 255.47
MAXIMUM_RESOLUTION = 0.5646
FOOTPRINT_POINT_LATITUDE = (3.7904,3.68308,3.72337,5.30634,4.74695 ,5.24489,9.529,13.5648,16.1763,18.5096, 22.7578,26.5987,31.6209,34.4994,38.1524 ,42.05,44.7575,47.562,50.4258,54.7587, 57.374,61.717,65.7347,68.6798,72.872, 75.3842,77.6898,78.8065,79.0899,78.0174 ,76.6534,73.2086,70.582,66.4118,63.7537 ,60.6349,57.3723,53.0334,49.8491, 44.5212,40.8006,37.651,34.9991,33.5651, 34.0828,33.4578,32.9866,32.7826,32.7232 ,32.8713,33.4233,31.7581,32.8508, 36.9796,40.5708,45.1429,48.4539,51.1545 ,55.5262,59.3629,62.2319,65.7613, 67.9714,71.0374,72.854,74.2287,75.556, 75.8941,75.6667,74.6922,72.5648,70.9162 ,68.7612,65.7091,63.3406,60.7949, 58.6815,55.1156,51.2075,48.4858,46.2537 ,42.4942,39.0389,33.3635,30.4914, 27.0871,24.8172,22.5431,19.5115,15.7066 ,11.5104,7.65961,4.46378,5.50631, 5.36895,4.44119,4.57175,4.00924,3.7904)
FOOTPRINT_POINT_LONGITUDE = (44.7866,44.7715,44.051,38.6833,34.579, 30.1888,29.4085,29.6693,29.791,29.8696, 29.9379,29.917,29.7311,29.5423,29.1912, 28.6666,28.1891,27.581,26.8007,25.2943, 24.0998,21.4627,17.9277,14.25,6.08551, 357.855,344.516,331.284,308.865,291.409 ,281.305,267.756,261.811,255.711, 253.036,250.637,248.72,246.821,245.77, 244.442,243.777,243.368,243.097,240.888 ,237.609,233.443,228.311,226.612, 222.212,216.241,209.838,205.882,202.588 ,201.88,201.083,199.782,198.584,197.401 ,194.969,192.092,189.273,184.597, 180.626,172.773,165.762,157.938,144.176 ,132.391,122.087,109.802,97.1104, 91.0433,85.3263,79.6347,76.3957,73.6618 ,71.82,69.3538,67.3186,66.2024,65.4314, 64.3693,63.6035,62.6948,62.3579,62.053, 61.9068,61.8004,61.7078,61.6637,61.7138 ,61.8475,61.7272,59.5286,56.4295,53.655 ,48.7782,47.2451,44.7866)
ORBIT_NUMBER = 16957
ORBITAL_ECCENTRICITY = 0.578
ORBITAL_INCLINATION = 86.96
ORBITAL_SEMIMAJOR_AXIS = 8781.89
PERIAPSIS_ALTITUDE = 327.21
PERIAPSIS_ARGUMENT_ANGLE = 296.56
PERIAPSIS_TIME = 2017-05-23T06:03:26.000Z
SPACECRAFT_ORIENTATION = (0.0,1.0,0.0)
^MEX_ORIENTATION_DESC = "MEX_ORIENTATION_DESC.TXT"
SPACECRAFT_POINTING_MODE = INERT
^MEX_POINTING_DESC = "MEX_POINTING_DESC.TXT"
RIGHT_ASCENSION = 136.418
DECLINATION = -37.147
OFFSET_ANGLE = -1e+32
SPACECRAFT_SOLAR_DISTANCE = 2.36182e+08
TARGET_NAME = MARS
/* CAMERA DATA ELEMENTS */
DETECTOR_TEMPERATURE = 18.9822
FOCAL_PLANE_TEMPERATURE = 7.9716
INST_CMPRS_NAME = "DISCRETE COSINE TRANSFORMATION (DCT)"
INST_CMPRS_RATIO = 13.4278
INST_CMPRS_QUALITY = 0
INST_CMPRS_QUANTZ_TBL_ID = 0
INSTRUMENT_TEMPERATURE = 11.234
LENS_TEMPERATURE = 8.5833
MACROPIXEL_SIZE = 2
MISSING_FRAMES = 0
PIXEL_SUBSAMPLING_FLAG = N
SIGNAL_CHAIN_ID = 1
/* RADIOMETRIC DATA ELEMENTS */
BANDWIDTH = 48.0
CENTER_FILTER_WAVELENGTH = 748.0
RADIANCE_OFFSET = 0.0
RADIANCE_SCALING_FACTOR = 0.00967853
REFLECTANCE_SCALING_FACTOR = 0.00123216
MEX:REFLECTANCE_OFFSET = 0.0
/* IMAGE OBJECT DEFINITIONS */
OBJECT = IMAGE
  INTERCHANGE_FORMAT = BINARY
  LINES = 15983
  LINE_SAMPLES = 7147
  SAMPLE_TYPE = UNSIGNED_INTEGER
  SAMPLE_BITS = 8
  BANDS = 1
  BAND_STORAGE_TYPE = BAND_SEQUENTIAL
  MAXIMUM = 255
  MEAN = 107.982
  MINIMUM = 1
  STANDARD_DEVIATION = 101.193
END_OBJECT = IMAGE
/* MAP OBJECT DEFINITIONS */
OBJECT = IMAGE_MAP_PROJECTION
  ^DATA_SET_MAP_PROJECTION_CATALOG= "DSMAP.CAT"
  A_AXIS_RADIUS = 3396.0
  B_AXIS_RADIUS = 3396.0
  C_AXIS_RADIUS = 3396.0
  CENTER_LATITUDE = 75.6506
  CENTER_LONGITUDE = 51.9321
  COORDINATE_SYSTEM_NAME = PLANETOGRAPHIC
  COORDINATE_SYSTEM_TYPE = "BODY-FIXED ROTATING"
  EASTERNMOST_LONGITUDE = 360.0
  FIRST_STANDARD_PARALLEL = "N/A"
  LINE_FIRST_PIXEL = 1
  LINE_LAST_PIXEL = 15983
  LINE_PROJECTION_OFFSET = 7991.75
  MAP_PROJECTION_ROTATION = 0.0
  MAP_PROJECTION_TYPE = ORTHOGRAPHIC
  MAP_RESOLUTION = 148.178450966667
  MAP_SCALE = 0.4
  MAXIMUM_LATITUDE = 90.0
  MINIMUM_LATITUDE = 3.68308
  POSITIVE_LONGITUDE_DIRECTION = EAST
  REFERENCE_LATITUDE = "N/A"
  REFERENCE_LONGITUDE = "N/A"
  SAMPLE_FIRST_PIXEL = 1
  SAMPLE_LAST_PIXEL = 7147
  SAMPLE_PROJECTION_OFFSET = 3408.75
  SECOND_STANDARD_PARALLEL = "N/A"
  WESTERNMOST_LONGITUDE = 0.0
END_OBJECT = IMAGE_MAP_PROJECTION
END
