PDS_VERSION_ID = PDS3
/* FILE DATA ELEMENTS */
RECORD_TYPE = UNDEFINED
/* POINTERS TO DATA OBJECTS */
^IMAGE = ("HG960_0000_IR4.TIF")
/* IDENTIFICATION DATA ELEMENTS */
DATA_SET_ID = "MEX-M-HRSC-4-REFDR-MAPPROJECT-EXT6-V4.0"
DATA_SET_NAME = "MARS EXPRESS HRSC MAP PROJECTED REFDR EXTENSION6 V4.0"
DETECTOR_ID = MEX_HRSC_IR
EVENT_TYPE = "MARS-TERMINATOR-CALIBRATION-Tc"
INSTRUMENT_HOST_ID = MEX
INSTRUMENT_HOST_NAME = "MARS EXPRESS"
INSTRUMENT_ID = HRSC
INSTRUMENT_NAME = "HIGH RESOLUTION STEREO CAMERA"
MISSION_NAME = "MARS EXPRESS"
MISSION_PHASE_NAME = ME_Phase_36
PROCESSING_LEVEL_ID = 4
PRODUCT_CREATION_TIME = 2023-01-26T14:39:22.000Z
PRODUCT_ID = "HG960_0000_IR4.TIF"
RELEASE_ID = 0001
REVISION_ID = 0000
/* QUALITY DATA ELEMENTS */
DATA_QUALITY_ID = 1
DATA_QUALITY_DESC = "Data calculated based on original SPICE kernels"
/* TIME DATA ELEMENTS */
SPACECRAFT_CLOCK_START_COUNT = "1/0443680342.09057"
SPACECRAFT_CLOCK_STOP_COUNT = "1/0443680827.01208"
START_TIME = 2017-05-24T04:36:14.501Z
STOP_TIME = 2017-05-24T04:40:14.434Z
/* ORBITAL DATA ELEMENTS */
ASCENDING_NODE_LONGITUDE = 255.42
MAXIMUM_RESOLUTION = 0.5958
FOOTPRINT_POINT_LATITUDE = (5.71813,5.62471,6.01599,6.53952, 6.60473,7.84085,11.2358,15.5014,20.441, 24.9243,27.7732,30.0892,32.5421,36.092, 38.8346,42.9102,46.2303,51.512,53.8952, 56.166,59.162,61.4462,64.9244,67.8545, 70.5805,74.3222,77.3792,79.0708,79.4439 ,78.7897,77.6328,75.8508,72.7435, 70.8425,68.2382,66.0324,63.3472,60.3358 ,55.33,51.5651,49.0335,44.5365,41.4124, 37.4704,33.8033,30.0386,30.9851,30.797, 30.2453,30.1196,30.2675,29.8152,29.9468 ,29.197,30.1844,29.1713,30.1504,32.9314 ,37.1366,39.9082,44.3815,48.2254, 51.2473,55.9423,59.1341,61.7435,64.534, 67.9707,69.9376,71.9948,73.2135,73.9664 ,74.4667,74.2842,73.1168,71.108,69.0108 ,65.9099,62.0721,57.137,54.4957,50.9706 ,46.602,41.1173,35.8015,32.2771,28.1122 ,25.6562,22.8099,19.3027,14.3922, 11.2873,6.66301,6.25662,7.29077,6.06154 ,6.1683,6.12669,5.71813)
FOOTPRINT_POINT_LONGITUDE = (96.145,96.129,95.8875,90.507,86.9796, 82.4544,80.7739,81.0236,81.1963,81.2412 ,81.2026,81.1285,81.0073,80.7527, 80.4783,79.9238,79.3135,77.9609,77.1499 ,76.227,74.7251,73.3006,70.4906,67.2485 ,63.107,54.1743,40.1854,22.4168,8.31938 ,348.335,336.869,326.796,316.657, 312.602,308.474,305.826,303.31,301.139, 298.545,297.147,296.404,295.384,294.858 ,294.357,294.034,292.415,289.977, 285.601,282.487,279.398,277.85,273.261, 270.002,267.48,264.48,260.081,255.433, 252.701,251.882,251.217,249.848,248.291 ,246.807,243.803,241.072,238.237, 234.331,227.526,221.92,213.399,205.588, 197.935,185.349,175.306,161.488,150.349 ,143.155,136.056,130.248,125.335, 123.422,121.395,119.487,117.762,116.594 ,116.026,115.526,115.305,115.109,114.95 ,114.861,114.89,115.034,111.579,109.324 ,105.073,100.978,99.8107,96.145)
ORBIT_NUMBER = 16960
ORBITAL_ECCENTRICITY = 0.578
ORBITAL_INCLINATION = 86.95
ORBITAL_SEMIMAJOR_AXIS = 8781.78
PERIAPSIS_ALTITUDE = 326.77
PERIAPSIS_ARGUMENT_ANGLE = 296.03
PERIAPSIS_TIME = 2017-05-24T03:02:31.000Z
SPACECRAFT_ORIENTATION = (0.0,1.0,0.0)
^MEX_ORIENTATION_DESC = "MEX_ORIENTATION_DESC.TXT"
SPACECRAFT_POINTING_MODE = INERT
^MEX_POINTING_DESC = "MEX_POINTING_DESC.TXT"
RIGHT_ASCENSION = 136.696
DECLINATION = -38.111
OFFSET_ANGLE = -1e+32
SPACECRAFT_SOLAR_DISTANCE = 2.36334e+08
TARGET_NAME = MARS
/* CAMERA DATA ELEMENTS */
DETECTOR_TEMPERATURE = 17.351
FOCAL_PLANE_TEMPERATURE = 7.9716
INST_CMPRS_NAME = "DISCRETE COSINE TRANSFORMATION (DCT)"
INST_CMPRS_RATIO = 8.13291
INST_CMPRS_QUALITY = 0
INST_CMPRS_QUANTZ_TBL_ID = 0
INSTRUMENT_TEMPERATURE = 10.4184
LENS_TEMPERATURE = 7.9716
MACROPIXEL_SIZE = 2
MISSING_FRAMES = 0
PIXEL_SUBSAMPLING_FLAG = N
SIGNAL_CHAIN_ID = 1
/* RADIOMETRIC DATA ELEMENTS */
BANDWIDTH = 81.0
CENTER_FILTER_WAVELENGTH = 955.5
RADIANCE_OFFSET = 0.0
RADIANCE_SCALING_FACTOR = 0.00817665
REFLECTANCE_SCALING_FACTOR = 0.000985361
MEX:REFLECTANCE_OFFSET = 0.0
/* IMAGE OBJECT DEFINITIONS */
OBJECT = IMAGE
  INTERCHANGE_FORMAT = BINARY
  LINES = 15981
  LINE_SAMPLES = 7501
  SAMPLE_TYPE = UNSIGNED_INTEGER
  SAMPLE_BITS = 8
  BANDS = 1
  BAND_STORAGE_TYPE = BAND_SEQUENTIAL
  MAXIMUM = 255
  MEAN = 106.908
  MINIMUM = 1
  STANDARD_DEVIATION = 102.171
END_OBJECT = IMAGE
/* MAP OBJECT DEFINITIONS */
OBJECT = IMAGE_MAP_PROJECTION
  ^DATA_SET_MAP_PROJECTION_CATALOG= "DSMAP.CAT"
  A_AXIS_RADIUS = 3396.0
  B_AXIS_RADIUS = 3396.0
  C_AXIS_RADIUS = 3396.0
  CENTER_LATITUDE = 76.5639
  CENTER_LONGITUDE = 105.235
  COORDINATE_SYSTEM_NAME = PLANETOGRAPHIC
  COORDINATE_SYSTEM_TYPE = "BODY-FIXED ROTATING"
  EASTERNMOST_LONGITUDE = 360.0
  FIRST_STANDARD_PARALLEL = "N/A"
  LINE_FIRST_PIXEL = 1
  LINE_LAST_PIXEL = 15981
  LINE_PROJECTION_OFFSET = 8015.75
  MAP_PROJECTION_ROTATION = 0.0
  MAP_PROJECTION_TYPE = ORTHOGRAPHIC
  MAP_RESOLUTION = 148.178450966667
  MAP_SCALE = 0.4
  MAXIMUM_LATITUDE = 90.0
  MINIMUM_LATITUDE = 5.62471
  POSITIVE_LONGITUDE_DIRECTION = EAST
  REFERENCE_LATITUDE = "N/A"
  REFERENCE_LONGITUDE = "N/A"
  SAMPLE_FIRST_PIXEL = 1
  SAMPLE_LAST_PIXEL = 7501
  SAMPLE_PROJECTION_OFFSET = 3591.75
  SECOND_STANDARD_PARALLEL = "N/A"
  WESTERNMOST_LONGITUDE = 0.0
END_OBJECT = IMAGE_MAP_PROJECTION
END
