PDS_VERSION_ID = PDS3
/* FILE DATA ELEMENTS */
RECORD_TYPE = UNDEFINED
/* POINTERS TO DATA OBJECTS */
^IMAGE = ("HG960_0000_ND4.TIF")
/* IDENTIFICATION DATA ELEMENTS */
DATA_SET_ID = "MEX-M-HRSC-4-REFDR-MAPPROJECT-EXT6-V4.0"
DATA_SET_NAME = "MARS EXPRESS HRSC MAP PROJECTED REFDR EXTENSION6 V4.0"
DETECTOR_ID = MEX_HRSC_NADIR
EVENT_TYPE = "MARS-TERMINATOR-CALIBRATION-Tc"
INSTRUMENT_HOST_ID = MEX
INSTRUMENT_HOST_NAME = "MARS EXPRESS"
INSTRUMENT_ID = HRSC
INSTRUMENT_NAME = "HIGH RESOLUTION STEREO CAMERA"
MISSION_NAME = "MARS EXPRESS"
MISSION_PHASE_NAME = ME_Phase_36
PROCESSING_LEVEL_ID = 4
PRODUCT_CREATION_TIME = 2023-01-26T14:39:22.000Z
PRODUCT_ID = "HG960_0000_ND4.TIF"
RELEASE_ID = 0001
REVISION_ID = 0000
/* QUALITY DATA ELEMENTS */
DATA_QUALITY_ID = 1
DATA_QUALITY_DESC = "Data calculated based on original SPICE kernels"
/* TIME DATA ELEMENTS */
SPACECRAFT_CLOCK_START_COUNT = "1/0443680342.09057"
SPACECRAFT_CLOCK_STOP_COUNT = "1/0443680827.01208"
START_TIME = 2017-05-24T04:34:32.447Z
STOP_TIME = 2017-05-24T04:38:34.439Z
/* ORBITAL DATA ELEMENTS */
ASCENDING_NODE_LONGITUDE = 255.42
MAXIMUM_RESOLUTION = 0.2933
FOOTPRINT_POINT_LATITUDE = (4.99694,4.97149,5.21037,5.77353, 5.98481,6.60993,6.12345,8.51918,12.8422 ,16.3008,20.8507,24.579,26.9095,30.1615 ,34.2303,39.0721,43.0705,46.6845, 49.2996,52.2488,57.0023,60.2875,65.074, 67.9301,70.2593,72.6813,76.1362,77.7434 ,78.5755,78.5221,76.5789,73.7041, 71.2809,67.6243,65.3064,62.9113,59.4683 ,57.1631,54.1917,51.943,48.9034,46.6357 ,44.2899,40.4154,36.5164,33.6858, 31.5654,30.9384,31.2928,31.0374,30.8261 ,30.3427,30.7575,30.8701,30.8037, 30.7073,29.693,30.9726,33.2578,36.8692, 40.069,43.959,47.0068,51.3277,55.0816, 58.6509,60.7778,64.7206,67.5036,69.6235 ,71.8813,73.5698,74.4032,74.2671, 73.1261,71.7446,68.822,65.9186,63.6934, 59.8071,57.1902,52.7789,50.5806,47.6778 ,42.9306,37.6553,34.8715,31.3764,29.142 ,24.1502,21.2568,16.641,11.282,7.96947, 5.93675,5.2524,6.26276,5.20535,4.99694)
FOOTPRINT_POINT_LONGITUDE = (97.0981,97.0907,96.5456,91.7033, 87.9491,84.8744,80.9784,80.1893,80.5093 ,80.6897,80.833,80.8605,80.8318,80.7213 ,80.4687,79.977,79.3744,78.6364,77.9612 ,77.0219,74.9867,73.054,69.0272,65.5438 ,61.7266,56.2544,42.971,30.7969,17.3402 ,357.697,336.114,323.18,316.753,310.41, 307.583,305.279,302.736,301.399,299.995 ,299.122,298.141,297.54,297.019,296.337 ,295.837,295.579,294.511,289.266, 285.936,282.623,277.468,275.269,273.608 ,268.628,264.527,259.783,256.925, 253.104,252.736,252.035,251.27,250.089, 248.921,246.857,244.524,241.618,239.443 ,234.093,228.678,222.955,213.931, 202.203,187.426,176.117,162.144,153.7, 143.036,136.455,132.791,128.096,125.744 ,122.741,121.573,120.283,118.65,117.355 ,116.837,116.324,116.058,115.632, 115.476,115.347,115.372,115.475,113.398 ,108.979,105.489,100.249,97.0981)
ORBIT_NUMBER = 16960
ORBITAL_ECCENTRICITY = 0.578
ORBITAL_INCLINATION = 86.95
ORBITAL_SEMIMAJOR_AXIS = 8781.78
PERIAPSIS_ALTITUDE = 326.77
PERIAPSIS_ARGUMENT_ANGLE = 296.03
PERIAPSIS_TIME = 2017-05-24T03:02:31.000Z
SPACECRAFT_ORIENTATION = (0.0,1.0,0.0)
^MEX_ORIENTATION_DESC = "MEX_ORIENTATION_DESC.TXT"
SPACECRAFT_POINTING_MODE = INERT
^MEX_POINTING_DESC = "MEX_POINTING_DESC.TXT"
RIGHT_ASCENSION = 136.696
DECLINATION = -38.111
OFFSET_ANGLE = -1e+32
SPACECRAFT_SOLAR_DISTANCE = 2.36334e+08
TARGET_NAME = MARS
/* CAMERA DATA ELEMENTS */
DETECTOR_TEMPERATURE = 17.9627
FOCAL_PLANE_TEMPERATURE = 7.9716
INST_CMPRS_NAME = "DISCRETE COSINE TRANSFORMATION (DCT)"
INST_CMPRS_RATIO = 9.23144
INST_CMPRS_QUALITY = 0
INST_CMPRS_QUANTZ_TBL_ID = 0
INSTRUMENT_TEMPERATURE = 10.4184
LENS_TEMPERATURE = 7.9716
MACROPIXEL_SIZE = 1
MISSING_FRAMES = 0
PIXEL_SUBSAMPLING_FLAG = N
SIGNAL_CHAIN_ID = 0
/* RADIOMETRIC DATA ELEMENTS */
BANDWIDTH = 177.0
CENTER_FILTER_WAVELENGTH = 677.5
RADIANCE_OFFSET = 0.0
RADIANCE_SCALING_FACTOR = 0.0345755
REFLECTANCE_SCALING_FACTOR = 0.00102599
MEX:REFLECTANCE_OFFSET = 0.0
/* IMAGE OBJECT DEFINITIONS */
OBJECT = IMAGE
  INTERCHANGE_FORMAT = BINARY
  LINES = 31962
  LINE_SAMPLES = 15001
  SAMPLE_TYPE = UNSIGNED_INTEGER
  SAMPLE_BITS = 8
  BANDS = 1
  BAND_STORAGE_TYPE = BAND_SEQUENTIAL
  MAXIMUM = 255
  MEAN = 103.929
  MINIMUM = 1
  STANDARD_DEVIATION = 99.2204
END_OBJECT = IMAGE
/* MAP OBJECT DEFINITIONS */
OBJECT = IMAGE_MAP_PROJECTION
  ^DATA_SET_MAP_PROJECTION_CATALOG= "DSMAP.CAT"
  A_AXIS_RADIUS = 3396.0
  B_AXIS_RADIUS = 3396.0
  C_AXIS_RADIUS = 3396.0
  CENTER_LATITUDE = 76.5639
  CENTER_LONGITUDE = 105.235
  COORDINATE_SYSTEM_NAME = PLANETOGRAPHIC
  COORDINATE_SYSTEM_TYPE = "BODY-FIXED ROTATING"
  EASTERNMOST_LONGITUDE = 360.0
  FIRST_STANDARD_PARALLEL = "N/A"
  LINE_FIRST_PIXEL = 1
  LINE_LAST_PIXEL = 31962
  LINE_PROJECTION_OFFSET = 16032.0
  MAP_PROJECTION_ROTATION = 0.0
  MAP_PROJECTION_TYPE = ORTHOGRAPHIC
  MAP_RESOLUTION = 296.356901933333
  MAP_SCALE = 0.2
  MAXIMUM_LATITUDE = 90.0
  MINIMUM_LATITUDE = 4.97149
  POSITIVE_LONGITUDE_DIRECTION = EAST
  REFERENCE_LATITUDE = "N/A"
  REFERENCE_LONGITUDE = "N/A"
  SAMPLE_FIRST_PIXEL = 1
  SAMPLE_LAST_PIXEL = 15001
  SAMPLE_PROJECTION_OFFSET = 7184.0
  SECOND_STANDARD_PARALLEL = "N/A"
  WESTERNMOST_LONGITUDE = 0.0
END_OBJECT = IMAGE_MAP_PROJECTION
END
